BEGIN:VCALENDAR
VERSION:2.0
PRODID:-//Gorton Center - ECPv6.15.17//NONSGML v1.0//EN
CALSCALE:GREGORIAN
METHOD:PUBLISH
X-WR-CALNAME:Gorton Center
X-ORIGINAL-URL:https://gortoncenter.org
X-WR-CALDESC:Events for Gorton Center
REFRESH-INTERVAL;VALUE=DURATION:PT1H
X-Robots-Tag:noindex
X-PUBLISHED-TTL:PT1H
BEGIN:VTIMEZONE
TZID:America/Chicago
BEGIN:DAYLIGHT
TZOFFSETFROM:-0600
TZOFFSETTO:-0500
TZNAME:CDT
DTSTART:20240310T080000
END:DAYLIGHT
BEGIN:STANDARD
TZOFFSETFROM:-0500
TZOFFSETTO:-0600
TZNAME:CST
DTSTART:20241103T070000
END:STANDARD
BEGIN:DAYLIGHT
TZOFFSETFROM:-0600
TZOFFSETTO:-0500
TZNAME:CDT
DTSTART:20250309T080000
END:DAYLIGHT
BEGIN:STANDARD
TZOFFSETFROM:-0500
TZOFFSETTO:-0600
TZNAME:CST
DTSTART:20251102T070000
END:STANDARD
BEGIN:DAYLIGHT
TZOFFSETFROM:-0600
TZOFFSETTO:-0500
TZNAME:CDT
DTSTART:20260308T080000
END:DAYLIGHT
BEGIN:STANDARD
TZOFFSETFROM:-0500
TZOFFSETTO:-0600
TZNAME:CST
DTSTART:20261101T070000
END:STANDARD
END:VTIMEZONE
BEGIN:VEVENT
DTSTART;TZID=America/Chicago:20251029T120000
DTEND;TZID=America/Chicago:20251029T133000
DTSTAMP:20260420T054156
CREATED:20251015T194323Z
LAST-MODIFIED:20251029T181159Z
UID:20006738-1761739200-1761744600@gortoncenter.org
SUMMARY:ROUNDTABLE WORKSHOP: DEALING WITH FEELING (EVENT 1 OF 4)
DESCRIPTION:Space is limited to 100 attendees. REGISTRATION REQUIRED!\nIn Dealing with Feeling: Use Your Emotions to Create the Life You Want\, Marc Brackett\, Ph.D. (FAN ’19)\, offers an essential guide for regulating how we respond to our emotions to transform our lives. \nSuccess in virtually every aspect of life―career\, friendship\, love\, and family―is determined mainly by one thing: how we deal with emotions. In your most challenging moments\, how did you respond? Did you fly off the handle? Were you paralyzed by indecision? Did you engage in behaviors that undermined your best intentions? Or did you exhibit grace under pressure and flourish? How you responded likely shaped what happened next. But emotion regulation isn’t a fixed trait\, as many believe. It is a set of skills and strategies that must be learned\, practiced\, and refined over a lifetime. \nBrackett examines his own challenges dealing with emotions\, explains the latest science of emotion regulation\, and provides a set of practical\, evidence-based strategies to help us use our feelings wisely to nurture healthy relationships\, achieve ambitious goals\, and experience greater well-being. At the heart of his message is acceptance: There are no bad emotions―only emotions we don’t understand or know how to direct in positive\, intentional ways. \nBy honing our emotion regulation skills\, we can increase our chances of achieving success in all facets of our lives. Dealing with Feeling will show you how to work with your and others’ emotions―not against them―so you can become the best version of yourself and lift others up\, too. \nBrackett is the founding director of the Yale Center for Emotional Intelligence\, a professor in the Child Study Center at Yale University\, and the author of the 2019 bestselling book Permission to Feel: The Power of Emotional Intelligence to Achieve Well-Being and Success. He is the lead developer of RULER\, an evidence-based approach to social and emotional learning that has been adopted by more than five thousand schools around the globe. In 2024\, he launched the YouTube webcast Dealing with Feelings. \nThis event is suitable for youth 12+. It will not be recorded or live streamed.
URL:https://gortoncenter.org/event/roundtable-workshop-dealing-with-feeling-event-1-of-4/
LOCATION:1930 Glenview Rd.\, Glenview\, IL 60025
CATEGORIES:Events,Family Action Network
ATTACH;FMTTYPE=image/png:https://gortoncenter.org/wp-content/uploads/2025/10/Copy-of-FAN-800-x-600-website-image-58.png
END:VEVENT
END:VCALENDAR