BEGIN:VCALENDAR
VERSION:2.0
PRODID:-//Gorton Center - ECPv6.15.17//NONSGML v1.0//EN
CALSCALE:GREGORIAN
METHOD:PUBLISH
X-ORIGINAL-URL:https://gortoncenter.org
X-WR-CALDESC:Events for Gorton Center
REFRESH-INTERVAL;VALUE=DURATION:PT1H
X-Robots-Tag:noindex
X-PUBLISHED-TTL:PT1H
BEGIN:VTIMEZONE
TZID:America/Chicago
BEGIN:DAYLIGHT
TZOFFSETFROM:-0600
TZOFFSETTO:-0500
TZNAME:CDT
DTSTART:20250309T080000
END:DAYLIGHT
BEGIN:STANDARD
TZOFFSETFROM:-0500
TZOFFSETTO:-0600
TZNAME:CST
DTSTART:20251102T070000
END:STANDARD
BEGIN:DAYLIGHT
TZOFFSETFROM:-0600
TZOFFSETTO:-0500
TZNAME:CDT
DTSTART:20260308T080000
END:DAYLIGHT
BEGIN:STANDARD
TZOFFSETFROM:-0500
TZOFFSETTO:-0600
TZNAME:CST
DTSTART:20261101T070000
END:STANDARD
BEGIN:DAYLIGHT
TZOFFSETFROM:-0600
TZOFFSETTO:-0500
TZNAME:CDT
DTSTART:20270314T080000
END:DAYLIGHT
BEGIN:STANDARD
TZOFFSETFROM:-0500
TZOFFSETTO:-0600
TZNAME:CST
DTSTART:20271107T070000
END:STANDARD
END:VTIMEZONE
BEGIN:VEVENT
DTSTART;TZID=America/Chicago:20260517T150000
DTEND;TZID=America/Chicago:20260517T163000
DTSTAMP:20260422T170112
CREATED:20260414T184226Z
LAST-MODIFIED:20260414T184226Z
UID:20007199-1779030000-1779035400@gortoncenter.org
SUMMARY:Elio
DESCRIPTION:Elio is a heartwarming Disney and Pixar adventure about finding where you belong in a vast and unexpected universe. \nWe meet Elio\, an imaginative and introverted kid who struggles to fit in on Earth. However\, everything changes when he’s suddenly transported across the galaxy. There\, he’s mistaken for Earth’s ambassador to an interplanetary council. \nAs a result\, Elio is thrust into a world of colorful alien civilizations\, high-stakes diplomacy\, and surprising friendships. Along the way\, he must learn to communicate\, connect\, and believe in himself. \nAt the same time\, the film blends humor\, emotion\, and stunning animation. It explores identity\, courage\, and the power of being unapologetically yourself. \nPerfect for families and animation fans alike\, Elio is a cosmic coming-of-age story about discovering your voice—and your place in the universe.
URL:https://gortoncenter.org/event/elio/
LOCATION:Gorton Center\, 400 East Illinois Road\, Lake Forest\, IL\, 60045
CATEGORIES:Family,Film
ATTACH;FMTTYPE=image/png:https://gortoncenter.org/wp-content/uploads/2026/04/Elio.png
GEO:42.2506703;-87.8374004
X-APPLE-STRUCTURED-LOCATION;VALUE=URI;X-ADDRESS=Gorton Center 400 East Illinois Road Lake Forest IL 60045;X-APPLE-RADIUS=500;X-TITLE=400 East Illinois Road:geo:-87.8374004,42.2506703
END:VEVENT
BEGIN:VEVENT
DTSTART;TZID=America/Chicago:20260519T190000
DTEND;TZID=America/Chicago:20260519T203000
DTSTAMP:20260422T170112
CREATED:20260408T165317Z
LAST-MODIFIED:20260408T165317Z
UID:20007174-1779217200-1779222600@gortoncenter.org
SUMMARY:Judgement of Paris: 50th Anniversary Wine Tasting
DESCRIPTION:A historic tasting that changed the world of wine.  \nStep into one of the most iconic moments in wine history with a guided tasting inspired by the Judgment of Paris\, now celebrating its 50th anniversary. This landmark blind tasting forever reshaped the global wine landscape\, placing California wines alongside and even above France’s most esteemed producers. \nThis commemorative experience features a curated selection of French and California wines\, highlighting the styles and varietals that defined the original competition. Through guided tasting and storytelling\, guests will explore the history\, rivalry\, and lasting impact of this pivotal event. \nCompare Old World elegance with New World expression as you discover how terroir\, technique\, and time influence each glass. The tasting will include tasting materials and small bites to enjoy alongside the wines. Wines presented and provided by Oakwood Vines\, Lake Forest\, IL.
URL:https://gortoncenter.org/event/judgement-of-paris-50th-anniversary-wine-tasting/
LOCATION:Gorton Center\, 400 East Illinois Road\, Lake Forest\, IL\, 60045
CATEGORIES:Adults,Classes,Cooking
ATTACH;FMTTYPE=image/png:https://gortoncenter.org/wp-content/uploads/2026/04/800-x-500-website-images-7.png
GEO:42.2506703;-87.8374004
X-APPLE-STRUCTURED-LOCATION;VALUE=URI;X-ADDRESS=Gorton Center 400 East Illinois Road Lake Forest IL 60045;X-APPLE-RADIUS=500;X-TITLE=400 East Illinois Road:geo:-87.8374004,42.2506703
END:VEVENT
BEGIN:VEVENT
DTSTART;TZID=America/Chicago:20260522T100000
DTEND;TZID=America/Chicago:20260522T120000
DTSTAMP:20260422T170112
CREATED:20260409T193102Z
LAST-MODIFIED:20260409T193102Z
UID:20007185-1779444000-1779451200@gortoncenter.org
SUMMARY:Open Play Mahjong
DESCRIPTION:Please plan to arrive early\, play starts promptly at 10am!\nCalling all Mahjong enthusiasts. Join us for Open Play Mahjong\, a relaxed and social way to enjoy the game you love. These sessions are for intermediate to advanced players who already know the rules. No instruction is offered. \nBring your strategy and a little friendly competition. Connect with other experienced players. Open Play is a great way to practice\, stay sharp\, and enjoy the challenge of Mahjong. \nWe provide all Mahjong sets. Please bring your own Mahjong card. \nPre-registration is required. Drop-ins can’t be accommodated\, so be sure to register early to save your spot. \nWe look forward to seeing you at the table.
URL:https://gortoncenter.org/event/open-play-mahjong-may-22/
LOCATION:Gorton Center\, 400 East Illinois Road\, Lake Forest\, IL\, 60045
CATEGORIES:Adults,Classes,Games
ATTACH;FMTTYPE=image/jpeg:https://gortoncenter.org/wp-content/uploads/2025/09/Mahjong-USE.jpg
GEO:42.2506703;-87.8374004
X-APPLE-STRUCTURED-LOCATION;VALUE=URI;X-ADDRESS=Gorton Center 400 East Illinois Road Lake Forest IL 60045;X-APPLE-RADIUS=500;X-TITLE=400 East Illinois Road:geo:-87.8374004,42.2506703
END:VEVENT
BEGIN:VEVENT
DTSTART;TZID=America/Chicago:20260522T190000
DTEND;TZID=America/Chicago:20260522T203000
DTSTAMP:20260422T170112
CREATED:20260129T162830Z
LAST-MODIFIED:20260311T164126Z
UID:20007011-1779476400-1779481800@gortoncenter.org
SUMMARY:Line It Up Line Dancing
DESCRIPTION:Grab Your Boots and Get Ready to Line Dance!\nKick the dust off those boots. Pop on that cowboy hat. Slide into your favorite jeans. It’s time for line dancing! \nNever tried it before? Perfect. Want to brush up on your moves? Even better. This class is built for beginners – and for anyone who just wants to have fun. \nWe’ll start slow. Easy steps. Clear breakdowns. No pressure\, no partner\, no problem. Just laughs\, music\, and movement. \nThen\, the real fun begins. We’ll groove through country classics. We’ll jam to high-energy pop hits. These are the dances you’ll see at weddings\, parties\, and dance halls all over. And now\, you’ll know them too. \nCome solo. Come with friends. Either way\, you’ll walk out smiling\, sweaty\, and ready to show off your new moves. \nSo grab your boots\, grab your crew\, and let’s do some line dancing! \nLesley has been dancing her whole life. She’s been classically trained in Ballet and Jazz. She’s been teaching dance for 40 years. She currently works at Lake Forest Health and Fitness and Life Time Fitness in Vernon Hills. Her super power is making everyone feel successful.  \n \nCan’t make this date? Check out our Line it Up Dancing class on Friday June 19!
URL:https://gortoncenter.org/event/line-it-up-line-dancing-may-22/
LOCATION:Gorton Center\, 400 East Illinois Road\, Lake Forest\, IL\, 60045
CATEGORIES:Adults,Classes,Music,Wellness
ATTACH;FMTTYPE=image/png:https://gortoncenter.org/wp-content/uploads/2025/07/Line-Dancing-2.png
GEO:42.2506703;-87.8374004
X-APPLE-STRUCTURED-LOCATION;VALUE=URI;X-ADDRESS=Gorton Center 400 East Illinois Road Lake Forest IL 60045;X-APPLE-RADIUS=500;X-TITLE=400 East Illinois Road:geo:-87.8374004,42.2506703
END:VEVENT
BEGIN:VEVENT
DTSTART;TZID=America/Chicago:20260522T190000
DTEND;TZID=America/Chicago:20260522T210000
DTSTAMP:20260422T170112
CREATED:20260414T192239Z
LAST-MODIFIED:20260414T192239Z
UID:20007200-1779476400-1779483600@gortoncenter.org
SUMMARY:Casablanca
DESCRIPTION:Casablanca is a timeless story of love\, sacrifice\, and doing what’s right when it matters most. \nWe meet Rick Blaine\, a guarded nightclub owner in the bustling city of Casablanca during World War II. He keeps to himself. He avoids politics. And he believes sticking his neck out for no one is the safest choice. \nThen everything changes. \nIlsa Lund walks into his club. With her comes a past Rick thought he’d buried. Their connection is immediate. Complicated. And impossible to ignore. \nAt the same time\, danger surrounds them. Refugees seek escape. Authorities close in. And choices carry real consequences. \nAs tensions rise\, Rick is forced to confront who he is—and who he wants to be. He must choose between love and something greater. \nAlong the way\, the film blends romance\, suspense\, and unforgettable dialogue. It captures the weight of sacrifice and the quiet courage of standing up for others. \nUltimately\, Casablanca reminds us that even in uncertain times\, our choices define us—and love\, in all its forms\, endures.
URL:https://gortoncenter.org/event/casablanca-2/
LOCATION:Gorton Center\, 400 East Illinois Road\, Lake Forest\, IL\, 60045
CATEGORIES:Classics,Film
ATTACH;FMTTYPE=image/png:https://gortoncenter.org/wp-content/uploads/2026/04/Casablanca.png
GEO:42.2506703;-87.8374004
X-APPLE-STRUCTURED-LOCATION;VALUE=URI;X-ADDRESS=Gorton Center 400 East Illinois Road Lake Forest IL 60045;X-APPLE-RADIUS=500;X-TITLE=400 East Illinois Road:geo:-87.8374004,42.2506703
END:VEVENT
END:VCALENDAR