BEGIN:VCALENDAR
VERSION:2.0
PRODID:-//Gorton Center - ECPv6.15.17//NONSGML v1.0//EN
CALSCALE:GREGORIAN
METHOD:PUBLISH
X-WR-CALNAME:Gorton Center
X-ORIGINAL-URL:https://gortoncenter.org
X-WR-CALDESC:Events for Gorton Center
REFRESH-INTERVAL;VALUE=DURATION:PT1H
X-Robots-Tag:noindex
X-PUBLISHED-TTL:PT1H
BEGIN:VTIMEZONE
TZID:America/Chicago
BEGIN:DAYLIGHT
TZOFFSETFROM:-0600
TZOFFSETTO:-0500
TZNAME:CDT
DTSTART:20250309T080000
END:DAYLIGHT
BEGIN:STANDARD
TZOFFSETFROM:-0500
TZOFFSETTO:-0600
TZNAME:CST
DTSTART:20251102T070000
END:STANDARD
BEGIN:DAYLIGHT
TZOFFSETFROM:-0600
TZOFFSETTO:-0500
TZNAME:CDT
DTSTART:20260308T080000
END:DAYLIGHT
BEGIN:STANDARD
TZOFFSETFROM:-0500
TZOFFSETTO:-0600
TZNAME:CST
DTSTART:20261101T070000
END:STANDARD
BEGIN:DAYLIGHT
TZOFFSETFROM:-0600
TZOFFSETTO:-0500
TZNAME:CDT
DTSTART:20270314T080000
END:DAYLIGHT
BEGIN:STANDARD
TZOFFSETFROM:-0500
TZOFFSETTO:-0600
TZNAME:CST
DTSTART:20271107T070000
END:STANDARD
END:VTIMEZONE
BEGIN:VEVENT
DTSTART;TZID=America/Chicago:20260504T100000
DTEND;TZID=America/Chicago:20260504T150000
DTSTAMP:20260424T072715
CREATED:20260320T162338Z
LAST-MODIFIED:20260320T162420Z
UID:20007121-1777888800-1777906800@gortoncenter.org
SUMMARY:Red Cross Blood Drive
DESCRIPTION:Give the Gift of Life at Gorton’s Monthly Blood Drive\nJoin us at the Gorton Center for our monthly blood drive\, proudly hosted in partnership with the American Red Cross. Your donation can help save lives – and it only takes a little of your time to make a big difference. \n How to Participate\nPre-registration is required and takes just a few minutes. Click the link below to reserve your spot – walk-ins cannot be accommodated. \nBefore You Donate\n\nEat a healthy meal.\nDrink an extra 16 oz. of water and fluids beforehand.\nBring a photo ID\, your blood donor card\, or two other forms of identification.\n\nSave Time with RapidPass\nYou can speed up your visit by completing a RapidPass on the day of your donation. This allows you to complete the pre-donation reading and health history ahead of time. \nVisit redcrossblood.org/RapidPass for details. \nWe’re so grateful for your generosity. Thank you for supporting the Gorton community and helping the American Red Cross save lives through the power of blood donation.
URL:https://gortoncenter.org/event/red-cross-blood-drive-19/
LOCATION:Gorton Center\, 400 East Illinois Road\, Lake Forest\, IL\, 60045
CATEGORIES:Community,Events
ATTACH;FMTTYPE=image/png:https://gortoncenter.org/wp-content/uploads/2025/01/Red-Cross-Blood-Drive.png
GEO:42.2506703;-87.8374004
X-APPLE-STRUCTURED-LOCATION;VALUE=URI;X-ADDRESS=Gorton Center 400 East Illinois Road Lake Forest IL 60045;X-APPLE-RADIUS=500;X-TITLE=400 East Illinois Road:geo:-87.8374004,42.2506703
END:VEVENT
BEGIN:VEVENT
DTSTART;TZID=America/Chicago:20260505T090000
DTEND;TZID=America/Chicago:20260505T100000
DTSTAMP:20260424T072715
CREATED:20260224T200538Z
LAST-MODIFIED:20260224T201508Z
UID:20007066-1777971600-1777975200@gortoncenter.org
SUMMARY:Yoga with Areta
DESCRIPTION:Yoga With Areta \nJoin Areta for a traditional Vinyasa Flow yoga class. This one-hour\, bi-weekly practice blends poses\, breathwork\, and meditation. Each session helps release tension\, restore balance\, and strengthen the body. At the same time\, you’ll open and lengthen your muscles. \nWhether you’re new to yoga or have years of experience\, this mindful flow will leave you feeling refreshed and energized. Just bring a mat and a water bottle\, and you’re ready to go. \nVinyasa Flow is a dynamic style of yoga. It links breath with movement as you move smoothly from pose to pose. This practice combines ancient traditions with a modern\, fluid rhythm. Its creative sequences encourage you to explore your body\, breath\, and mind in harmony. \nYoga offers powerful benefits. Physically\, it supports heart health\, flexibility\, and strength. Mentally\, it reduces stress and tension. Emotionally\, it boosts energy and leaves you feeling grounded and revitalized. \nAreta has been teaching yoga in Lake Forest and in yoga studios along the North Shore for 10 years and is E-RYT 500 Certified. Areta’s passion is bringing yoga to EVERY BODY\, and has additional certifications in Meditation\, Adaptive Yoga for Disabilities\, Senior Yoga\, Love Your Brain for traumatic brain injury\, Yoga for Eating Disorder Recovery\, Yin Yoga\, and Yoga for 12 Step Recovery. Areta teaches yoga to inspire and empower physical well-being\, spiritual balance and awakening for everyday life. She is a long-time resident of Lake Forest and a disability advocate and volunteer yoga coach for the Great Lakes Adaptive Sports Association (GLASA).
URL:https://gortoncenter.org/event/yoga-areta-may-5/
LOCATION:Gorton Center\, 400 East Illinois Road\, Lake Forest\, IL\, 60045
CATEGORIES:Adults,Classes,Wellness
ATTACH;FMTTYPE=image/png:https://gortoncenter.org/wp-content/uploads/2026/02/800-x-500-website-images-2.png
GEO:42.2506703;-87.8374004
X-APPLE-STRUCTURED-LOCATION;VALUE=URI;X-ADDRESS=Gorton Center 400 East Illinois Road Lake Forest IL 60045;X-APPLE-RADIUS=500;X-TITLE=400 East Illinois Road:geo:-87.8374004,42.2506703
END:VEVENT
BEGIN:VEVENT
DTSTART;TZID=America/Chicago:20260507T190000
DTEND;TZID=America/Chicago:20260507T210000
DTSTAMP:20260424T072715
CREATED:20260414T184445Z
LAST-MODIFIED:20260419T152929Z
UID:20007198-1778180400-1778187600@gortoncenter.org
SUMMARY:Hamnet
DESCRIPTION:Join us for a screening of The 2026 Oscar Nominee for Best Picture and Director\nHamnet is a deeply moving story about love\, family\, and loss. It draws us into a quiet world. Then it slowly reveals something profound. \nWe follow Agnes and William Shakespeare as they build a life together. Their days feel ordinary at first. A home. Children. Work. However\, beneath it all\, there’s tension between ambition and belonging. \nThen everything changes. \nWhen their young son\, Hamnet\, dies\, their world fractures. Grief enters. It lingers. And it reshapes everything they thought they knew. \nAt the same time\, the film stays intimate. It focuses on small moments. A glance. A memory. A silence. Because of this\, the story feels deeply human and immediate. \nAs the family navigates loss\, we begin to see transformation. William turns inward. Then outward. Eventually\, his grief finds expression through his work. Art becomes a way forward. \nMeanwhile\, Agnes remains at the emotional center. She holds memory. She carries love. And she shows us what it means to endure. \nUltimately\, Hamnet is not just about tragedy. Instead\, it’s about connection. It’s about how love persists. And how creativity can grow from even the deepest sorrow. \nWe are especially grateful to the Sheffield Foundation for sponsoring this screening.
URL:https://gortoncenter.org/event/hamnet/
LOCATION:Gorton Center\, 400 East Illinois Road\, Lake Forest\, IL\, 60045
CATEGORIES:Classics,Film
ATTACH;FMTTYPE=image/png:https://gortoncenter.org/wp-content/uploads/2026/04/Hamnet.png
GEO:42.2506703;-87.8374004
X-APPLE-STRUCTURED-LOCATION;VALUE=URI;X-ADDRESS=Gorton Center 400 East Illinois Road Lake Forest IL 60045;X-APPLE-RADIUS=500;X-TITLE=400 East Illinois Road:geo:-87.8374004,42.2506703
END:VEVENT
BEGIN:VEVENT
DTSTART;TZID=America/Chicago:20260508T100000
DTEND;TZID=America/Chicago:20260508T120000
DTSTAMP:20260424T072715
CREATED:20260409T192711Z
LAST-MODIFIED:20260413T194036Z
UID:20007183-1778234400-1778241600@gortoncenter.org
SUMMARY:Open Play Mahjong
DESCRIPTION:Please plan to arrive early\, play starts promptly at 10am!\nCalling all Mahjong enthusiasts. Join us for Open Play Mahjong\, a relaxed and social way to enjoy the game you love. These sessions are for intermediate to advanced players who already know the rules. No instruction is offered. \nBring your strategy and a little friendly competition. Connect with other experienced players. Open Play is a great way to practice\, stay sharp\, and enjoy the challenge of Mahjong. \nWe provide all Mahjong sets. Please bring your own Mahjong card. \nPre-registration is required. Drop-ins can’t be accommodated\, so be sure to register early to save your spot. \nWe look forward to seeing you at the table.
URL:https://gortoncenter.org/event/open-play-mahjong-may-8/
LOCATION:Gorton Center\, 400 East Illinois Road\, Lake Forest\, IL\, 60045
CATEGORIES:Adults,Classes,Games
ATTACH;FMTTYPE=image/jpeg:https://gortoncenter.org/wp-content/uploads/2025/09/Mahjong-USE.jpg
GEO:42.2506703;-87.8374004
X-APPLE-STRUCTURED-LOCATION;VALUE=URI;X-ADDRESS=Gorton Center 400 East Illinois Road Lake Forest IL 60045;X-APPLE-RADIUS=500;X-TITLE=400 East Illinois Road:geo:-87.8374004,42.2506703
END:VEVENT
BEGIN:VEVENT
DTSTART;TZID=America/Chicago:20260509T103000
DTEND;TZID=America/Chicago:20260509T113000
DTSTAMP:20260424T072715
CREATED:20260323T164636Z
LAST-MODIFIED:20260330T194437Z
UID:20007130-1778322600-1778326200@gortoncenter.org
SUMMARY:Mom & Me Cookie Decorating Class
DESCRIPTION:A Sweet Mother’s Day Activity\nCelebrate Mother’s Day with a mom and me cookie decorating class designed for connection\, creativity and a little sweetness along the way. We invite moms and kids to slow down\, get hands-on and make something meaningful together. You’ll laugh\, learn and leave with memories that last longer than the cookies. \nIn this beginner-friendly mom and me cookie decorating class\, we guide you every step of the way. First\, we introduce simple techniques that build confidence fast. Then\, you’ll decorate four spring-inspired cookies\, including a charming flower in a pastel pot. Along the way\, we share tips\, tricks and encouragement so everyone feels successful. As a result\, you’ll head home with beautifully decorated treats that are perfect to gift or enjoy together. \nThis mom and me cookie decorating class is designed for all skill levels. Whether you’re trying something new or just looking for a fun outing\, you’ll feel comfortable and supported. We keep things relaxed\, welcoming and easy to follow so you can focus on spending time together. \nEach ticket includes everything you need for a seamless experience. You’ll receive: \n\nAdmission for one adult and one child\nFour themed cookies\nPre-colored royal icing and all decorating tools and supplies\nGuided instruction throughout the class\nA take-home box to safely transport your creations\n\nWant to bring another child? Simply add an extra child ticket at checkout. \nJoin us for a creative way to celebrate Mother’s Day. Make something sweet. Share the moment. You belong here. \nElizabeth Lindberg— Lindy City Bakes- Beth Lindberg is the owner and creative heart behind Lindy City Bakes\, a whimsical\, sugar-inspired business that brings joy and artistry to the community through in-home cookie decorating parties and custom cookie bouquets. With a passion for creativity and connection\, Beth transforms cookies into edible works of art\, guiding people of all ages to decorate\, laugh\, and make memories together.
URL:https://gortoncenter.org/event/mom-me-cookie-decorating/
LOCATION:Gorton Center\, 400 East Illinois Road\, Lake Forest\, IL\, 60045
CATEGORIES:Classes,Cooking,Youth
ATTACH;FMTTYPE=image/png:https://gortoncenter.org/wp-content/uploads/2026/03/Mom-and-Me-Cookie-Decorating.png
GEO:42.2506703;-87.8374004
X-APPLE-STRUCTURED-LOCATION;VALUE=URI;X-ADDRESS=Gorton Center 400 East Illinois Road Lake Forest IL 60045;X-APPLE-RADIUS=500;X-TITLE=400 East Illinois Road:geo:-87.8374004,42.2506703
END:VEVENT
BEGIN:VEVENT
DTSTART;TZID=America/Chicago:20260509T150000
DTEND;TZID=America/Chicago:20260509T163000
DTSTAMP:20260424T072715
CREATED:20260403T165140Z
LAST-MODIFIED:20260410T154939Z
UID:20007167-1778338800-1778344200@gortoncenter.org
SUMMARY:Mother's Day Sips: Petite Wine Tasting
DESCRIPTION:A Mother’s Day Wine Tasting\nCelebrate Mother’s Day with light\, joyful pours at a delightful afternoon tasting designed to sip\, savor\, and enjoy. This petite tasting experience features a curated flight of sparkling wines\, a refreshing rosé\, a crisp white\, and a light red\, perfect for a bright and joyful celebration. Guests will enjoy a guided tasting highlighting expressive\, easy-drinking wines ideal for spring and early summer. Whether you’re toasting with family or gathering with friends\, this experience offers a relaxed yet elevated way to celebrate the occasion. The tasting will include tasting materials\, along with a selection of petite bites and sweet treats to complement the wines. Wines presented and provided by Oakwood Vines\, Lake Forest\, IL.
URL:https://gortoncenter.org/event/mothers-day-sips-petite-wine-tasting/
LOCATION:Gorton Center\, 400 East Illinois Road\, Lake Forest\, IL\, 60045
CATEGORIES:Adults,Classes,Cooking
ATTACH;FMTTYPE=image/png:https://gortoncenter.org/wp-content/uploads/2024/12/Spring-Flowers-and-Wine.png
GEO:42.2506703;-87.8374004
X-APPLE-STRUCTURED-LOCATION;VALUE=URI;X-ADDRESS=Gorton Center 400 East Illinois Road Lake Forest IL 60045;X-APPLE-RADIUS=500;X-TITLE=400 East Illinois Road:geo:-87.8374004,42.2506703
END:VEVENT
END:VCALENDAR