BEGIN:VCALENDAR
VERSION:2.0
PRODID:-//Gorton Center - ECPv6.15.17//NONSGML v1.0//EN
CALSCALE:GREGORIAN
METHOD:PUBLISH
X-ORIGINAL-URL:https://gortoncenter.org
X-WR-CALDESC:Events for Gorton Center
REFRESH-INTERVAL;VALUE=DURATION:PT1H
X-Robots-Tag:noindex
X-PUBLISHED-TTL:PT1H
BEGIN:VTIMEZONE
TZID:America/Chicago
BEGIN:DAYLIGHT
TZOFFSETFROM:-0600
TZOFFSETTO:-0500
TZNAME:CDT
DTSTART:20250309T080000
END:DAYLIGHT
BEGIN:STANDARD
TZOFFSETFROM:-0500
TZOFFSETTO:-0600
TZNAME:CST
DTSTART:20251102T070000
END:STANDARD
BEGIN:DAYLIGHT
TZOFFSETFROM:-0600
TZOFFSETTO:-0500
TZNAME:CDT
DTSTART:20260308T080000
END:DAYLIGHT
BEGIN:STANDARD
TZOFFSETFROM:-0500
TZOFFSETTO:-0600
TZNAME:CST
DTSTART:20261101T070000
END:STANDARD
BEGIN:DAYLIGHT
TZOFFSETFROM:-0600
TZOFFSETTO:-0500
TZNAME:CDT
DTSTART:20270314T080000
END:DAYLIGHT
BEGIN:STANDARD
TZOFFSETFROM:-0500
TZOFFSETTO:-0600
TZNAME:CST
DTSTART:20271107T070000
END:STANDARD
END:VTIMEZONE
BEGIN:VEVENT
DTSTART;TZID=America/Chicago:20260119T090000
DTEND;TZID=America/Chicago:20260119T150000
DTSTAMP:20260423T072224
CREATED:20251010T182918Z
LAST-MODIFIED:20251010T195203Z
UID:20006732-1768813200-1768834800@gortoncenter.org
SUMMARY:Dream Big: Stories of Change and Courage
DESCRIPTION:Dream Big: Stories of Change and Courage\nCelebrate Martin Luther King Jr. Day with a day of creativity and inspiration! In this mini camp\, students explore themes of courage\, kindness\, and imagination through acting\, singing\, and improv. They’ll create original scenes and songs inspired by heroes—real and imagined—who make the world a better place. Guided by professional teaching artists\, kids collaborate to tell stories of hope\, fairness\, and following your dreams. The day ends with a relaxed sharing of their work\, filled with energy\, heart\, and inspiration. \n\nMonday\, January 19\, 2026\nNo School – Martin Luther King\, Jr.’s Day\n9:00 am to 3:00 pm\nAges 8 to 14\n$110\n\nInstructor: Jeremy Kruse\n \nJeremy Kruse\, acting teacher/director/Artistic Director of Gorton Drama Studio\, is the author of “The Young Actor’s Handbook” (Applause Acting Series\, 2017). Jeremy is a professional actor\, published playwright\, award-winning screenwriter\, and award-winning filmmaker. Some of the classes he taught at The Lee Strasberg Theatre and Film Institute in New York include Method Acting\, Comedic Improvisation\, Sketch Comedy Writing\, and Acting for Film and TV. He graduated from The Strasberg Institute at New York University’s Tisch School of the Arts where he majored in drama. Jeremy also teaches privately\, one on one. www.jeremykruse.com and www.jeremykruseactingtraining.com  \n  \n 
URL:https://gortoncenter.org/event/dream-big-stories-of-change-and-courage/
LOCATION:Gorton Center\, 400 East Illinois Road\, Lake Forest\, IL\, 60045
CATEGORIES:Age,Camps,Classes,Gorton Drama Studio,Youth
ATTACH;FMTTYPE=image/jpeg:https://gortoncenter.org/wp-content/uploads/2025/10/Gorton-Peter-Pan-Now-2025-04.jpg
GEO:42.2506703;-87.8374004
X-APPLE-STRUCTURED-LOCATION;VALUE=URI;X-ADDRESS=Gorton Center 400 East Illinois Road Lake Forest IL 60045;X-APPLE-RADIUS=500;X-TITLE=400 East Illinois Road:geo:-87.8374004,42.2506703
END:VEVENT
BEGIN:VEVENT
DTSTART;TZID=America/Chicago:20260119T090000
DTEND;TZID=America/Chicago:20260119T150000
DTSTAMP:20260423T072224
CREATED:20251221T162455Z
LAST-MODIFIED:20251221T162756Z
UID:20006877-1768813200-1768834800@gortoncenter.org
SUMMARY:"Mr. V.'s Day Off" - Martin Luther King Day
DESCRIPTION:“Mr. V.’s Day Off” – Martin Luther King Day \nKids ages 4-11:  Join award-winning music educator Bill Vaananen for an exciting and inspirational morning and afternoon celebrating human rights and the legacy of Dr. King\, along with other activities including performing our own version of the Opening Ceremonies of the Winter Olympics!  There will be other favorite Mr V. songs and stories along with some new surprises.  Sign up for full day or half day.\n\nOption #1:  1/2 day – 9am-noon $55\nOption #2:  1/2 day  – noon-3 pm $55\nOption #3:  Full day – 9am-3pm  $110  \n\nMonday\, January 19th\n9am-3pm\nAges 4-11\n\n \nBill Vaananen is an award-winning music educator and composer who has taught and directed elementary-aged students for over 45 years. Originally from Oklahoma\, “Mr. V.” was general music teacher at Wescott School in Northbrook for 37 years. He has written hundreds of songs and dozens of original theater works that have been performed across Chicago’s northern suburbs. Recipient of the Golden Apple Award\, IEA Human Rights Award\, National-Louis Distinguished Alumni Award for Social Justice\, and Star of Teaching Award for the State of Illinois\, Vaananen continues to perform classes and presentations for children\, weaving his original music into inspiring lessons on Nature\, history\, culture\, and adventure. \n  \n \nAbout Our Artistic Director: Jeremy Kruse\, Artistic Director of Gorton Drama Studio is the author of “The Young Actor’s Handbook” (Applause Acting Series\, 2017).The book was published in Korean and Chinese in 2022. Jeremy is a professional actor\, published playwright\, award-winning screenwriter\, and award-winning filmmaker. Some of the classes he taught at The Lee Strasberg Theatre and Film Institute in New York include Method Acting\, Comedic Improvisation\, Sketch Comedy Writing\, and Acting for Film and TV. He graduated from The Strasberg Institute at New York University’s Tisch School of the Arts where he majored in drama. Jeremy also teaches privately\, one on one  www.jeremykruse.com and www.jeremykruseactingtraining.com 
URL:https://gortoncenter.org/event/mr-v-s-day-off-martin-luther-king-day/
LOCATION:Gorton Center\, 400 East Illinois Road\, Lake Forest\, IL\, 60045
CATEGORIES:Age,Camps,Classes,Gorton Drama Studio,Youth
ATTACH;FMTTYPE=image/jpeg:https://gortoncenter.org/wp-content/uploads/2025/12/MLK-Day-2026-no-text.jpg
GEO:42.2506703;-87.8374004
X-APPLE-STRUCTURED-LOCATION;VALUE=URI;X-ADDRESS=Gorton Center 400 East Illinois Road Lake Forest IL 60045;X-APPLE-RADIUS=500;X-TITLE=400 East Illinois Road:geo:-87.8374004,42.2506703
END:VEVENT
BEGIN:VEVENT
DTSTART;TZID=America/Chicago:20260120T180000
DTEND;TZID=America/Chicago:20260120T193000
DTSTAMP:20260423T072224
CREATED:20251016T171835Z
LAST-MODIFIED:20260119T163324Z
UID:20006739-1768932000-1768937400@gortoncenter.org
SUMMARY:Approaches to End of Life Care and Grief Seminar
DESCRIPTION:THIS SESSION HAS BEEN CANCELLED AND WILL BE RESCHEDULED. \nDiscussing Death\nDying Well sparks honest\, engaging conversations about death and dying. This seminar allows participants to examine how society talks about – and often avoids – the end of life. Other topics include gaps in our care systems and the definition and use of palliative and hospice care. \nYou will learn to navigate death as a unique\, personal process while acquiring tools to make meaningful end-of-life decisions. \nDying Well welcomes anyone ready to face mortality with clarity and courage. This includes those living with serious illness\, loved ones supporting someone at the end of life\, and anyone preparing their own care with intention. \nKey Questions We Will Explore\n\nHow can we navigate the death of a loved one with understanding and compassion? And how can we manage the emotions that follow?\nIn turn\, how might we envision and honor our own dying process?\nFurthermore\, what does a “good death” mean? How can we shape it to reflect our values?\nFinally\, how can we uphold what matters most – personally and culturally – as someone nears the end of life?\n\nThis seminar is not a therapy session. Instead\, it is a candid\, interactive discussion. We will examine the physical and emotional processes of dying. By creating a space for open exploration\, participants will leave feeling empowered. They will approach end-of-life decisions with greater clarity\, confidence\, and compassion. \n \nLara N. Dotson-Renta\, PhD is a longtime writer\, educator and scholar of languages (Spanish and French). She is also a 500hr RYT yoga instructor with trauma informed yoga training through The Veteran’s Yoga Project and children’s yoga training from Full of Joy Yoga in CT. She is also a trained death doula through INELDA (The International End of Life Doula Association). She is interested in helping others live life more fully and intentionally. \nShe resides in Lake Bluff with her family.
URL:https://gortoncenter.org/event/dying-well/
LOCATION:Gorton Center\, 400 East Illinois Road\, Lake Forest\, IL\, 60045
CATEGORIES:Adults,Classes,Specialty,Wellness
ATTACH;FMTTYPE=image/png:https://gortoncenter.org/wp-content/uploads/2026/01/Grief.png
GEO:42.2506703;-87.8374004
X-APPLE-STRUCTURED-LOCATION;VALUE=URI;X-ADDRESS=Gorton Center 400 East Illinois Road Lake Forest IL 60045;X-APPLE-RADIUS=500;X-TITLE=400 East Illinois Road:geo:-87.8374004,42.2506703
END:VEVENT
BEGIN:VEVENT
DTSTART;TZID=America/Chicago:20260120T183000
DTEND;TZID=America/Chicago:20260120T203000
DTSTAMP:20260423T072224
CREATED:20251230T174339Z
LAST-MODIFIED:20251230T174339Z
UID:20006886-1768933800-1768941000@gortoncenter.org
SUMMARY:Mahjong 101 with Windy City Mahjong
DESCRIPTION:Mahjong Workshop for Beginners\nStart from scratch with us. This class is for anyone new to American Mahjong. We begin with the tiles. You’ll see how each one works and why it matters. \nNext\, we dive into the NMJL Card. You’ll learn how hands form and how scoring works. Then we practice dealing. We take it step by step so everyone feels confident setting up a game. \nWe also teach The Charleston. It’s the quick\, strategic tile-exchange that makes the game even more fun. \nTo finish\, we play a full game. You’ll use your new skills right away in a friendly\, supportive setting. It’s the perfect way to start your Mahjong journey. \nCaroline Larew:  Caroline Larew is an American Mahjong instructor in the northern suburbs of Chicago and the founder of  Windy City Mahjong. Drawn to the game for its blend of strategy and camaraderie\, she loves how it offers both a mental challenge and a reason to spend time with friends. \nCaroline brings a strong professional foundation to Windy City Mahjong\, shaped by years in finance and investing. After earning her MBA from the Stanford Graduate School of Business\, she built a career in private equity before an unexpected breast cancer diagnosis led her to rethink her priorities. Now healthy and cancer-free\, Caroline has found renewed purpose in teaching and building community through Mahjong — a space where strategy\, connection\, and joy intersect. \nA mother of three\, she can often be found cruising around the suburbs in her minivan full of kids\, on the pickleball court\, sharing coffee with friends\, or hunting for hidden gems at estate sales.
URL:https://gortoncenter.org/event/mahjong-101-with-windy-city-mahjong-january-20/
LOCATION:Gorton Center\, 400 East Illinois Road\, Lake Forest\, IL\, 60045
CATEGORIES:Adults,Classes,Games
ATTACH;FMTTYPE=image/jpeg:https://gortoncenter.org/wp-content/uploads/2025/11/Windy-City-Mahjong.jpeg
GEO:42.2506703;-87.8374004
X-APPLE-STRUCTURED-LOCATION;VALUE=URI;X-ADDRESS=Gorton Center 400 East Illinois Road Lake Forest IL 60045;X-APPLE-RADIUS=500;X-TITLE=400 East Illinois Road:geo:-87.8374004,42.2506703
END:VEVENT
BEGIN:VEVENT
DTSTART;TZID=America/Chicago:20260121T100000
DTEND;TZID=America/Chicago:20260121T120000
DTSTAMP:20260423T072224
CREATED:20251216T204620Z
LAST-MODIFIED:20260120T174813Z
UID:20006855-1768989600-1768996800@gortoncenter.org
SUMMARY:Open Play Mahjong
DESCRIPTION:Please plan to arrive early\, play starts promptly at 10am!\nCalling all Mahjong enthusiasts. Join us for Open Play Mahjong\, a relaxed and social way to enjoy the game you love. These sessions are for intermediate to advanced players who already know the rules. No instruction is offered. \nBring your strategy and a little friendly competition. Connect with other experienced players. Open Play is a great way to practice\, stay sharp\, and enjoy the challenge of Mahjong. \nWe provide all Mahjong sets. Please bring your own Mahjong card. \nPre-registration is required. Drop-ins can’t be accommodated\, so be sure to register early to save your spot. \nWe look forward to seeing you at the table.
URL:https://gortoncenter.org/event/open-play-mahjong-january-21/
LOCATION:Gorton Center\, 400 East Illinois Road\, Lake Forest\, IL\, 60045
CATEGORIES:Adults,Classes,Games
ATTACH;FMTTYPE=image/png:https://gortoncenter.org/wp-content/uploads/2025/09/Mahjong-Open-Play.png
GEO:42.2506703;-87.8374004
X-APPLE-STRUCTURED-LOCATION;VALUE=URI;X-ADDRESS=Gorton Center 400 East Illinois Road Lake Forest IL 60045;X-APPLE-RADIUS=500;X-TITLE=400 East Illinois Road:geo:-87.8374004,42.2506703
END:VEVENT
BEGIN:VEVENT
DTSTART;TZID=America/Chicago:20260122T190000
DTEND;TZID=America/Chicago:20260122T200000
DTSTAMP:20260423T072224
CREATED:20260114T154813Z
LAST-MODIFIED:20260114T154813Z
UID:20006939-1769108400-1769112000@gortoncenter.org
SUMMARY:PARENTING ANXIETY: BREAKING THE CYCLE OF WORRY AND RAISING RESILIENT KIDS
DESCRIPTION:Parenting is hard—especially for families navigating anxiety. Today’s parents face an overwhelming volume of advice shaped by rigid cultural ideals of what “good” parenting looks like\, particularly when it comes to managing children’s fears and worries. How do you raise resilient children in an age of uncertainty? How do you parent effectively when you yourself are anxious? \nMuch of the advice parents encounter\, unfortunately\, encourages responses that can increase the long-term risk of anxiety in children. In trying to protect kids from discomfort\, well-intentioned parents may block experiences children need to build courage\, confidence\, and resilience. \nIn her new book Parenting Anxiety: Breaking the Cycle of Worry and Raising Resilient Kids\, Meredith Elkins\, Ph.D.\, a clinical psychologist and faculty member at Harvard Medical School\, brings clarity to this increasingly urgent conversation. Drawing on her clinical work with children and families—and her own experience as a parent—Dr. Elkins helps parents rethink so-called “negative” emotions such as fear\, sadness\, and guilt\, and understand how modern parenting pressures contribute to anxiety in both children and adults. She encourages families to clarify their values and adopt a “love and limits” approach—balancing compassion with healthy boundaries while resisting the urge to shield children from every discomfort. \nDr. Elkins offers concrete\, evidence-based guidance for families experiencing everyday anxiety as well as those coping with anxiety disorders. This indispensable resource provides a clear roadmap for helping both children and parents build adaptability\, emotional flexibility\, and resilience across all stages of development. \nDr. Elkins will be in conversation with Rebecca Jenkins\, superintendent of Libertyville D70 in Libertyville\, IL. Jenkins has presented about leadership at the National Conference on Education by the American Association of School Administrators\, the award-winning PowerTrip conference for women in education; at the Illinois Association for Superintendents; and with Google at the ASU+GSV summit\, a global meeting for leaders in education\, technology\, and workforce development. \nBonus After-Hours Event: FAN donors are invited to attend a private After-Hours event hosted by Elkins that will start immediately after the webinar. Details on the webinar registration page. \nThis event is suitable for youth ages 12 and up. It will be recorded and available on FAN’s website and YouTube channel.
URL:https://gortoncenter.org/event/parenting-anxiety-breaking-the-cycle-of-worry-and-raising-resilient-kids/
LOCATION:On Zoom
CATEGORIES:Events,Family Action Network
ATTACH;FMTTYPE=image/png:https://gortoncenter.org/wp-content/uploads/2026/01/Copy-of-FAN-800-x-600-website-image-64.png
END:VEVENT
BEGIN:VEVENT
DTSTART;TZID=America/Chicago:20260123T091500
DTEND;TZID=America/Chicago:20260123T101500
DTSTAMP:20260423T072224
CREATED:20260106T170053Z
LAST-MODIFIED:20260122T201928Z
UID:20006893-1769159700-1769163300@gortoncenter.org
SUMMARY:SALSArobics
DESCRIPTION:SALSAROBICS IS CANCELLED ON JANUARY 23 DUE TO WEATHER. PLEASE JOIN US NEXT FRIDAY!\nGet Ready to Move with SALSArobics!\nJoin Esther Gutierrez Sloan every Friday for a dynamic workout that blends fun\, rhythm\, and full-body movement. This class isn’t just about exercise – it’s about joy\, discovery\, and the thrill of dance! \nThroughout the session\, participants choose their intensity level – low\, moderate\, or high – while moving to irresistible Latin\, Caribbean\, Spanish\, and African beats. Options for both low-impact and high-impact movements allow everyone to customize their experience. \nEach class delivers an energizing workout that averages 4\,000 to 4\,200 steps\, with varying degrees of intensity. Esther integrates the Total Body Training (TBT) Systems Methodology to support proper posture and promote muscle conditioning. She also incorporates Peripheral Heart Action (PHA) Training\, offering an optional challenge that builds aerobic strength based on individual pace and rhythm. \nTo build coordination and balance\, the class includes inline motion drills. Participants move across the room using steps that change direction – laterally\, diagonally\, forward\, and backward—adding functional movement to the workout. \nThe session concludes with Proprioceptive Neuromuscular Facilitation (PNF) stretching to enhance flexibility and recovery. \nColombian-born Esther Gutierrez Sloan created SALSArobics in 1989 to fuse authentic Latin rhythms with aerobic exercise. She has performed on national and local television in Illinois\, California\, Florida\, and New York. In addition to leading classes\, she has presented SALSArobics at fitness conventions\, schools\, health clubs\, ethnic festivals\, and international events. \nIn recognition of her groundbreaking work\, Esther was inducted into the National Fitness Hall of Fame in 2010. Learn more about Esther and SALSArobics.
URL:https://gortoncenter.org/event/salsarobics-jan-23/
LOCATION:Gorton Center\, 400 East Illinois Road\, Lake Forest\, IL\, 60045
CATEGORIES:Adults,Classes,Music,Wellness
GEO:42.2506703;-87.8374004
X-APPLE-STRUCTURED-LOCATION;VALUE=URI;X-ADDRESS=Gorton Center 400 East Illinois Road Lake Forest IL 60045;X-APPLE-RADIUS=500;X-TITLE=400 East Illinois Road:geo:-87.8374004,42.2506703
END:VEVENT
BEGIN:VEVENT
DTSTART;TZID=America/Chicago:20260124T110000
DTEND;TZID=America/Chicago:20260124T120000
DTSTAMP:20260423T072224
CREATED:20260120T161149Z
LAST-MODIFIED:20260120T161149Z
UID:20006947-1769252400-1769256000@gortoncenter.org
SUMMARY:Tai Chi
DESCRIPTION:Tai Chi is an inclusive form of exercise that anyone can do\, whether you are in peak shape\, or have limited mobility. Despite its slow pace\, it is a valuable exercise for all ages\, read about the health benefits below. Dress comfortably and be prepared to have fun in Ken’s class. \nHealth Benefits \nTai Chi has numerous health benefits. It is good for balance\, flexibility\, and stress – regular Tai Chi practice can improve overall physical health and well-being. In fact\, Harvard Health suggests Tai Chi might be “…the perfect activity for the rest of your life.” \nAs a form of exercise\, researchers in Toronto found it is equivalent to brisk walking. So\, instead of worrying about your steps (how boring)\, join Ken’s class and have some more fun while you exercise. \nUnlike other forms of exercise\, Tai Chi movements are performed with relaxed muscles and a focus on deep breathing. Slow and gentle\, Tai Chi can improve blood flow\, balance\, and relaxation. Each Tai Chi pose flows into the next with circular\, continuous movements. This helps improve your balance and flexibility without putting strain on muscles and joints. \nTai Chi is also a very social activity\, commonly practiced in groups that rhythmically synchronize slow movements with deep breathing. Like meditation\, Tai Chi creates a calm and focused mind and can create a state of mindfulness. \nTai Chi also benefits emotional well-being and mental health. Regular Tai Chi practice can improve concentration\, physical self-awareness\, and create a sense of inner peace. Tai chi is a great exercise for relieving stress and has been shown to benefit hypertension and high blood pressure. \nWhat is Tai Chi? \nIt is a Chinese traditional exercise that blends martial arts’ movement with meditation. Dating back a thousand years\, Tai Chi remains a popular activity in China and around the world. \nTai Chi is a series of slow\, choreographed martial arts movements and poses. Tai Chi poses are circular and continuous\, with an emphasis on smooth transitions and maintaining a centered and grounded posture. Tai Chi poses mimic the movements of animals or nature\, such as flowing water or a bird in flight.  \nKen has been practicing martial arts for 27 years\, and started Tai Chi training in 1996 with Sifu Dale Washington\, Sifu Ban Toy in 2000 and Grand Master Yang Jun in 2006. He has been practicing Tai Chi for 21 years and teaching Tai Chi for 12 years. In 2016\, he received a Gold Eagle certificate from Yang Family Tai Chi Chuan Association. certificate. Ken is also one of Grand Master Yang Jun’s Disciples for the Yang Family Tai Chi Chuan. He teaches Kickboxing and Full-contact Martial Arts teacher and is certified by Ng Family Martial Arts Association.
URL:https://gortoncenter.org/event/tai-chi-january-24/
LOCATION:Gorton Center\, 400 East Illinois Road\, Lake Forest\, IL\, 60045
CATEGORIES:Classes,Wellness
ATTACH;FMTTYPE=image/png:https://gortoncenter.org/wp-content/uploads/2025/07/Tai-Chi.png
GEO:42.2506703;-87.8374004
X-APPLE-STRUCTURED-LOCATION;VALUE=URI;X-ADDRESS=Gorton Center 400 East Illinois Road Lake Forest IL 60045;X-APPLE-RADIUS=500;X-TITLE=400 East Illinois Road:geo:-87.8374004,42.2506703
END:VEVENT
BEGIN:VEVENT
DTSTART;TZID=America/Chicago:20260124T193000
DTEND;TZID=America/Chicago:20260124T210000
DTSTAMP:20260423T072224
CREATED:20250303T172316Z
LAST-MODIFIED:20260107T233239Z
UID:20006332-1769283000-1769288400@gortoncenter.org
SUMMARY:American English 2026
DESCRIPTION:Join Us for an Unforgettable Beatles Tribute Concert with American English\nExperience the magic of The Beatles with American English\, Chicago’s top Beatles tribute band. This show covers their greatest hits in the most authentic way! \nThe concert starts with early classics from the Ed Sullivan Show\, like Twist and Shout. Next\, the band transports you to the psychedelic 1960s\, with songs from Sgt. Pepper’s Lonely Hearts Club Band. The band then performs songs from The White Album and Abbey Road\, showcasing their remarkable attention to detail. \nAmerican English recreates The Beatles’ look with full costumes and impressive vocals. Their energy and artistry bring each song to life. \nThis is more than a concert it’s an experience. The band’s passion and accuracy make every song feel fresh and exciting. \nDon’t miss this amazing tribute to The Beatles! \n \n“The best Beatle’s band on the planet!” – Newsweek \n“These guys are more than a band\, they’re a Broadway show!” – Eric Burdon of  “The Animals” \n“American English is the best Beatles act since The Beatles!” – Dick Biondi\, legendary rock n’ roll DJ who introduced the Beatles at the Hollywood Bowl and Comiskey Park \n“They are without doubt the world’s premier Beatles Tribute band\, and a great bunch of lads…just like the Beatles were.  It amazes me how each individual member of American English is so like his counterpart in The Beatles. In looks\, performance\, and personality.”\n– Sam Leach\, the original promoter of the Beatles\, and author of “Birth of the Beatles” \nAmerican English is part of the Tribute Band Package\nRelive all your favorites with the best tribute bands on the planet close to home at Gorton and save! Choose at least two of the following concerts and receive 10% off your ticket purchases: \nAmerican English – Music of The Beatles – Saturday January 24\, 2026 at 7:30pm \nFrontiers – The World’s Number One Tribute to Journey – Saturday\, February 28\, 2026 at 7:30pm \nThe Brit Pack – Highlights of British Music including The Stones\, Queen\, The Beatles\, David Bowie\, Elton John\, The Who\, Oasis\, Tears for Fears\, Radiohead\, The Police\, Amy Winehouse and many more – Saturday April 11\, 2026 at 7:30pm \nMichael Cavanaugh – Music of Elton John and Billy Joel – Thursday April 30\, 2026 at 7:30pm \nAnts Marching – The Ultimate Dave Matthews Band Tribute – Friday June 19\, 2026 at 7:00pm \nThe Brothers Doobie – Music of the Doobie Brothers – Saturday September 12\, 2026 at 7:30pm
URL:https://gortoncenter.org/event/american-english-2025/
LOCATION:Gorton Center – John & Nancy Hughes Theater\, 400 E. Illinois Road\, Lake Forest\, IL\, 60045\, United States
CATEGORIES:Events,Live Music,Performing Arts
ATTACH;FMTTYPE=image/png:https://gortoncenter.org/wp-content/uploads/2025/09/American-English-option-2.png
END:VEVENT
END:VCALENDAR