BEGIN:VCALENDAR
VERSION:2.0
PRODID:-//Gorton Center - ECPv6.15.17//NONSGML v1.0//EN
CALSCALE:GREGORIAN
METHOD:PUBLISH
X-ORIGINAL-URL:https://gortoncenter.org
X-WR-CALDESC:Events for Gorton Center
REFRESH-INTERVAL;VALUE=DURATION:PT1H
X-Robots-Tag:noindex
X-PUBLISHED-TTL:PT1H
BEGIN:VTIMEZONE
TZID:America/Chicago
BEGIN:DAYLIGHT
TZOFFSETFROM:-0600
TZOFFSETTO:-0500
TZNAME:CDT
DTSTART:20240310T080000
END:DAYLIGHT
BEGIN:STANDARD
TZOFFSETFROM:-0500
TZOFFSETTO:-0600
TZNAME:CST
DTSTART:20241103T070000
END:STANDARD
BEGIN:DAYLIGHT
TZOFFSETFROM:-0600
TZOFFSETTO:-0500
TZNAME:CDT
DTSTART:20250309T080000
END:DAYLIGHT
BEGIN:STANDARD
TZOFFSETFROM:-0500
TZOFFSETTO:-0600
TZNAME:CST
DTSTART:20251102T070000
END:STANDARD
BEGIN:DAYLIGHT
TZOFFSETFROM:-0600
TZOFFSETTO:-0500
TZNAME:CDT
DTSTART:20260308T080000
END:DAYLIGHT
BEGIN:STANDARD
TZOFFSETFROM:-0500
TZOFFSETTO:-0600
TZNAME:CST
DTSTART:20261101T070000
END:STANDARD
END:VTIMEZONE
BEGIN:VEVENT
DTSTART;TZID=America/Chicago:20251007T090000
DTEND;TZID=America/Chicago:20251007T100000
DTSTAMP:20260423T112442
CREATED:20250908T183519Z
LAST-MODIFIED:20250925T172535Z
UID:20006677-1759827600-1759831200@gortoncenter.org
SUMMARY:Yoga with Areta
DESCRIPTION:Yoga With Areta \nJoin Areta for a traditional Vinyasa Flow yoga class. This one-hour\, bi-weekly practice blends poses\, breathwork\, and meditation. Each session helps release tension\, restore balance\, and strengthen the body. At the same time\, you’ll open and lengthen your muscles. \nWhether you’re new to yoga or have years of experience\, this mindful flow will leave you feeling refreshed and energized. Just bring a mat and a water bottle\, and you’re ready to go. \nVinyasa Flow is a dynamic style of yoga. It links breath with movement as you move smoothly from pose to pose. This practice combines ancient traditions with a modern\, fluid rhythm. Its creative sequences encourage you to explore your body\, breath\, and mind in harmony. \nYoga offers powerful benefits. Physically\, it supports heart health\, flexibility\, and strength. Mentally\, it reduces stress and tension. Emotionally\, it boosts energy and leaves you feeling grounded and revitalized. \nAreta has been teaching yoga in Lake Forest and in yoga studios along the North Shore for 10 years and is E-RYT 500 Certified. Areta’s passion is bringing yoga to EVERY BODY\, and has additional certifications in Meditation\, Adaptive Yoga for Disabilities\, Senior Yoga\, Love Your Brain for traumatic brain injury\, Yoga for Eating Disorder Recovery\, Yin Yoga\, and Yoga for 12 Step Recovery. Areta teaches yoga to inspire and empower physical well-being\, spiritual balance and awakening for everyday life. She is a long-time resident of Lake Forest and a disability advocate and volunteer yoga coach for the Great Lakes Adaptive Sports Association (GLASA).
URL:https://gortoncenter.org/event/yoga-with-areta-4/
LOCATION:Gorton Center\, 400 East Illinois Road\, Lake Forest\, IL\, 60045
CATEGORIES:Adults,Classes,Wellness
ATTACH;FMTTYPE=image/jpeg:https://gortoncenter.org/wp-content/uploads/2023/08/Yoga-Areta.jpg
GEO:42.2506703;-87.8374004
X-APPLE-STRUCTURED-LOCATION;VALUE=URI;X-ADDRESS=Gorton Center 400 East Illinois Road Lake Forest IL 60045;X-APPLE-RADIUS=500;X-TITLE=400 East Illinois Road:geo:-87.8374004,42.2506703
END:VEVENT
BEGIN:VEVENT
DTSTART;TZID=America/Chicago:20251009T090000
DTEND;TZID=America/Chicago:20251009T100000
DTSTAMP:20260423T112442
CREATED:20250908T191815Z
LAST-MODIFIED:20250925T172135Z
UID:20006682-1760000400-1760004000@gortoncenter.org
SUMMARY:Yoga & Meditation with Jennifer
DESCRIPTION:Mind-Body Connection\nJoin Jennifer for a meditative yoga series that gently guides you back to yourself. In this class\, you will slow down\, breathe deeply\, and begin reconnecting with both body and mind. As you move inward\, you will also awaken a stronger connection with your higher self. \nFirst\, you will explore slow Kripalu and Yin yoga postures. These gentle poses create space to release tension and restore balance. Next\, Jennifer will guide you through meditative imagery\, helping you visualize and sense your energy flow. In addition\, you may explore imagery of meridians\, chakras\, and the light body to deepen awareness. \nTo enhance the practice even further\, sound healing may be woven in. Crystal practitioner bowls\, along with soothing mantra vibrations\, add layers of resonance that support relaxation and inner harmony. As a result\, the entire experience becomes both calming and transformative. \nAll Experience Levels Are Welcome\nMost importantly\, this class is open to everyone. Whether you are brand new to yoga or have years of practice\, you will find the movements accessible and the imagery uplifting. Because no previous yoga experience is required\, all you need is a willingness to slow down and reconnect. \nPlease remember to bring your own mat. However\, blankets and bolsters will be available to ensure comfort and support during each posture. \nBy the end of class\, you will feel more centered\, more renewed\, and more connected to your true self. \nJennifer is a Holistic Occupational Therapist. She specializes in healing methods such as reiki\, meditation\, ancestral clearing\, kundalini\, kripalu and yin yoga as well as many forms of energy healing. She has been an avid student of the etheric energy healing arts for 3 decades. Jennifer loves helping people connect with their unlimited potential. She works with individuals and groups of all ages and stages of life.  For more information on meditations and classes\, visit intuitlove.com or contact Jennifer directly at  JenniferLauren@nullintuitlove.com or 224-500-7797.
URL:https://gortoncenter.org/event/yoga-meditation-october-9/
LOCATION:Gorton Center\, 400 East Illinois Road\, Lake Forest\, IL\, 60045
CATEGORIES:Adults,Classes,Wellness
ATTACH;FMTTYPE=image/jpeg:https://gortoncenter.org/wp-content/uploads/2025/08/yoga-jennifer.jpg
GEO:42.2506703;-87.8374004
X-APPLE-STRUCTURED-LOCATION;VALUE=URI;X-ADDRESS=Gorton Center 400 East Illinois Road Lake Forest IL 60045;X-APPLE-RADIUS=500;X-TITLE=400 East Illinois Road:geo:-87.8374004,42.2506703
END:VEVENT
END:VCALENDAR