BEGIN:VCALENDAR
VERSION:2.0
PRODID:-//Gorton Center - ECPv6.15.17//NONSGML v1.0//EN
CALSCALE:GREGORIAN
METHOD:PUBLISH
X-ORIGINAL-URL:https://gortoncenter.org
X-WR-CALDESC:Events for Gorton Center
REFRESH-INTERVAL;VALUE=DURATION:PT1H
X-Robots-Tag:noindex
X-PUBLISHED-TTL:PT1H
BEGIN:VTIMEZONE
TZID:America/Chicago
BEGIN:DAYLIGHT
TZOFFSETFROM:-0600
TZOFFSETTO:-0500
TZNAME:CDT
DTSTART:20230312T080000
END:DAYLIGHT
BEGIN:STANDARD
TZOFFSETFROM:-0500
TZOFFSETTO:-0600
TZNAME:CST
DTSTART:20231105T070000
END:STANDARD
BEGIN:DAYLIGHT
TZOFFSETFROM:-0600
TZOFFSETTO:-0500
TZNAME:CDT
DTSTART:20240310T080000
END:DAYLIGHT
BEGIN:STANDARD
TZOFFSETFROM:-0500
TZOFFSETTO:-0600
TZNAME:CST
DTSTART:20241103T070000
END:STANDARD
BEGIN:DAYLIGHT
TZOFFSETFROM:-0600
TZOFFSETTO:-0500
TZNAME:CDT
DTSTART:20250309T080000
END:DAYLIGHT
BEGIN:STANDARD
TZOFFSETFROM:-0500
TZOFFSETTO:-0600
TZNAME:CST
DTSTART:20251102T070000
END:STANDARD
END:VTIMEZONE
BEGIN:VEVENT
DTSTART;TZID=America/Chicago:20241013T130000
DTEND;TZID=America/Chicago:20241013T143000
DTSTAMP:20260419T141826
CREATED:20230825T165546Z
LAST-MODIFIED:20240821T153900Z
UID:20003200-1728824400-1728829800@gortoncenter.org
SUMMARY:Restorative Yoga & Sound Bath Healing
DESCRIPTION:If you would like to experience a peaceful practice and healing escape\, or if you are curious about how to take better care of yourself\, and make self-care a reality in your life\, you will make this class a monthly priority.  The combination of restorative yoga along with a live sound bath requires no experience except tuning into your senses. \nJoin us for an incredible 90-minute restorative yoga practice and healing sound bath to Himalayan crystal and Tibetan bowls\, chimes\, Indian flute\, and more. You will be guided through yogic practices that will nourish your mind\, body and spirit as you move into restorative yoga poses\, and experience various forms of meditation and breathwork\, all while tuning into a sound healing experience. \nThis practice will help reduce stress and allow the nervous system to reset. You will leave feeling rejuvenated and relaxed in addition to learning some practical tools on how to bring deep healing into your daily life. \nWear comfortable clothing. Bring a mat and a water bottle.  All other props will be provided. \nAbout Yoga instructor Areta Verschoor: Areta has been teaching yoga in Lake Forest and in yoga studios along the North Shore for 12 years and is E-RYT 500 Certified.  Areta’s passion is bringing yoga to Every BODY and has additional certifications in Meditation\, Adaptive Yoga for Disabilities\, Senior Yoga\, Love Your Brain for traumatic brain injury\, Yoga for Eating Disorder Recovery\, Yin Yoga\, and Yoga for 12 Step Recovery.  Areta teaches yoga to inspire and empower physical well-being\, spiritual balance\, and awakening for everyday life.  She is a long-time resident of Lake Forest and a disability advocate and volunteer yoga coach for the Great Lakes Adaptive Sports Association (GLASA). \nAbout the Sound Bath Practitioner Joi Hunt:  Joi Hunt is a Lake Forest resident\, a professional calligrapher\, and a Certified Sound Wellness Practitioner.  Joi plays quartz crystal singing bowls and Himalayan bowls\, Indian flute\, and chimes in her melodic sound baths. Joi has been sharing her sound bath meditation practice at the Gorton Center and various venues for several years. She is a trained and certified sound healing practitioner.
URL:https://gortoncenter.org/event/restorative-yoga-sound-bath-healing-2/
LOCATION:Gorton Center\, 400 East Illinois Road\, Lake Forest\, IL\, 60045
CATEGORIES:Adults,Classes,Specialty,Wellness
ATTACH;FMTTYPE=image/jpeg:https://gortoncenter.org/wp-content/uploads/2023/08/yoga-and-sound-bath.jpg
GEO:42.2506703;-87.8374004
X-APPLE-STRUCTURED-LOCATION;VALUE=URI;X-ADDRESS=Gorton Center 400 East Illinois Road Lake Forest IL 60045;X-APPLE-RADIUS=500;X-TITLE=400 East Illinois Road:geo:-87.8374004,42.2506703
END:VEVENT
BEGIN:VEVENT
DTSTART;TZID=America/Chicago:20241013T160000
DTEND;TZID=America/Chicago:20241013T180000
DTSTAMP:20260419T141826
CREATED:20240919T212213Z
LAST-MODIFIED:20240919T214804Z
UID:20006141-1728835200-1728842400@gortoncenter.org
SUMMARY:Lake Forest Civic Orchestra-"In the Beginning"
DESCRIPTION:The LFCO opens our season of Epics\, Odes\, and Sagas with “In the Beginning…” featuring two takes on the creation story. Haydn opens his epic oratorio The Creation with a musical depiction of the chaos which preceded the creation of the universe. In contrast\, Darius Milhaud\, draws upon various African creation myths in his ballet score La création du monde. Combining both classical and jazz traditions\, La création du monde has been called “a real love affair with jazz.” We look forward to our January performance of Beethoven’s Symphony No. 9\, by beginning where he began\, his Symphony No. 1.\nCellist Jocelyn Gao\, a senior at Stevenson HS joins us for the first movement of Dvorak’s cello concerto.\nHere is the link for tickets: \nhttps://www.lakeforestcivicorchestra.org/concerts-tickets/p/in-the-beginning-october-2024
URL:https://gortoncenter.org/event/lake-forest-civic-orchestra-in-the-beginning/
LOCATION:Gorton Center – John & Nancy Hughes Theater\, 400 E. Illinois Road\, Lake Forest\, IL\, 60045\, United States
CATEGORIES:Community,Events,Rental Events
ATTACH;FMTTYPE=image/jpeg:https://gortoncenter.org/wp-content/uploads/2024/09/LFCO-10-13-24-sm.jpg
END:VEVENT
BEGIN:VEVENT
DTSTART;TZID=America/Chicago:20241014T090000
DTEND;TZID=America/Chicago:20241014T150000
DTSTAMP:20260419T141826
CREATED:20240726T153712Z
LAST-MODIFIED:20240730T111834Z
UID:20006051-1728896400-1728918000@gortoncenter.org
SUMMARY:Mr. V's Day Off - Indigenous Peoples' Day
DESCRIPTION:Join Mr. V. in the John and Nancy Hughes Theater for a fun-filled day of music and activities celebrating fall\, nature\, history\, and adventure! To celebrate Indigenous Peoples’ Day students will learn Mr.V.’s epic work “The Song of Hiawatha”\, as well as many other classic and original songs and stories.  Special activities will be included\, along with Saturday Cartoons\,  and other faves.  Please provide a lunch!” \nOctober 14\, 2024 \nOPTION #1: 1/2 day – 9 am to Noon = $49\nOPTION #2: 1/2 day – Noon to 3 pm = $49\nOPTION #3: Full Day – 9 am to 3 pm = $99 \nAges 4 to 10 \nCheck out footage from Mr. V’s recent class. \n\n \nBill Vaananen is an award-winning music educator and composer who has taught and directed elementary-aged students for over 45 years. Originally from Oklahoma\, “Mr. V.” was general music teacher at Wescott School in Northbrook for 37 years. He has written hundreds of songs and dozens of original theater works that have been performed across Chicago’s northern suburbs. Recipient of the Golden Apple Award\, IEA Human Rights Award\, National-Louis Distinguished Alumni Award for Social Justice\, and Star of Teaching Award for the State of Illinois\, Vaananen continues to perform classes and presentations for children\, weaving his original music into inspiring lessons on Nature\, history\, culture\, and adventure. \n \nAbout Our Artistic Director: Jeremy Kruse\, Artistic Director of Gorton Drama Studio is the author of “The Young Actor’s Handbook” (Applause Acting Series\, 2017).The book was published in Korean and Chinese in 2022. Jeremy is a professional actor\, published playwright\, award-winning screenwriter\, and award-winning filmmaker. Some of the classes he taught at The Lee Strasberg Theatre and Film Institute in New York include Method Acting\, Comedic Improvisation\, Sketch Comedy Writing\, and Acting for Film and TV. He graduated from The Strasberg Institute at New York University’s Tisch School of the Arts where he majored in drama. Jeremy also teaches privately\, one on one  www.jeremykruse.com and www.jeremykruseactingtraining.com 
URL:https://gortoncenter.org/event/mr-vs-day-off-indigenous-peoples-day/
LOCATION:Gorton Center\, 400 East Illinois Road\, Lake Forest\, IL\, 60045
CATEGORIES:Age,Classes,Gorton Drama Studio,Youth
ATTACH;FMTTYPE=image/jpeg:https://gortoncenter.org/wp-content/uploads/2024/07/Mr-V-Oct-14-Day-Off-2nd-try-e1722338294421.jpg
GEO:42.2506703;-87.8374004
X-APPLE-STRUCTURED-LOCATION;VALUE=URI;X-ADDRESS=Gorton Center 400 East Illinois Road Lake Forest IL 60045;X-APPLE-RADIUS=500;X-TITLE=400 East Illinois Road:geo:-87.8374004,42.2506703
END:VEVENT
BEGIN:VEVENT
DTSTART;TZID=America/Chicago:20241014T190000
DTEND;TZID=America/Chicago:20241014T200000
DTSTAMP:20260419T141826
CREATED:20240926T142608Z
LAST-MODIFIED:20240926T142608Z
UID:20006147-1728932400-1728936000@gortoncenter.org
SUMMARY:THE ARCHITECTURE OF URBANITY: DESIGNING FOR NATURE\, CULTURE\, AND JOY
DESCRIPTION:Vishaan Chakrabarti\, one of today’s most inspired architects and urban advocates\, has written a new manifesto for architecture as a force for addressing our biggest social challenges. In The Architecture of Urbanity: Designing for Nature\, Culture\, and Joy\, Chakrabarti describes a world facing unprecedented challenges\, from climate change and population growth to political division and technological dislocation\, to declining mental health and fraying cultural fabric. With most of the planet’s population now living in urban environments\, cities are the spaces where we have the greatest potential to confront and address these problems. In this visionary book\, Chakrabarti argues for an “architecture of urbanity\,” showing how the design of our communities can create a more equitable\, sustainable\, and joyous future for us all. \nLavishly illustrated with a wealth of original graphics\, data visualizations\, photographs\, and drawings\, the book takes readers from the great cities of antiquity to the worldwide exurban sprawl of our postindustrial age\, examining architecture’s relationship to history’s greatest social\, technological\, and environmental dilemmas. Chakrabarti then presents a rich selection of work by a global array of practicing architects\, demonstrating how innovative design can dramatically improve life in big cities and small settlements around the world\, from campuses and refugee camps to mega-cities like São Paulo\, Lima\, Los Angeles\, New York\, Paris\, and Tokyo. \nChakrabarti is the founder of Practice for Architecture and Urbanism (PAU)\, a design studio based in New York City dedicated to building ecological\, equitable\, and joyous communities. He will be in conversation with Reed Kroloff\, Dean and the Rowe Family College of Architecture Endowed Chair at the College of Architecture at Illinois Institute of Technology in Chicago. He co-founded jones|kroloff\, a practice that develops design strategy and guides architect selection processes. \nThis event suitable for youth 12+. It will be recorded and available on FAN’s website and YouTube channel. \nBONUS AFTER-HOURS EVENT: Attendees who purchase a copy of The Architecture of Urbanity from FAN’s partner bookseller The Book Stall are invited to attend an AFTER-HOURS event hosted by Chakrabarti that will start immediately after the webinar. Details on the webinar registration page. \n“With passion and rigor\, Chakrabarti lays out a vital vision for better cities\, designed to create sustainable solidarity across lines of race\, origin\, and class.”— Heather C. McGhee\, FAN ‘21
URL:https://gortoncenter.org/event/the-architecture-of-urbanity-designing-for-nature-culture-and-joy/
LOCATION:On Zoom
CATEGORIES:Events,Family Action Network
ATTACH;FMTTYPE=image/png:https://gortoncenter.org/wp-content/uploads/2024/09/Copy-of-FAN-800-x-600-website-image-21.png
END:VEVENT
BEGIN:VEVENT
DTSTART;TZID=America/Chicago:20241017T190000
DTEND;TZID=America/Chicago:20241017T200000
DTSTAMP:20260419T141826
CREATED:20241003T140942Z
LAST-MODIFIED:20241003T140942Z
UID:20006152-1729191600-1729195200@gortoncenter.org
SUMMARY:LEADERS AS FUTURISTICS: CULTIVATING CIVIC IMAGINATION FOR A DYNAMIC WORLD
DESCRIPTION:In today’s politically charged climate\, we are inundated with a pervasive narrative of division\, discord\, and polarization. Yet many Americans long for a more positive\, unified future\, and are willing to do the work necessary to make it a reality. Leaders in schools\, organizations\, and corporations are uniquely positioned to inspire hope\, encourage action\, and actively shape the civic landscape we want for ourselves\, our children\, and future generations. \nJoin a FAN special session on harnessing the power of “futures thinking” and civic imagination with Lisa Kay Solomon\, Futurist in Residence at Stanford University’s d.school. Drawing from her bestselling book Moments of Impact: How to Design Strategic Conversation that Accelerate Change\, popular classes like “Inventing the Future\,” and award-winning civic initiatives such as The Futures Happening and The Team’s civic tailgating program for student athletes\, Solomon will share creative strategies to foster imaginative\, joyful\, and resilient cultures in our schools\, communities\, and families. \nSolomon will explore what we can learn about shaping our future from unexpected sources – from Sesame Street’s Elmo to the powerful fandom movements of Beyoncé and Taylor Swift\, and sports legends from the WNBA and USA Olympians. She will also share her new Futures Happening playbook designed to help school and community leaders transform current challenges into flexible opportunities for civic innovation and community building. \nSolomon will be in conversation with Liz Gerber\, Ph.D. (FAN ’13\, ’16)\, a professor of mechanical engineering at Northwestern University\, co-director of Northwestern’s Center for Human Computer Interaction + Design\, and faculty founder of Design for America. \nBONUS AFTER-HOURS EVENT: Webinar attendees are invited to join a free “Ask Me Anything” AFTER-HOURS event hosted by Solomon and Gerber that will start immediately after the webinar. This is an excellent opportunity for leaders looking for guidance on how to infuse futures thinking and civic imagination into community events and strategic conversations. The registration link for this After-Hours event will be posted in chat several times during the main webinar. \nThis event suitable for youth 12+. It will be recorded and available on FAN’s website and YouTube channel.
URL:https://gortoncenter.org/event/leaders-as-futuristics-cultivating-civic-imagination-for-a-dynamic-world/
LOCATION:On Zoom
CATEGORIES:Events,Family Action Network
ATTACH;FMTTYPE=image/png:https://gortoncenter.org/wp-content/uploads/2024/10/Copy-of-FAN-800-x-600-website-image-23.png
END:VEVENT
BEGIN:VEVENT
DTSTART;TZID=America/Chicago:20241018T190000
DTEND;TZID=America/Chicago:20241018T210000
DTSTAMP:20260419T141826
CREATED:20240716T174002Z
LAST-MODIFIED:20240716T174002Z
UID:20006040-1729278000-1729285200@gortoncenter.org
SUMMARY:Forks Over Knives
DESCRIPTION:Forks Over Knives examines the profound claim that most\, if not all\, of the chronic diseases that afflict us can be controlled or even reversed by rejecting animal-based and processed foods. \nDirector: Lee Fulkerson \nSpecial Screening in Advance of Plant Powered Event on Saturday\, October 26th:\nJoin us on October 26th for an inspiring evening in our John & Nancy Hughes Theater with Dr. Neal Barnard\, President of the Physicians Committee for Responsible Medicine\, along with Jane Esselstyn of the Esselstyn Family Foundation to learn about the nutritional power of eating a Whole Food Plant Based Diet and cooking strategies to help adopt this lifestyle. Guest chef Lee Kuebler of Elawa Farm Foundation will demo WFPB sauces and profile heirloom vegetables from our local farm.
URL:https://gortoncenter.org/event/forks-over-knives/
LOCATION:Gorton Center – John & Nancy Hughes Theater\, 400 E. Illinois Road\, Lake Forest\, IL\, 60045\, United States
CATEGORIES:Documentary,Film
ATTACH;FMTTYPE=image/jpeg:https://gortoncenter.org/wp-content/uploads/2024/07/f18ab924-53f8-47d9-b747-6517e32b5662.jpg
END:VEVENT
BEGIN:VEVENT
DTSTART;TZID=America/Chicago:20241018T190000
DTEND;TZID=America/Chicago:20241018T220000
DTSTAMP:20260419T141826
CREATED:20240905T154659Z
LAST-MODIFIED:20241015T174023Z
UID:20006136-1729278000-1729288800@gortoncenter.org
SUMMARY:Bewitched Wine Tasting Extravaganza
DESCRIPTION:THIS CLASS HAS BEEN CANCELLED. JOIN US FOR MORE WINE EVENTS IN NOVEMBER & DECEMBER!\nCalling all Wine Witches & Warlocks! Don’t be afraid of the pink wine – proceeds from Rosé sales will support the Breast Cancer Foundation. Taste your way through Halloween-inspired wine stations while mingling with fellow wine enthusiasts. This spooky wine tour features a selection of California and French wines from Oakwood Vines\, Lake Forest\, in the Grotto of the Gorton Center. \n 
URL:https://gortoncenter.org/event/bewitched-wine-tastin-extravaganza/
LOCATION:Gorton Center\, 400 East Illinois Road\, Lake Forest\, IL\, 60045
CATEGORIES:Adults,Classes,Cooking
ATTACH;FMTTYPE=image/png:https://gortoncenter.org/wp-content/uploads/2024/09/Wine-Halloween.png
GEO:42.2506703;-87.8374004
X-APPLE-STRUCTURED-LOCATION;VALUE=URI;X-ADDRESS=Gorton Center 400 East Illinois Road Lake Forest IL 60045;X-APPLE-RADIUS=500;X-TITLE=400 East Illinois Road:geo:-87.8374004,42.2506703
END:VEVENT
BEGIN:VEVENT
DTSTART;TZID=America/Chicago:20241019T180000
DTEND;TZID=America/Chicago:20241019T220000
DTSTAMP:20260419T141826
CREATED:20240613T203323Z
LAST-MODIFIED:20241019T215620Z
UID:20006005-1729360800-1729375200@gortoncenter.org
SUMMARY:Oktoberfest
DESCRIPTION:Online ticket sales close at 5pm\, TICKETS WILL BE FOR SALE AT THE DOOR\n \nJoin us under the tent at Gorton Center as we bring back an old favorite and share a toast to Gorton’s 50th Anniversary. \nWe’ll have live music\, beer\, wine\, and delicious German fare. Oktoberfest attire is encouraged! \nTicket Prices:\n– $125 standard ticket includes food\, drink and entertainment\n– $200 VIP ticket includes food\, drink\, entertainment\, reserved parking and a commemorative beer stein \nFunds raised through ticket sales and pre-event donations will benefit Gorton Center. You will not be asked to donate additional funds at the event.  \nOktoberfest Sponsors\nAnonymous\nBent Fork Bakery\nDonati’s\nForest Orthodontics & Dentistry\nThe Donovan Family\nThe McCain Family\nThe Rother Family\nThe Shader Family\nThe Sommers Family \nOktoberfest Planning Committee\nKate Rother\, Chair\nKristin McCain\nShannon Shader\nEllen Trager\nTanner Van Dusen \nPlease note this is an adults-only event. Must be 21+ to attend.
URL:https://gortoncenter.org/event/oktoberfest/
LOCATION:Gorton Center\, 400 East Illinois Road\, Lake Forest\, IL\, 60045
CATEGORIES:Community,Events
ATTACH;FMTTYPE=image/jpeg:https://gortoncenter.org/wp-content/uploads/2024/06/OktoberfestWebsiteHeader.jpg
GEO:42.2506703;-87.8374004
X-APPLE-STRUCTURED-LOCATION;VALUE=URI;X-ADDRESS=Gorton Center 400 East Illinois Road Lake Forest IL 60045;X-APPLE-RADIUS=500;X-TITLE=400 East Illinois Road:geo:-87.8374004,42.2506703
END:VEVENT
END:VCALENDAR