BEGIN:VCALENDAR
VERSION:2.0
PRODID:-//Gorton Center - ECPv6.15.17//NONSGML v1.0//EN
CALSCALE:GREGORIAN
METHOD:PUBLISH
X-WR-CALNAME:Gorton Center
X-ORIGINAL-URL:https://gortoncenter.org
X-WR-CALDESC:Events for Gorton Center
REFRESH-INTERVAL;VALUE=DURATION:PT1H
X-Robots-Tag:noindex
X-PUBLISHED-TTL:PT1H
BEGIN:VTIMEZONE
TZID:America/Chicago
BEGIN:DAYLIGHT
TZOFFSETFROM:-0600
TZOFFSETTO:-0500
TZNAME:CDT
DTSTART:20240310T080000
END:DAYLIGHT
BEGIN:STANDARD
TZOFFSETFROM:-0500
TZOFFSETTO:-0600
TZNAME:CST
DTSTART:20241103T070000
END:STANDARD
BEGIN:DAYLIGHT
TZOFFSETFROM:-0600
TZOFFSETTO:-0500
TZNAME:CDT
DTSTART:20250309T080000
END:DAYLIGHT
BEGIN:STANDARD
TZOFFSETFROM:-0500
TZOFFSETTO:-0600
TZNAME:CST
DTSTART:20251102T070000
END:STANDARD
BEGIN:DAYLIGHT
TZOFFSETFROM:-0600
TZOFFSETTO:-0500
TZNAME:CDT
DTSTART:20260308T080000
END:DAYLIGHT
BEGIN:STANDARD
TZOFFSETFROM:-0500
TZOFFSETTO:-0600
TZNAME:CST
DTSTART:20261101T070000
END:STANDARD
END:VTIMEZONE
BEGIN:VEVENT
DTSTART;TZID=America/Chicago:20251125T090000
DTEND;TZID=America/Chicago:20251125T150000
DTSTAMP:20260423T125719
CREATED:20250623T191132Z
LAST-MODIFIED:20251103T163156Z
UID:20006453-1764061200-1764082800@gortoncenter.org
SUMMARY:Tony Cannoli Sale
DESCRIPTION:Celebrate Thanksgiving with Tony Cannoli at Gorton Center!\nThis Thanksgiving\, add a sweet twist to your celebration with freshly filled cannoli-themed pastries! On Tuesday\, November 25\, Tony Cannoli will deliver a mouthwatering assortment of treats to Gorton Center. They’re perfect for sharing with friends and family during your holiday festivities. \nTony Cannoli was founded by Tony Volpentesta\, who learned his craft in his grandmother’s kitchen. He carries on generations of Italian culinary tradition with every batch. Using old-world techniques and a creative touch\, Tony has perfected the iconic cannoli shell and filling. \nFrom classic cannoli to fun variations like cannoli bites\, chips ’n’ dip\, and cannoli cake\, there’s something for everyone. This Thanksgiving\, treat your guests – and yourself – to the rich flavor and tradition of Tony Cannoli. \nHow to Order:\nClick the purchase button to visit Tony Cannoli’s website and place your order before November 25. At checkout\, select the 10 am pickup option and be sure to write “GORTON” in the Special Instructions section. This ensures your order will be ready at Gorton Center. \nPickup Details:\nPick up your order on Tuesday\, November 25 between  9am and 3 pm at Gorton Center. These desserts are made fresh and packaged with care\, ready to be the highlight of your holiday spread. \nServing Instructions:\nOnce picked up\, keep your cannoli desserts in the freezer (unless labeled otherwise) and allow them to thaw for 10–15 minutes before serving for the best taste and texture. \nDon’t miss out on this festive opportunity to enjoy Tony Cannoli’s delicious creations. The perfect sweet treat for your 4th of July celebrations! For any questions or concerns\, please contact Libby Johnson.
URL:https://gortoncenter.org/event/cannoli-for-sale/
LOCATION:Gorton Center\, 400 East Illinois Road\, Lake Forest\, IL\, 60045
CATEGORIES:Adults,Classes,Cooking,Specialty,Youth
ATTACH;FMTTYPE=image/png:https://gortoncenter.org/wp-content/uploads/2025/07/Cannolis.png
GEO:42.2506703;-87.8374004
X-APPLE-STRUCTURED-LOCATION;VALUE=URI;X-ADDRESS=Gorton Center 400 East Illinois Road Lake Forest IL 60045;X-APPLE-RADIUS=500;X-TITLE=400 East Illinois Road:geo:-87.8374004,42.2506703
END:VEVENT
END:VCALENDAR