BEGIN:VCALENDAR
VERSION:2.0
PRODID:-//Gorton Center - ECPv6.15.17//NONSGML v1.0//EN
CALSCALE:GREGORIAN
METHOD:PUBLISH
X-ORIGINAL-URL:https://gortoncenter.org
X-WR-CALDESC:Events for Gorton Center
REFRESH-INTERVAL;VALUE=DURATION:PT1H
X-Robots-Tag:noindex
X-PUBLISHED-TTL:PT1H
BEGIN:VTIMEZONE
TZID:America/Chicago
BEGIN:DAYLIGHT
TZOFFSETFROM:-0600
TZOFFSETTO:-0500
TZNAME:CDT
DTSTART:20250309T080000
END:DAYLIGHT
BEGIN:STANDARD
TZOFFSETFROM:-0500
TZOFFSETTO:-0600
TZNAME:CST
DTSTART:20251102T070000
END:STANDARD
BEGIN:DAYLIGHT
TZOFFSETFROM:-0600
TZOFFSETTO:-0500
TZNAME:CDT
DTSTART:20260308T080000
END:DAYLIGHT
BEGIN:STANDARD
TZOFFSETFROM:-0500
TZOFFSETTO:-0600
TZNAME:CST
DTSTART:20261101T070000
END:STANDARD
BEGIN:DAYLIGHT
TZOFFSETFROM:-0600
TZOFFSETTO:-0500
TZNAME:CDT
DTSTART:20270314T080000
END:DAYLIGHT
BEGIN:STANDARD
TZOFFSETFROM:-0500
TZOFFSETTO:-0600
TZNAME:CST
DTSTART:20271107T070000
END:STANDARD
END:VTIMEZONE
BEGIN:VEVENT
DTSTART;TZID=America/Chicago:20260628T150000
DTEND;TZID=America/Chicago:20260628T163000
DTSTAMP:20260420T094918
CREATED:20260319T195515Z
LAST-MODIFIED:20260319T195515Z
UID:20006928-1782658800-1782664200@gortoncenter.org
SUMMARY:House of DOV
DESCRIPTION:Circle of Apathy: a firmament a fantasia\n“In the beginning there was nothing. Then there was everything.” \nIn Circle of Apathy\, the new dance project from House of DOV with live music from Family Junket\, the ensemble explores the cycles of growth and disintegration intrinsic to nature\, and works together to build physical structures which increase in precarity as the group strives toward expansion. “Through creative process\, we’ve sought to understand our own place within the greater ecology of our landscape\, and to experience the human body as a metaphor and microcosm of the natural world\,” says Drew Lewis\, creative director of House of DOV. \nFamily Junket’s five musicians blare dense soul with moments of ambience: voices wail\, altered by a vocal pedal; saxophone\, flute and violin harmonize over precomposed loops; djembe\, drum kit and percussion punctuate echoing acoustic piano. House of DOV’s seven dancers push against seemingly immovable forces\, find new hand and footholds\, and creep forward like a vine up a brick wall. A woman walks through an increasingly dense wood until the brush closes around her entirely. When all paths disappear from sight\, a figure steps blindly forward\, trusting that there will be a stepping stone beneath their foot.
URL:https://gortoncenter.org/event/house-of-dov-2/
LOCATION:Gorton Center\, 400 East Illinois Road\, Lake Forest\, IL\, 60045
CATEGORIES:Events,Performing Arts
ATTACH;FMTTYPE=image/png:https://gortoncenter.org/wp-content/uploads/2026/01/House-of-DOV.png
GEO:42.2506703;-87.8374004
X-APPLE-STRUCTURED-LOCATION;VALUE=URI;X-ADDRESS=Gorton Center 400 East Illinois Road Lake Forest IL 60045;X-APPLE-RADIUS=500;X-TITLE=400 East Illinois Road:geo:-87.8374004,42.2506703
END:VEVENT
END:VCALENDAR