BEGIN:VCALENDAR
VERSION:2.0
PRODID:-//Gorton Center - ECPv6.15.17//NONSGML v1.0//EN
CALSCALE:GREGORIAN
METHOD:PUBLISH
X-ORIGINAL-URL:https://gortoncenter.org
X-WR-CALDESC:Events for Gorton Center
REFRESH-INTERVAL;VALUE=DURATION:PT1H
X-Robots-Tag:noindex
X-PUBLISHED-TTL:PT1H
BEGIN:VTIMEZONE
TZID:America/Chicago
BEGIN:DAYLIGHT
TZOFFSETFROM:-0600
TZOFFSETTO:-0500
TZNAME:CDT
DTSTART:20240310T080000
END:DAYLIGHT
BEGIN:STANDARD
TZOFFSETFROM:-0500
TZOFFSETTO:-0600
TZNAME:CST
DTSTART:20241103T070000
END:STANDARD
BEGIN:DAYLIGHT
TZOFFSETFROM:-0600
TZOFFSETTO:-0500
TZNAME:CDT
DTSTART:20250309T080000
END:DAYLIGHT
BEGIN:STANDARD
TZOFFSETFROM:-0500
TZOFFSETTO:-0600
TZNAME:CST
DTSTART:20251102T070000
END:STANDARD
BEGIN:DAYLIGHT
TZOFFSETFROM:-0600
TZOFFSETTO:-0500
TZNAME:CDT
DTSTART:20260308T080000
END:DAYLIGHT
BEGIN:STANDARD
TZOFFSETFROM:-0500
TZOFFSETTO:-0600
TZNAME:CST
DTSTART:20261101T070000
END:STANDARD
END:VTIMEZONE
BEGIN:VEVENT
DTSTART;TZID=America/Chicago:20250831T190000
DTEND;TZID=America/Chicago:20250831T210000
DTSTAMP:20260423T110211
CREATED:20250625T160047Z
LAST-MODIFIED:20250829T193203Z
UID:20006455-1756666800-1756674000@gortoncenter.org
SUMMARY:Rumours
DESCRIPTION:Don’t Miss The Ultimate Fleetwood Mac Tribute! \nGet ready to experience the magic of Fleetwood Mac like never before. Rumours\, the ultimate tribute band\, brings the legendary sound of Fleetwood Mac to the stage with energy and heart. \nJoin us for a night filled with music\, nostalgia\, and unforgettable moments. From the haunting harmonies of “Rhiannon” to the powerful rhythm of “Go Your Own Way\,” every song is performed with passion and care. \n\n\n\n\n\n\n\n\n\nWhether you’ve been a fan for years or are hearing their music for the first time\, this show is for you. So\, grab your friends\, mark your calendars\, and come celebrate the music that defined a generation. You won’t want the night to end! \n\n\n\n\n\n\n\n\n\n \nRumors was formed in Los Angeles\, CA\, in the Summer of 2012. Since then\, they have traveled all of North America and meticulously put together a show that spares no detail. Recreating the band’s legendary persona\, in all it’s youthful glory from 1975-1987. From period-accurate equipment and costumes to spot-on characterizations and musical performances. \n Rumors takes you back to a time when music was still an unbridled cultural experience and bands weren’t afraid to put on a show. Relive the rock and roll magic with Rumors. \n  \n  \n  \nRosati’s food truck will be at Gorton Center under our Port Chere selling there amazing pizza. Please stop by for a slice of Chicago’s Greatest Thin Crust Pizza!
URL:https://gortoncenter.org/event/rumours/
LOCATION:Gorton Center – John & Nancy Hughes Theater\, 400 E. Illinois Road\, Lake Forest\, IL\, 60045\, United States
CATEGORIES:Events,Live Music
ATTACH;FMTTYPE=image/png:https://gortoncenter.org/wp-content/uploads/2025/06/Rumours-2.png
END:VEVENT
END:VCALENDAR