BEGIN:VCALENDAR
VERSION:2.0
PRODID:-//Gorton Center - ECPv6.15.17//NONSGML v1.0//EN
CALSCALE:GREGORIAN
METHOD:PUBLISH
X-ORIGINAL-URL:https://gortoncenter.org
X-WR-CALDESC:Events for Gorton Center
REFRESH-INTERVAL;VALUE=DURATION:PT1H
X-Robots-Tag:noindex
X-PUBLISHED-TTL:PT1H
BEGIN:VTIMEZONE
TZID:America/Chicago
BEGIN:DAYLIGHT
TZOFFSETFROM:-0600
TZOFFSETTO:-0500
TZNAME:CDT
DTSTART:20240310T080000
END:DAYLIGHT
BEGIN:STANDARD
TZOFFSETFROM:-0500
TZOFFSETTO:-0600
TZNAME:CST
DTSTART:20241103T070000
END:STANDARD
BEGIN:DAYLIGHT
TZOFFSETFROM:-0600
TZOFFSETTO:-0500
TZNAME:CDT
DTSTART:20250309T080000
END:DAYLIGHT
BEGIN:STANDARD
TZOFFSETFROM:-0500
TZOFFSETTO:-0600
TZNAME:CST
DTSTART:20251102T070000
END:STANDARD
BEGIN:DAYLIGHT
TZOFFSETFROM:-0600
TZOFFSETTO:-0500
TZNAME:CDT
DTSTART:20260308T080000
END:DAYLIGHT
BEGIN:STANDARD
TZOFFSETFROM:-0500
TZOFFSETTO:-0600
TZNAME:CST
DTSTART:20261101T070000
END:STANDARD
END:VTIMEZONE
BEGIN:VEVENT
DTSTART;TZID=America/Chicago:20251030T190000
DTEND;TZID=America/Chicago:20251030T203000
DTSTAMP:20260420T091522
CREATED:20250926T185500Z
LAST-MODIFIED:20251022T195717Z
UID:20006706-1761850800-1761856200@gortoncenter.org
SUMMARY:The Mothers' Circle: Find Your Tribe & Tools
DESCRIPTION:Mothers’ Circle is a monthly class that supports and empowers modern moms. Together\, we focus on conscious parenting and raising authentic\, resilient kids. \nYou’ll find a safe\, welcoming space to share your experiences. You’ll gain practical tools and strategies to handle the challenges of motherhood. Most of all\, you’ll connect with other moms who understand your journey. \nWhat you’ll explore: \n\nCommunity – Build connections that leave you supported\, encouraged\, and inspired.\nConscious Parenting – Learn to parent in ways that align with your values and goals.\nMatrescence – Explore the identity shift that comes with becoming a mother.\nMyths of the “Good Mother” – Break free from cultural myths and pressures.\nMindfulness Practices – Try simple tools for self-understanding\, emotion regulation\, and compassion.\n\nThis group welcomes moms of all ages and stages. If you’re seeking a space to grow\, reflect\, and feel resourced\, Mothers’ Circle is for you. \nSpots are limited- sign up today! \nAngele Close
URL:https://gortoncenter.org/event/mothers-circle-october/
LOCATION:Gorton Center\, 400 East Illinois Road\, Lake Forest\, IL\, 60045
CATEGORIES:Adults,Specialty,Wellness
ATTACH;FMTTYPE=image/jpeg:https://gortoncenter.org/wp-content/uploads/2024/08/mother-circle-scaled-1-e1722886264612.jpg
GEO:42.2506703;-87.8374004
X-APPLE-STRUCTURED-LOCATION;VALUE=URI;X-ADDRESS=Gorton Center 400 East Illinois Road Lake Forest IL 60045;X-APPLE-RADIUS=500;X-TITLE=400 East Illinois Road:geo:-87.8374004,42.2506703
END:VEVENT
END:VCALENDAR