BEGIN:VCALENDAR
VERSION:2.0
PRODID:-//Gorton Center - ECPv6.15.17//NONSGML v1.0//EN
CALSCALE:GREGORIAN
METHOD:PUBLISH
X-WR-CALNAME:Gorton Center
X-ORIGINAL-URL:https://gortoncenter.org
X-WR-CALDESC:Events for Gorton Center
REFRESH-INTERVAL;VALUE=DURATION:PT1H
X-Robots-Tag:noindex
X-PUBLISHED-TTL:PT1H
BEGIN:VTIMEZONE
TZID:America/Chicago
BEGIN:DAYLIGHT
TZOFFSETFROM:-0600
TZOFFSETTO:-0500
TZNAME:CDT
DTSTART:20250309T080000
END:DAYLIGHT
BEGIN:STANDARD
TZOFFSETFROM:-0500
TZOFFSETTO:-0600
TZNAME:CST
DTSTART:20251102T070000
END:STANDARD
BEGIN:DAYLIGHT
TZOFFSETFROM:-0600
TZOFFSETTO:-0500
TZNAME:CDT
DTSTART:20260308T080000
END:DAYLIGHT
BEGIN:STANDARD
TZOFFSETFROM:-0500
TZOFFSETTO:-0600
TZNAME:CST
DTSTART:20261101T070000
END:STANDARD
BEGIN:DAYLIGHT
TZOFFSETFROM:-0600
TZOFFSETTO:-0500
TZNAME:CDT
DTSTART:20270314T080000
END:DAYLIGHT
BEGIN:STANDARD
TZOFFSETFROM:-0500
TZOFFSETTO:-0600
TZNAME:CST
DTSTART:20271107T070000
END:STANDARD
END:VTIMEZONE
BEGIN:VEVENT
DTSTART;TZID=America/Chicago:20260212T190000
DTEND;TZID=America/Chicago:20260212T203000
DTSTAMP:20260424T231120
CREATED:20251211T193442Z
LAST-MODIFIED:20260210T171946Z
UID:20006842-1770922800-1770928200@gortoncenter.org
SUMMARY:Moving Meditation
DESCRIPTION:THIS SESSION IS CANCELLED. PLEASE JOIN US FOR THE NEXT ONE ON MARCH 12!\nCome Home to Yourself: A Creative Embodiment Workshop\nTake time to reconnect with your inner wisdom. In this 90-minute moving meditation workshop\, we’ll explore the healing power of writing\, movement\, art\, and connection. \nYou’ll move through a gentle\, yet powerful journey. First\, we’ll begin with reflective journaling. Then\, we’ll shift into 5Rhythms-inspired dance. After that\, you’ll engage in intuitive art-making. Finally\, we’ll come together in heartfelt conversation. \nEach part supports you in slowing down and turning inward. Whether you’re feeling disconnected\, creatively stuck\, or simply need a pause\, this space is here for you. One breath. One expression. One step at a time. \nNo experience is needed – just your body\, your breath\, and a willingness to explore. \nThis is a space for authenticity and curiosity. It’s a place where real connection happens\, your voice is heard\, and your truth is welcome. Give yourself the gift of coming home to yourself- sign up for moving meditation today. \nAbout Your Guide: Julie Greenberg\nJulie Greenberg is the founder of Creative Awakening and a passionate guide who uses embodiment\, Human Design\, and self-expression to help others reconnect with who they are and what matters most. With a background in movement\, mindfulness\, intuitive tools\, and energy work\, she creates soulful\, playful spaces grounded in real-life transformation \n.
URL:https://gortoncenter.org/event/moving-meditation-february-12/
LOCATION:Gorton Center\, 400 East Illinois Road\, Lake Forest\, IL\, 60045
CATEGORIES:Adults,Classes,Music,Wellness
ATTACH;FMTTYPE=image/png:https://gortoncenter.org/wp-content/uploads/2025/07/Julie-Greenberg.png
GEO:42.2506703;-87.8374004
X-APPLE-STRUCTURED-LOCATION;VALUE=URI;X-ADDRESS=Gorton Center 400 East Illinois Road Lake Forest IL 60045;X-APPLE-RADIUS=500;X-TITLE=400 East Illinois Road:geo:-87.8374004,42.2506703
END:VEVENT
END:VCALENDAR