BEGIN:VCALENDAR
VERSION:2.0
PRODID:-//Gorton Center - ECPv6.15.17//NONSGML v1.0//EN
CALSCALE:GREGORIAN
METHOD:PUBLISH
X-WR-CALNAME:Gorton Center
X-ORIGINAL-URL:https://gortoncenter.org
X-WR-CALDESC:Events for Gorton Center
REFRESH-INTERVAL;VALUE=DURATION:PT1H
X-Robots-Tag:noindex
X-PUBLISHED-TTL:PT1H
BEGIN:VTIMEZONE
TZID:America/Chicago
BEGIN:DAYLIGHT
TZOFFSETFROM:-0600
TZOFFSETTO:-0500
TZNAME:CDT
DTSTART:20250309T080000
END:DAYLIGHT
BEGIN:STANDARD
TZOFFSETFROM:-0500
TZOFFSETTO:-0600
TZNAME:CST
DTSTART:20251102T070000
END:STANDARD
BEGIN:DAYLIGHT
TZOFFSETFROM:-0600
TZOFFSETTO:-0500
TZNAME:CDT
DTSTART:20260308T080000
END:DAYLIGHT
BEGIN:STANDARD
TZOFFSETFROM:-0500
TZOFFSETTO:-0600
TZNAME:CST
DTSTART:20261101T070000
END:STANDARD
BEGIN:DAYLIGHT
TZOFFSETFROM:-0600
TZOFFSETTO:-0500
TZNAME:CDT
DTSTART:20270314T080000
END:DAYLIGHT
BEGIN:STANDARD
TZOFFSETFROM:-0500
TZOFFSETTO:-0600
TZNAME:CST
DTSTART:20271107T070000
END:STANDARD
END:VTIMEZONE
BEGIN:VEVENT
DTSTART;TZID=America/Chicago:20260107T100000
DTEND;TZID=America/Chicago:20260107T120000
DTSTAMP:20260421T095036
CREATED:20251113T155207Z
LAST-MODIFIED:20251118T184825Z
UID:20006783-1767780000-1767787200@gortoncenter.org
SUMMARY:Open Play Mahjong
DESCRIPTION:Calling all Mahjong enthusiasts. Join us for Open Play Mahjong\, a relaxed and social way to enjoy the game you love. These sessions are for intermediate to advanced players who already know the rules. No instruction is offered. \nBring your strategy and a little friendly competition. Connect with other experienced players. Open Play is a great way to practice\, stay sharp\, and enjoy the challenge of Mahjong. \nWe provide all Mahjong sets. Please bring your own Mahjong card. \nPre-registration is required. Drop-ins can’t be accommodated\, so be sure to register early to save your spot. \nWe look forward to seeing you at the table.
URL:https://gortoncenter.org/event/open-play-mahjong-jan-7/
LOCATION:Gorton Center\, 400 East Illinois Road\, Lake Forest\, IL\, 60045
CATEGORIES:Adults,Classes,Games
ATTACH;FMTTYPE=image/png:https://gortoncenter.org/wp-content/uploads/2025/09/Mahjong-Open-Play.png
GEO:42.2506703;-87.8374004
X-APPLE-STRUCTURED-LOCATION;VALUE=URI;X-ADDRESS=Gorton Center 400 East Illinois Road Lake Forest IL 60045;X-APPLE-RADIUS=500;X-TITLE=400 East Illinois Road:geo:-87.8374004,42.2506703
END:VEVENT
BEGIN:VEVENT
DTSTART;TZID=America/Chicago:20260113T183000
DTEND;TZID=America/Chicago:20260113T203000
DTSTAMP:20260421T095036
CREATED:20251111T202833Z
LAST-MODIFIED:20251118T182643Z
UID:20006778-1768329000-1768336200@gortoncenter.org
SUMMARY:Mahjong 101 with Windy City Mahjong
DESCRIPTION:Mahjong Workshop for Beginners\nStart from scratch with us. This class is for anyone new to American Mahjong. We begin with the tiles. You’ll see how each one works and why it matters. \nNext\, we dive into the NMJL Card. You’ll learn how hands form and how scoring works. Then we practice dealing. We take it step by step so everyone feels confident setting up a game. \nWe also teach The Charleston. It’s the quick\, strategic tile-exchange that makes the game even more fun. \nTo finish\, we play a full game. You’ll use your new skills right away in a friendly\, supportive setting. It’s the perfect way to start your Mahjong journey. \nCaroline Larew:  Caroline Larew is an American Mahjong instructor in the northern suburbs of Chicago and the founder of  Windy City Mahjong. Drawn to the game for its blend of strategy and camaraderie\, she loves how it offers both a mental challenge and a reason to spend time with friends. \nCaroline brings a strong professional foundation to Windy City Mahjong\, shaped by years in finance and investing. After earning her MBA from the Stanford Graduate School of Business\, she built a career in private equity before an unexpected breast cancer diagnosis led her to rethink her priorities. Now healthy and cancer-free\, Caroline has found renewed purpose in teaching and building community through Mahjong — a space where strategy\, connection\, and joy intersect. \nA mother of three\, she can often be found cruising around the suburbs in her minivan full of kids\, on the pickleball court\, sharing coffee with friends\, or hunting for hidden gems at estate sales.
URL:https://gortoncenter.org/event/mahjong-101-with-windy-city-mahjong/
LOCATION:Gorton Center\, 400 East Illinois Road\, Lake Forest\, IL\, 60045
CATEGORIES:Adults,Classes,Games
ATTACH;FMTTYPE=image/jpeg:https://gortoncenter.org/wp-content/uploads/2025/11/Windy-City-Mahjong.jpeg
GEO:42.2506703;-87.8374004
X-APPLE-STRUCTURED-LOCATION;VALUE=URI;X-ADDRESS=Gorton Center 400 East Illinois Road Lake Forest IL 60045;X-APPLE-RADIUS=500;X-TITLE=400 East Illinois Road:geo:-87.8374004,42.2506703
END:VEVENT
BEGIN:VEVENT
DTSTART;TZID=America/Chicago:20260114T100000
DTEND;TZID=America/Chicago:20260114T120000
DTSTAMP:20260421T095036
CREATED:20251216T204304Z
LAST-MODIFIED:20260112T212605Z
UID:20006854-1768384800-1768392000@gortoncenter.org
SUMMARY:Open Play Mahjong
DESCRIPTION:You Took the Class\, Now Come Play!\nCalling all Mahjong enthusiasts. Let’s get to the table. \nIf you love the strategy\, pace and subtle competition of a great game\, Open Play Mahjong is your chance to play more and connect more. These sessions are designed for intermediate to advanced players who already know the rules and are ready to dive in. There’s no instruction here. Instead\, we focus on play\, flow and the joy of the game itself. \nFirst\, bring your strategy. Then read the room\, track the tiles and make confident moves. Open Play Mahjong gives you uninterrupted time to sharpen your skills and stretch your thinking. Each session allows for multiple hands\, steady momentum and meaningful play that keeps you engaged from start to finish. \nAt the same time\, Open Play is about connection. Between turns\, conversations spark. Familiar faces become friendly rivals. Over time\, a community forms around a shared love of Mahjong. Whether you’re a regular player or returning to the table after a break\, you’ll find a welcoming group that knows the game and enjoys playing it well. \nMeanwhile\, we take care of the setup. We provide all Mahjong sets\, so everything is ready when you arrive. Just be sure to bring your own Mahjong card\, as cards are not supplied. \nBecause space is limited\, pre-registration is required. Drop-ins can’t be accommodated. Register early to secure your seat and help us create the best experience for everyone at the table. \nSo if you’re looking for focused play\, smart strategy and great company\, this is your moment. Pull up a chair. Mix the tiles. Settle in. We’re ready to play — and we can’t wait to see you there.
URL:https://gortoncenter.org/event/open-play-mahjong-january-14/
LOCATION:Gorton Center\, 400 East Illinois Road\, Lake Forest\, IL\, 60045
CATEGORIES:Adults,Classes,Games
ATTACH;FMTTYPE=image/png:https://gortoncenter.org/wp-content/uploads/2025/09/Mahjong-Open-Play.png
GEO:42.2506703;-87.8374004
X-APPLE-STRUCTURED-LOCATION;VALUE=URI;X-ADDRESS=Gorton Center 400 East Illinois Road Lake Forest IL 60045;X-APPLE-RADIUS=500;X-TITLE=400 East Illinois Road:geo:-87.8374004,42.2506703
END:VEVENT
BEGIN:VEVENT
DTSTART;TZID=America/Chicago:20260120T183000
DTEND;TZID=America/Chicago:20260120T203000
DTSTAMP:20260421T095036
CREATED:20251230T174339Z
LAST-MODIFIED:20251230T174339Z
UID:20006886-1768933800-1768941000@gortoncenter.org
SUMMARY:Mahjong 101 with Windy City Mahjong
DESCRIPTION:Mahjong Workshop for Beginners\nStart from scratch with us. This class is for anyone new to American Mahjong. We begin with the tiles. You’ll see how each one works and why it matters. \nNext\, we dive into the NMJL Card. You’ll learn how hands form and how scoring works. Then we practice dealing. We take it step by step so everyone feels confident setting up a game. \nWe also teach The Charleston. It’s the quick\, strategic tile-exchange that makes the game even more fun. \nTo finish\, we play a full game. You’ll use your new skills right away in a friendly\, supportive setting. It’s the perfect way to start your Mahjong journey. \nCaroline Larew:  Caroline Larew is an American Mahjong instructor in the northern suburbs of Chicago and the founder of  Windy City Mahjong. Drawn to the game for its blend of strategy and camaraderie\, she loves how it offers both a mental challenge and a reason to spend time with friends. \nCaroline brings a strong professional foundation to Windy City Mahjong\, shaped by years in finance and investing. After earning her MBA from the Stanford Graduate School of Business\, she built a career in private equity before an unexpected breast cancer diagnosis led her to rethink her priorities. Now healthy and cancer-free\, Caroline has found renewed purpose in teaching and building community through Mahjong — a space where strategy\, connection\, and joy intersect. \nA mother of three\, she can often be found cruising around the suburbs in her minivan full of kids\, on the pickleball court\, sharing coffee with friends\, or hunting for hidden gems at estate sales.
URL:https://gortoncenter.org/event/mahjong-101-with-windy-city-mahjong-january-20/
LOCATION:Gorton Center\, 400 East Illinois Road\, Lake Forest\, IL\, 60045
CATEGORIES:Adults,Classes,Games
ATTACH;FMTTYPE=image/jpeg:https://gortoncenter.org/wp-content/uploads/2025/11/Windy-City-Mahjong.jpeg
GEO:42.2506703;-87.8374004
X-APPLE-STRUCTURED-LOCATION;VALUE=URI;X-ADDRESS=Gorton Center 400 East Illinois Road Lake Forest IL 60045;X-APPLE-RADIUS=500;X-TITLE=400 East Illinois Road:geo:-87.8374004,42.2506703
END:VEVENT
BEGIN:VEVENT
DTSTART;TZID=America/Chicago:20260121T100000
DTEND;TZID=America/Chicago:20260121T120000
DTSTAMP:20260421T095036
CREATED:20251216T204620Z
LAST-MODIFIED:20260120T174813Z
UID:20006855-1768989600-1768996800@gortoncenter.org
SUMMARY:Open Play Mahjong
DESCRIPTION:Please plan to arrive early\, play starts promptly at 10am!\nCalling all Mahjong enthusiasts. Join us for Open Play Mahjong\, a relaxed and social way to enjoy the game you love. These sessions are for intermediate to advanced players who already know the rules. No instruction is offered. \nBring your strategy and a little friendly competition. Connect with other experienced players. Open Play is a great way to practice\, stay sharp\, and enjoy the challenge of Mahjong. \nWe provide all Mahjong sets. Please bring your own Mahjong card. \nPre-registration is required. Drop-ins can’t be accommodated\, so be sure to register early to save your spot. \nWe look forward to seeing you at the table.
URL:https://gortoncenter.org/event/open-play-mahjong-january-21/
LOCATION:Gorton Center\, 400 East Illinois Road\, Lake Forest\, IL\, 60045
CATEGORIES:Adults,Classes,Games
ATTACH;FMTTYPE=image/png:https://gortoncenter.org/wp-content/uploads/2025/09/Mahjong-Open-Play.png
GEO:42.2506703;-87.8374004
X-APPLE-STRUCTURED-LOCATION;VALUE=URI;X-ADDRESS=Gorton Center 400 East Illinois Road Lake Forest IL 60045;X-APPLE-RADIUS=500;X-TITLE=400 East Illinois Road:geo:-87.8374004,42.2506703
END:VEVENT
BEGIN:VEVENT
DTSTART;TZID=America/Chicago:20260127T183000
DTEND;TZID=America/Chicago:20260127T203000
DTSTAMP:20260421T095036
CREATED:20251111T203558Z
LAST-MODIFIED:20251205T153822Z
UID:20006779-1769538600-1769545800@gortoncenter.org
SUMMARY:Mahjong 102 with Windy City Mahjong
DESCRIPTION:Mahjong Workshop for Intermediate/Players with an Understanding of Fundamentals\nThis “guided play” class is ideal for players who know the basics of American Mahjong and want to strengthen their skills. We keep the group small to ensure steady table time. You get personalized guidance\, real gameplay practice\, and clear\, constructive feedback. \nFirst\, we reinforce the fundamentals. Then we shift into strategy. You’ll practice defensive play and learn to read your opponents. You’ll refine your tile selection\, timing\, and overall decision-making. Each round adds focused tips and gentle instruction. These moments help you think ahead\, evaluate risk\, and build confidence. \nAs the class moves forward\, your game becomes more intentional and more intuitive. By the end\, you’ll feel more confident and more strategic. You’ll also enjoy the lively\, social rhythm of playing with others who share your enthusiasm for this classic game. \nCaroline Larew:  \nCaroline Larew is an American Mahjong instructor in the northern suburbs of Chicago and the founder of  Windy City Mahjong. Drawn to the game for its blend of strategy and camaraderie\, she loves how it offers both a mental challenge and a reason to spend time with friends. \nCaroline brings a strong professional foundation to Windy City Mahjong\, shaped by years in finance and investing. After earning her MBA from the Stanford Graduate School of Business\, she built a career in private equity before an unexpected breast cancer diagnosis led her to rethink her priorities. Now healthy and cancer-free\, Caroline has found renewed purpose in teaching and building community through Mahjong — a space where strategy\, connection\, and joy intersect. \nA mother of three\, she can often be found cruising around the suburbs in her minivan full of kids\, on the pickleball court\, sharing coffee with friends\, or hunting for hidden gems at estate sales.
URL:https://gortoncenter.org/event/mahjong-102-with-windy-city-mahjong/
LOCATION:Gorton Center\, 400 East Illinois Road\, Lake Forest\, IL\, 60045
CATEGORIES:Adults,Classes,Games,Specialty
ATTACH;FMTTYPE=image/jpeg:https://gortoncenter.org/wp-content/uploads/2025/11/Windy-City-Mahjong.jpeg
GEO:42.2506703;-87.8374004
X-APPLE-STRUCTURED-LOCATION;VALUE=URI;X-ADDRESS=Gorton Center 400 East Illinois Road Lake Forest IL 60045;X-APPLE-RADIUS=500;X-TITLE=400 East Illinois Road:geo:-87.8374004,42.2506703
END:VEVENT
BEGIN:VEVENT
DTSTART;TZID=America/Chicago:20260128T100000
DTEND;TZID=America/Chicago:20260128T120000
DTSTAMP:20260421T095036
CREATED:20251216T204956Z
LAST-MODIFIED:20260120T174900Z
UID:20006856-1769594400-1769601600@gortoncenter.org
SUMMARY:Open Play Mahjong
DESCRIPTION:Please plan to arrive early\, play starts promptly at 10am!\nCalling all Mahjong enthusiasts. Join us for Open Play Mahjong\, a relaxed and social way to enjoy the game you love. These sessions are for intermediate to advanced players who already know the rules. No instruction is offered. \nBring your strategy and a little friendly competition. Connect with other experienced players. Open Play is a great way to practice\, stay sharp\, and enjoy the challenge of Mahjong. \nWe provide all Mahjong sets. Please bring your own Mahjong card. \nPre-registration is required. Drop-ins can’t be accommodated\, so be sure to register early to save your spot. \nWe look forward to seeing you at the table.
URL:https://gortoncenter.org/event/open-play-mahjong-january-28/
LOCATION:Gorton Center\, 400 East Illinois Road\, Lake Forest\, IL\, 60045
CATEGORIES:Adults,Classes,Games
ATTACH;FMTTYPE=image/png:https://gortoncenter.org/wp-content/uploads/2025/09/Mahjong-Open-Play.png
GEO:42.2506703;-87.8374004
X-APPLE-STRUCTURED-LOCATION;VALUE=URI;X-ADDRESS=Gorton Center 400 East Illinois Road Lake Forest IL 60045;X-APPLE-RADIUS=500;X-TITLE=400 East Illinois Road:geo:-87.8374004,42.2506703
END:VEVENT
END:VCALENDAR