BEGIN:VCALENDAR
VERSION:2.0
PRODID:-//Gorton Center - ECPv6.15.17//NONSGML v1.0//EN
CALSCALE:GREGORIAN
METHOD:PUBLISH
X-ORIGINAL-URL:https://gortoncenter.org
X-WR-CALDESC:Events for Gorton Center
REFRESH-INTERVAL;VALUE=DURATION:PT1H
X-Robots-Tag:noindex
X-PUBLISHED-TTL:PT1H
BEGIN:VTIMEZONE
TZID:America/Chicago
BEGIN:DAYLIGHT
TZOFFSETFROM:-0600
TZOFFSETTO:-0500
TZNAME:CDT
DTSTART:20240310T080000
END:DAYLIGHT
BEGIN:STANDARD
TZOFFSETFROM:-0500
TZOFFSETTO:-0600
TZNAME:CST
DTSTART:20241103T070000
END:STANDARD
BEGIN:DAYLIGHT
TZOFFSETFROM:-0600
TZOFFSETTO:-0500
TZNAME:CDT
DTSTART:20250309T080000
END:DAYLIGHT
BEGIN:STANDARD
TZOFFSETFROM:-0500
TZOFFSETTO:-0600
TZNAME:CST
DTSTART:20251102T070000
END:STANDARD
BEGIN:DAYLIGHT
TZOFFSETFROM:-0600
TZOFFSETTO:-0500
TZNAME:CDT
DTSTART:20260308T080000
END:DAYLIGHT
BEGIN:STANDARD
TZOFFSETFROM:-0500
TZOFFSETTO:-0600
TZNAME:CST
DTSTART:20261101T070000
END:STANDARD
END:VTIMEZONE
BEGIN:VEVENT
DTSTART;TZID=America/Chicago:20251217T100000
DTEND;TZID=America/Chicago:20251217T120000
DTSTAMP:20260421T114132
CREATED:20251119T151736Z
LAST-MODIFIED:20251203T174819Z
UID:20006796-1765965600-1765972800@gortoncenter.org
SUMMARY:Mahjong
DESCRIPTION:THIS IS A CONTINUATION CLASS FOR RETURNING STUDENTS AND SEASONED PLAYERS!\nReady for fun\, strategy\, and a little friendly competition? Come learn Mahjong with friends and neighbors! In just four weeks\, you’ll master the basics of National Mahjong rules. The game is fast\, social\, and exciting. Even better\, it’s the perfect way to connect with people – whether you bring a friend or meet new ones at the table. \nYour instructor\, Debbie\, makes learning easy. She’ll group players by skill level and give clear\, personalized guidance. New to Mahjong? You’ll learn step by step. Played before? You’ll discover fresh strategies and sharpen your skills. There’s always more to explore! \nAbout Mahjong\nSo\, what is Mahjong? It’s a tile-based tabletop game that began in 19th-century China. Since then\, it has spread worldwide. While rules vary by region\, most versions focus on building sets of matching tiles. The American style\, created in the 1920s\, is now the most popular in the U.S. – and it’s the one you’ll learn here. \nAnd here’s the best part: Mahjong isn’t just fun. It’s also a mental workout. Research shows games like this can boost memory\, sharpen focus\, and even help protect long-term brain health. \nSo\, why wait? Sign up today. Bring your curiosity\, a sense of play\, and maybe a friend. This class will challenge your mind\, lift your spirits\, and add a burst of excitement to your week. \nMahjong cards can be purchased through the American Mahjong League  \nDebbie Meyer has been playing Mahjong for over 15 years. She loves the game and how each hand is different. Debbie’s passion is to teach the game of Mahjong to others!
URL:https://gortoncenter.org/event/mahjong-december-17/
LOCATION:Gorton Center\, 400 East Illinois Road\, Lake Forest\, IL\, 60045
CATEGORIES:Adults,Classes,Games
ATTACH;FMTTYPE=image/jpeg:https://gortoncenter.org/wp-content/uploads/2025/09/Mahjong-USE.jpg
GEO:42.2506703;-87.8374004
X-APPLE-STRUCTURED-LOCATION;VALUE=URI;X-ADDRESS=Gorton Center 400 East Illinois Road Lake Forest IL 60045;X-APPLE-RADIUS=500;X-TITLE=400 East Illinois Road:geo:-87.8374004,42.2506703
END:VEVENT
END:VCALENDAR