BEGIN:VCALENDAR
VERSION:2.0
PRODID:-//Gorton Center - ECPv6.15.17//NONSGML v1.0//EN
CALSCALE:GREGORIAN
METHOD:PUBLISH
X-ORIGINAL-URL:https://gortoncenter.org
X-WR-CALDESC:Events for Gorton Center
REFRESH-INTERVAL;VALUE=DURATION:PT1H
X-Robots-Tag:noindex
X-PUBLISHED-TTL:PT1H
BEGIN:VTIMEZONE
TZID:America/Chicago
BEGIN:DAYLIGHT
TZOFFSETFROM:-0600
TZOFFSETTO:-0500
TZNAME:CDT
DTSTART:20240310T080000
END:DAYLIGHT
BEGIN:STANDARD
TZOFFSETFROM:-0500
TZOFFSETTO:-0600
TZNAME:CST
DTSTART:20241103T070000
END:STANDARD
BEGIN:DAYLIGHT
TZOFFSETFROM:-0600
TZOFFSETTO:-0500
TZNAME:CDT
DTSTART:20250309T080000
END:DAYLIGHT
BEGIN:STANDARD
TZOFFSETFROM:-0500
TZOFFSETTO:-0600
TZNAME:CST
DTSTART:20251102T070000
END:STANDARD
BEGIN:DAYLIGHT
TZOFFSETFROM:-0600
TZOFFSETTO:-0500
TZNAME:CDT
DTSTART:20260308T080000
END:DAYLIGHT
BEGIN:STANDARD
TZOFFSETFROM:-0500
TZOFFSETTO:-0600
TZNAME:CST
DTSTART:20261101T070000
END:STANDARD
END:VTIMEZONE
BEGIN:VEVENT
DTSTART;TZID=America/Chicago:20250707T123000
DTEND;TZID=America/Chicago:20250707T153000
DTSTAMP:20260420T095135
CREATED:20240223T195012Z
LAST-MODIFIED:20250521T144352Z
UID:20005895-1751891400-1751902200@gortoncenter.org
SUMMARY:EV Fine Arts: Jewelry Design Camp
DESCRIPTION:Jewelry Design Camp: Create\, Shine & Showcase!\nGet ready to sparkle! In this exciting\, hands-on jewelry design camp\, young creators will have the opportunity to design and craft their very own unique jewelry pieces from start to finish. \nThroughout the week\, campers will learn from experienced young fashion designers who will guide them through the art of working with polymer clay to create beautiful handmade necklaces\, bracelets\, earrings\, and more. From color mixing and shaping to adding personal touches\, students will explore their creativity while developing real design skills. \nAt the end\, campers will show off their creations in a fun end-of-week fashion show\, where family and friends are invited to celebrate their hard work and creativity on display! \nEach camper will complete at least five original pieces to take home\, and all materials and supplies are included in the camp price. Whether your child is a budding designer or just loves to make things with their hands\, this camp is a perfect blend of fun\, fashion\, and artistic expression. \nNo prior experience is necessary\, just bring your imagination and enthusiasm! \nFor those students who are looking to attend more than one week of camp\, please note that each week will feature a different series of projects as well as new clay colors and designs to choose from. Ages 6 – 13 \n \nElena Victoria is a local fashion designer who has gone on to find her true passion in teaching youth how to design and sew their own clothing and jewelry through her program\, EV Fine Arts. Come learn from real fashion designers in the industry and start making your own handmade jewelry!
URL:https://gortoncenter.org/event/ev-fine-arts-jewelry-design-camp-3/
LOCATION:Gorton Center\, 400 East Illinois Road\, Lake Forest\, IL\, 60045
CATEGORIES:Art,Camps,Classes,Specialty,Youth
ATTACH;FMTTYPE=image/jpeg:https://gortoncenter.org/wp-content/uploads/2024/02/jewelry-body-2.jpg
GEO:42.2506703;-87.8374004
X-APPLE-STRUCTURED-LOCATION;VALUE=URI;X-ADDRESS=Gorton Center 400 East Illinois Road Lake Forest IL 60045;X-APPLE-RADIUS=500;X-TITLE=400 East Illinois Road:geo:-87.8374004,42.2506703
END:VEVENT
END:VCALENDAR