BEGIN:VCALENDAR
VERSION:2.0
PRODID:-//Gorton Center - ECPv6.15.17//NONSGML v1.0//EN
CALSCALE:GREGORIAN
METHOD:PUBLISH
X-ORIGINAL-URL:https://gortoncenter.org
X-WR-CALDESC:Events for Gorton Center
REFRESH-INTERVAL;VALUE=DURATION:PT1H
X-Robots-Tag:noindex
X-PUBLISHED-TTL:PT1H
BEGIN:VTIMEZONE
TZID:America/Chicago
BEGIN:DAYLIGHT
TZOFFSETFROM:-0600
TZOFFSETTO:-0500
TZNAME:CDT
DTSTART:20250309T080000
END:DAYLIGHT
BEGIN:STANDARD
TZOFFSETFROM:-0500
TZOFFSETTO:-0600
TZNAME:CST
DTSTART:20251102T070000
END:STANDARD
BEGIN:DAYLIGHT
TZOFFSETFROM:-0600
TZOFFSETTO:-0500
TZNAME:CDT
DTSTART:20260308T080000
END:DAYLIGHT
BEGIN:STANDARD
TZOFFSETFROM:-0500
TZOFFSETTO:-0600
TZNAME:CST
DTSTART:20261101T070000
END:STANDARD
BEGIN:DAYLIGHT
TZOFFSETFROM:-0600
TZOFFSETTO:-0500
TZNAME:CDT
DTSTART:20270314T080000
END:DAYLIGHT
BEGIN:STANDARD
TZOFFSETFROM:-0500
TZOFFSETTO:-0600
TZNAME:CST
DTSTART:20271107T070000
END:STANDARD
END:VTIMEZONE
BEGIN:VEVENT
DTSTART;TZID=America/Chicago:20260412T100000
DTEND;TZID=America/Chicago:20260412T113000
DTSTAMP:20260424T220042
CREATED:20260120T190553Z
LAST-MODIFIED:20260203T173049Z
UID:20006954-1775988000-1775993400@gortoncenter.org
SUMMARY:Turning Teen: Body Basics for Girls
DESCRIPTION:Turning Teen is here for #GirlMoms\, #GirlDads\, and any other trusted adult in a young person’s life. We know it can be hard to talk with a girl about puberty. Or sexual or mental health. And other issues relating to her body. After all\, many of our parents found it hard\, too. Some of us never learned how to discuss – without secrecy\, embarrassment\, or worse\, shame – what it means to turn into a teen. \nWe can fix that. Turning Teen has the support and guidance you need. Interactive classes and workshops\, offered in person or online\, provide age-appropriate\, medically accurate information in an engaging and fun setting. \nIn this workshop\, you will learn about female anatomy\, puberty\, body changes\, body safety\, and more! Turning Teen offers interactive pediatrician-developed educational workshops that are fun\, modern\, and medically accurate! \nFor girls 8+ (who haven’t started puberty yet or are in the early stages) and their parent/trusted adult. \nTurning Teen\, founded by Dr. Lisa Klein and Dr. Carrie Leff\, helps families talk openly about puberty\, bodies\, and sex. Our programs\, led by medical and mental health professionals\, provide accurate\, age-appropriate information to make these conversations more comfortable for kids and their caregivers.   \nDr. Jessica Reggi is Chicagoland’s Turning Teen board-certified pediatrician. She practiced clinical pediatrics throughout Chicago for about eight years before transitioning to nonprofit leadership. She is passionate about the intersection of health and education and has facilitated trainings about vaccines\, vaping\, and more for school districts\, community organizations\, and health champions across the country. 
URL:https://gortoncenter.org/event/turning-teen-body-basics-for-girls/
LOCATION:Gorton Center\, 400 East Illinois Road\, Lake Forest\, IL\, 60045
CATEGORIES:Classes,Specialty,Wellness,Youth
ATTACH;FMTTYPE=image/png:https://gortoncenter.org/wp-content/uploads/2026/01/body-basics-girls-alt.png
GEO:42.2506703;-87.8374004
X-APPLE-STRUCTURED-LOCATION;VALUE=URI;X-ADDRESS=Gorton Center 400 East Illinois Road Lake Forest IL 60045;X-APPLE-RADIUS=500;X-TITLE=400 East Illinois Road:geo:-87.8374004,42.2506703
END:VEVENT
END:VCALENDAR