BEGIN:VCALENDAR
VERSION:2.0
PRODID:-//Gorton Center - ECPv6.15.17//NONSGML v1.0//EN
CALSCALE:GREGORIAN
METHOD:PUBLISH
X-ORIGINAL-URL:https://gortoncenter.org
X-WR-CALDESC:Events for Gorton Center
REFRESH-INTERVAL;VALUE=DURATION:PT1H
X-Robots-Tag:noindex
X-PUBLISHED-TTL:PT1H
BEGIN:VTIMEZONE
TZID:America/Chicago
BEGIN:DAYLIGHT
TZOFFSETFROM:-0600
TZOFFSETTO:-0500
TZNAME:CDT
DTSTART:20220313T080000
END:DAYLIGHT
BEGIN:STANDARD
TZOFFSETFROM:-0500
TZOFFSETTO:-0600
TZNAME:CST
DTSTART:20221106T070000
END:STANDARD
BEGIN:DAYLIGHT
TZOFFSETFROM:-0600
TZOFFSETTO:-0500
TZNAME:CDT
DTSTART:20230312T080000
END:DAYLIGHT
BEGIN:STANDARD
TZOFFSETFROM:-0500
TZOFFSETTO:-0600
TZNAME:CST
DTSTART:20231105T070000
END:STANDARD
BEGIN:DAYLIGHT
TZOFFSETFROM:-0600
TZOFFSETTO:-0500
TZNAME:CDT
DTSTART:20240310T080000
END:DAYLIGHT
BEGIN:STANDARD
TZOFFSETFROM:-0500
TZOFFSETTO:-0600
TZNAME:CST
DTSTART:20241103T070000
END:STANDARD
END:VTIMEZONE
BEGIN:VEVENT
DTSTART;TZID=America/Chicago:20230511T190000
DTEND;TZID=America/Chicago:20230511T200000
DTSTAMP:20260421T114456
CREATED:20230509T201140Z
LAST-MODIFIED:20230918T202143Z
UID:20003077-1683831600-1683835200@gortoncenter.org
SUMMARY:FAN- Above Ground: A Conversation with Clint Smith
DESCRIPTION:BONUS BOOK GIVEAWAY! FAN is giving away copies of Above Ground to guests randomly selected from the Zoom attendance report. All details on the webinar registration page. \nClint Smith\, Ph.D.’s vibrant and compelling new poetry collection\, the New York Times bestseller Above Ground\, traverses the vast emotional terrain of fatherhood and explores how becoming a parent has recalibrated his sense of the world. There are poems that interrogate the ways our lives are shaped by both personal lineages and historical institutions. There are poems that revel in the wonder of discovering the world anew through the eyes of your children\, as they discover it for the first time. There are poems that meditate on what it means to raise a family in a world filled with constant social and political tumult. Above Ground wrestles with how we hold wonder and despair in the same hands\, how we carry intimate moments of joy and a collective sense of mourning in the same body. \nSmith is the #1 New York Times bestselling author of How the Word Is Passed: A Reckoning With the History of Slavery Across America\, winner of the National Book Critics Circle Award for Nonfiction\, the Hillman Prize for Book Journalism\, the Stowe Prize\, the Dayton Literary Peace Prize\, and selected by the New York Times as one of the 10 Best Books of 2021. He is a staff writer at The Atlantic. \nSmith’s essays\, poems\, and scholarly writing have been published in The New Yorker\, The New York Times Magazine\, The New Republic\, Poetry Magazine\, The Paris Review\, the Harvard Educational Review\, and elsewhere. He is a former National Poetry Slam champion and a recipient of the Jerome J. Shestack Prize from the American Poetry Review. \nPreviously\, Smith taught high school English in Prince George’s County\, Maryland where he was named the Christine D. Sarbanes Teacher of the Year by the Maryland Humanities Council. He is the host of the YouTube series Crash Course Black American History. He received his B.A. in English from Davidson College and his Ph.D. in Education from Harvard University. \nSmith will be in conversation with Marcus Campbell\, Ed.D.\, Superintendent of Evanston Township High school D202. Dr. Campbell has 22 years of experience at ETHS\, starting as an English teacher\, and has played a central role in the district’s equity transformation programs and initiatives. \nThis event suitable for youth 12+. It will be recorded and available on FAN’s website and YouTube channel. \nThis event is presented by Family Action Network (FAN). Gorton Center is proud to partner with FAN as a sponsor of this event to bring this programming to our patrons. 
URL:https://gortoncenter.org/event/fan-above-ground-a-conversation-with-clint-smith/
LOCATION:IL
CATEGORIES:Events
ATTACH;FMTTYPE=image/png:https://gortoncenter.org/wp-content/uploads/2023/05/Screenshot-2023-05-09-101018.png
END:VEVENT
BEGIN:VEVENT
DTSTART;TZID=America/Chicago:20230512T190000
DTEND;TZID=America/Chicago:20230512T203000
DTSTAMP:20260421T114456
CREATED:20230509T201813Z
LAST-MODIFIED:20230918T202136Z
UID:20003078-1683918000-1683923400@gortoncenter.org
SUMMARY:FAN- Selfless: The Social Creation of “You”
DESCRIPTION:There’s nothing we spend more time with\, but understand less\, than ourselves. You’ve been with yourself every waking moment of your life. But who—or\, rather\, what—are you? In Selfless: The Social Creation of “You\,” social psychologist and Stanford University professor Brian Lowery\, Ph.D. argues for the radical idea that the “self” as we know it—that “voice in your head”—is a social construct\, created in our relationships and social interactions. We are unique because our individual pattern of relationships is unique. We change because our relationships change. Your self isn’t just you\, it’s all around you. \nProf. Lowery uses this research-driven perspective of selfhood to explore questions of inequity\, race\, gender\, politics\, and power structures\, transforming our perceptions of how the world is and how it could be. His theory offers insight into how powerful people manage their environment in sophisticated\, often unconscious\, ways to maintain the status quo; explains our competing drives for deep social connection and personal freedom; and answers profound\, personal questions such as: Why has my sense of self evolved over time? Why do I sometimes stop short of changes that I want to make in life? \nIn Selfless\, Prof. Lowery persuasively breaks down common assumptions and beliefs; his insights are humbling. Despite what many may think\, we aren’t islands unto ourselves; we are the creation of the many hands that touch us. We don’t just exist in communities\, we are created and shaped by them. Our highs and lows are not only our own but belong to others as well. By recognizing that we are products of relationships—from fleeting transactions to deep associations—we shatter the myth of individualism and free ourselves to make our lives and the world accordingly. \nProf. Lowery is the Walter Kenneth Kilpatrick Professor of Organizational Behavior at Stanford University’s Graduate School of Business\, and the co-director of Stanford’s new Institute on Race. He also hosts the podcast Know What You See. He will be in conversation with Marcus Campbell\, Ed.D.\, Superintendent of Evanston Township High School D202. \nThis event suitable for youth 12+. The event will be recorded but not live streamed. The video will be available on FAN’s website and YouTube channel. \nNO REGISTRATION REQUIRED \nThis event is presented by Family Action Network (FAN). Gorton Center is proud to partner with FAN as a sponsor of this event to bring this programming to our patrons. 
URL:https://gortoncenter.org/event/fan-selfless-the-social-creation-of-you/
LOCATION:Evanston Township High School Auditorium\, 1600 Dodge Ave\, Evanston\, IL\, 60201\, United States
CATEGORIES:Events
ATTACH;FMTTYPE=image/png:https://gortoncenter.org/wp-content/uploads/2023/05/Screenshot-2023-05-09-101620.png
END:VEVENT
END:VCALENDAR