BEGIN:VCALENDAR
VERSION:2.0
PRODID:-//Gorton Center - ECPv6.15.17//NONSGML v1.0//EN
CALSCALE:GREGORIAN
METHOD:PUBLISH
X-ORIGINAL-URL:https://gortoncenter.org
X-WR-CALDESC:Events for Gorton Center
REFRESH-INTERVAL;VALUE=DURATION:PT1H
X-Robots-Tag:noindex
X-PUBLISHED-TTL:PT1H
BEGIN:VTIMEZONE
TZID:America/Chicago
BEGIN:DAYLIGHT
TZOFFSETFROM:-0600
TZOFFSETTO:-0500
TZNAME:CDT
DTSTART:20240310T080000
END:DAYLIGHT
BEGIN:STANDARD
TZOFFSETFROM:-0500
TZOFFSETTO:-0600
TZNAME:CST
DTSTART:20241103T070000
END:STANDARD
BEGIN:DAYLIGHT
TZOFFSETFROM:-0600
TZOFFSETTO:-0500
TZNAME:CDT
DTSTART:20250309T080000
END:DAYLIGHT
BEGIN:STANDARD
TZOFFSETFROM:-0500
TZOFFSETTO:-0600
TZNAME:CST
DTSTART:20251102T070000
END:STANDARD
BEGIN:DAYLIGHT
TZOFFSETFROM:-0600
TZOFFSETTO:-0500
TZNAME:CDT
DTSTART:20260308T080000
END:DAYLIGHT
BEGIN:STANDARD
TZOFFSETFROM:-0500
TZOFFSETTO:-0600
TZNAME:CST
DTSTART:20261101T070000
END:STANDARD
END:VTIMEZONE
BEGIN:VEVENT
DTSTART;TZID=America/Chicago:20250713T160000
DTEND;TZID=America/Chicago:20250713T190000
DTSTAMP:20260424T170838
CREATED:20250325T152929Z
LAST-MODIFIED:20250710T183902Z
UID:20006333-1752422400-1752433200@gortoncenter.org
SUMMARY:Gorton’s 4th Annual Cornhole Classic & Concert
DESCRIPTION:Sunday\, July 13 | Check-In: 3:45 pm | Cornhole Tournament Begins at 4:30 pm Rain or Shine – We’ll move the party indoors if needed!\nReady to toss bags\, sip local brews\, and rock out with friends?\nJoin us for a summer evening of fun at our Cornhole Classic & Concert! Whether you’re in it to win it or just here for the music\, this event is built for good times and great company.\nThe day includes \n\nLive Music from ROLLOVER\nFree skills challenges with prizes for winners – Pop-a-Shot | Long Toss | Bonus Games\nDelicious Food Trucks!\nThat unbeatable mix of friendly competition and community fun!\n\n\nSTANDARD TEAM ENTRY (Competitive or Family) – $60\nOne 2-Person TeamIncludes three guaranteed games + access to all festivities and contests. \n\nVIP ADD-ON- $50\nEnjoy unlimited access to our VIP Lounge! Open to teams and spectators! Ticket is per person. \n\nCornhole Tournament Details\n\nNo pros allowed – just great players and good sports\nRound-robin format with a 3-game minimum per team\nACO rules apply\nChampionship game starts around 6:30 pm with great prizes for first and second place!\nTeams of two – bring a friend and defend your title (or seek redemption!)\nFamily/kids division must include kids under 10-will have shortened throw line.\n\nRegistration closes Saturday\, July 12 at 2 pm – Walk-ins welcome if space allows by 3:45 pm \n\nFood Trucks!\n| Fork n’ Fry | Left Bank Hot Dogs | Snowie Shaved Ice \n\nLive Music by ROLLOVER\nLed by blues/rock powerhouse Louie Zagoras\, ROLLOVER has shared the stage with legends like Sheryl Crow\, The Allman Brothers\, and Joe Satriani. With national tours\, UK acclaim\, and music featured in film and TV\, they bring energy and soul to every stage. \n 
URL:https://gortoncenter.org/event/cornhole-classic-tournament-and-concert-2025/
LOCATION:Gorton Center\, 400 East Illinois Road\, Lake Forest\, IL\, 60045
CATEGORIES:Community,Events,Family & Kids,Live Music
ATTACH;FMTTYPE=image/png:https://gortoncenter.org/wp-content/uploads/2025/03/Cornhole-Classic-Logo.png
GEO:42.2506703;-87.8374004
X-APPLE-STRUCTURED-LOCATION;VALUE=URI;X-ADDRESS=Gorton Center 400 East Illinois Road Lake Forest IL 60045;X-APPLE-RADIUS=500;X-TITLE=400 East Illinois Road:geo:-87.8374004,42.2506703
END:VEVENT
BEGIN:VEVENT
DTSTART;TZID=America/Chicago:20250727T160000
DTEND;TZID=America/Chicago:20250727T173000
DTSTAMP:20260424T170838
CREATED:20250414T201649Z
LAST-MODIFIED:20250529T181449Z
UID:20006405-1753632000-1753637400@gortoncenter.org
SUMMARY:Pierce Pettis
DESCRIPTION:Singer-songwriter Pierce Pettis has earned a devoted following over the decades with his poetic lyrics\, distinctive voice\, and deeply personal songwriting. A former member of the famed “Fast Folk” movement in New York and a writer at Muscle Shoals’ legendary Fame Studios\, Pettis was has spent a lifetime crafting heartfelt\, finely-wrought songs. Harkening back to the days of original folk revival\, his songs were featured in albums from the likes of Joan Baez\, and recently his works have been recorded by artists such as Garth Brooks and Art Garfunkel. He has released critically acclaimed albums featuring collaborations with top-tier musicians and producers. Lauded by artists like Dar Williams and Indigo Girls\, Pettis continues to captivate audiences with performances that blend southern roots\, folk storytelling\, and emotional depth. \n“Pierce Pettis bares a gentle soul with a keen eye\, a soulful voice\, and perfect guitar accompaniment for his beautiful songs – a masterful poet treasure.”  – Darryl Scott \n\n“Pierce is a master musical storyteller\, delivering human truth and heartbreaking vulnerability with every tune. He’s also an unnecessarily virtuosic guitarist with the voice of some beautiful angel who also happens to be your old\, familiar friend.”\n  – Justin Paul (Grammy/Oscar/Tony/Emmy-winning lyricist/composer\, “La La Land”\, “Dear Evan Hansen”)\n\n \n“Unlike a lot of his contemporaries\, singer-songwriter Pierce Pettis doesn’t belong to the ‘me generation.’  He’s more likely to sing of his surroundings than himself\, and frequently draws on his Southern background for inspiration and color.” – Washington Post
URL:https://gortoncenter.org/event/pierce-2025/
LOCATION:Gorton Center – Stuart Community Room
CATEGORIES:Events,Live Music
ATTACH;FMTTYPE=image/jpeg:https://gortoncenter.org/wp-content/uploads/2023/05/DSC3491-Edit-Edit-Edit-scaled-1.jpg
END:VEVENT
END:VCALENDAR