BEGIN:VCALENDAR
VERSION:2.0
PRODID:-//Gorton Center - ECPv6.15.17//NONSGML v1.0//EN
CALSCALE:GREGORIAN
METHOD:PUBLISH
X-ORIGINAL-URL:https://gortoncenter.org
X-WR-CALDESC:Events for Gorton Center
REFRESH-INTERVAL;VALUE=DURATION:PT1H
X-Robots-Tag:noindex
X-PUBLISHED-TTL:PT1H
BEGIN:VTIMEZONE
TZID:America/Chicago
BEGIN:DAYLIGHT
TZOFFSETFROM:-0600
TZOFFSETTO:-0500
TZNAME:CDT
DTSTART:20240310T080000
END:DAYLIGHT
BEGIN:STANDARD
TZOFFSETFROM:-0500
TZOFFSETTO:-0600
TZNAME:CST
DTSTART:20241103T070000
END:STANDARD
BEGIN:DAYLIGHT
TZOFFSETFROM:-0600
TZOFFSETTO:-0500
TZNAME:CDT
DTSTART:20250309T080000
END:DAYLIGHT
BEGIN:STANDARD
TZOFFSETFROM:-0500
TZOFFSETTO:-0600
TZNAME:CST
DTSTART:20251102T070000
END:STANDARD
BEGIN:DAYLIGHT
TZOFFSETFROM:-0600
TZOFFSETTO:-0500
TZNAME:CDT
DTSTART:20260308T080000
END:DAYLIGHT
BEGIN:STANDARD
TZOFFSETFROM:-0500
TZOFFSETTO:-0600
TZNAME:CST
DTSTART:20261101T070000
END:STANDARD
END:VTIMEZONE
BEGIN:VEVENT
DTSTART;TZID=America/Chicago:20250728T083000
DTEND;TZID=America/Chicago:20250815T123000
DTSTAMP:20260421T163517
CREATED:20230216T004759Z
LAST-MODIFIED:20250721T183530Z
UID:20002969-1753691400-1755261000@gortoncenter.org
SUMMARY:CLC Camp Gorton Session 3
DESCRIPTION:This summer our campers are headed Under the Sea! \nThis summer we are diving into the deep blue sea. First dive we’re looking for fish\, second dive we’re on the hunt for all the sea creatures we can find\, and third dive we’re laser-focused on all the other life forms under the sea. Camp activities will include art\, science\, gardening\, outdoor time\, water play\, music\, and movement. Each session will wrap up with a water day and popsicles! Ages 6 weeks – 5 years \nHow to Register: \n\nSelect Half-Day Mornings button to view options\n\nM-F: $1\,095\nMWF $657\n\n\nSelect Extended Day Camp button to view options\n\nM-F: $1\,987.50\nMWF: $1\,192.50\n\n\n\nOur 2% Convenience Fee has been lowered to $10 per camp selection
URL:https://gortoncenter.org/event/clc-camp-gorton-session-1-3/
LOCATION:Gorton Center\, 400 East Illinois Road\, Lake Forest\, IL\, 60045
CATEGORIES:Children's Learning Center (CLC),Summer Camps Under 6
GEO:42.2506703;-87.8374004
X-APPLE-STRUCTURED-LOCATION;VALUE=URI;X-ADDRESS=Gorton Center 400 East Illinois Road Lake Forest IL 60045;X-APPLE-RADIUS=500;X-TITLE=400 East Illinois Road:geo:-87.8374004,42.2506703
END:VEVENT
END:VCALENDAR