BEGIN:VCALENDAR
VERSION:2.0
PRODID:-//Gorton Center - ECPv6.15.17//NONSGML v1.0//EN
CALSCALE:GREGORIAN
METHOD:PUBLISH
X-WR-CALNAME:Gorton Center
X-ORIGINAL-URL:https://gortoncenter.org
X-WR-CALDESC:Events for Gorton Center
REFRESH-INTERVAL;VALUE=DURATION:PT1H
X-Robots-Tag:noindex
X-PUBLISHED-TTL:PT1H
BEGIN:VTIMEZONE
TZID:America/Chicago
BEGIN:DAYLIGHT
TZOFFSETFROM:-0600
TZOFFSETTO:-0500
TZNAME:CDT
DTSTART:20240310T080000
END:DAYLIGHT
BEGIN:STANDARD
TZOFFSETFROM:-0500
TZOFFSETTO:-0600
TZNAME:CST
DTSTART:20241103T070000
END:STANDARD
BEGIN:DAYLIGHT
TZOFFSETFROM:-0600
TZOFFSETTO:-0500
TZNAME:CDT
DTSTART:20250309T080000
END:DAYLIGHT
BEGIN:STANDARD
TZOFFSETFROM:-0500
TZOFFSETTO:-0600
TZNAME:CST
DTSTART:20251102T070000
END:STANDARD
BEGIN:DAYLIGHT
TZOFFSETFROM:-0600
TZOFFSETTO:-0500
TZNAME:CDT
DTSTART:20260308T080000
END:DAYLIGHT
BEGIN:STANDARD
TZOFFSETFROM:-0500
TZOFFSETTO:-0600
TZNAME:CST
DTSTART:20261101T070000
END:STANDARD
END:VTIMEZONE
BEGIN:VEVENT
DTSTART;TZID=America/Chicago:20250719T080000
DTEND;TZID=America/Chicago:20250719T130000
DTSTAMP:20260421T004750
CREATED:20230301T230537Z
LAST-MODIFIED:20250522T145853Z
UID:20002287-1752912000-1752930000@gortoncenter.org
SUMMARY:Babysitting & Child Safety
DESCRIPTION:Child and Babysitting Safety (CABS) Certification Class\nPrepare for babysitting success with the Child and Babysitting Safety (CABS) program from MEDIC First Aid—an engaging and informative course designed specifically for teenagers and young adults who want to build confidence in caring for children. \nWhether you’re looking to start a babysitting business or simply want to be a more responsible sibling\, this course covers everything you need to know to babysit safely\, responsibly\, and professionally. From how to get started and communicate with parents\, to caring for infants and young children\, this class teaches critical skills in a fun and relatable format using a magazine-style student guide and vlogger-inspired videos. \nParticipants will learn important topics including: \n\nStarting and marketing a babysitting business\nUnderstanding the expectations of parents and caregivers\nBasic child development and age-appropriate play\nFeeding\, diapering\, and bedtime routines\nSafety and emergency preparedness\nBasic first aid and how to respond to common injuries and emergencies\n\nHands-on training and practice are central to this course. Through realistic scenarios and interactive learning\, students will gain the knowledge and experience needed to handle babysitting situations with calmness and confidence. To successfully complete the class and earn a certificate\, students must demonstrate competency in all required skills without assistance. \nThis class offers an excellent opportunity for participants to strengthen their leadership skills and gain practical experience in caring for children. Students will also learn valuable safety techniques and build a strong sense of responsibility. \nAges 12+\nPlease feel free to bring lunch\, a snack\, a water bottle\, and wear comfortable clothes!
URL:https://gortoncenter.org/event/babysitting-child-safety-3/
LOCATION:Gorton Center\, 400 East Illinois Road\, Lake Forest\, IL\, 60045
CATEGORIES:Age,Classes,Specialty,Wellness,Youth
GEO:42.2506703;-87.8374004
X-APPLE-STRUCTURED-LOCATION;VALUE=URI;X-ADDRESS=Gorton Center 400 East Illinois Road Lake Forest IL 60045;X-APPLE-RADIUS=500;X-TITLE=400 East Illinois Road:geo:-87.8374004,42.2506703
END:VEVENT
END:VCALENDAR