BEGIN:VCALENDAR
VERSION:2.0
PRODID:-//Gorton Center - ECPv6.15.17//NONSGML v1.0//EN
CALSCALE:GREGORIAN
METHOD:PUBLISH
X-ORIGINAL-URL:https://gortoncenter.org
X-WR-CALDESC:Events for Gorton Center
REFRESH-INTERVAL;VALUE=DURATION:PT1H
X-Robots-Tag:noindex
X-PUBLISHED-TTL:PT1H
BEGIN:VTIMEZONE
TZID:America/Chicago
BEGIN:DAYLIGHT
TZOFFSETFROM:-0600
TZOFFSETTO:-0500
TZNAME:CDT
DTSTART:20240310T080000
END:DAYLIGHT
BEGIN:STANDARD
TZOFFSETFROM:-0500
TZOFFSETTO:-0600
TZNAME:CST
DTSTART:20241103T070000
END:STANDARD
BEGIN:DAYLIGHT
TZOFFSETFROM:-0600
TZOFFSETTO:-0500
TZNAME:CDT
DTSTART:20250309T080000
END:DAYLIGHT
BEGIN:STANDARD
TZOFFSETFROM:-0500
TZOFFSETTO:-0600
TZNAME:CST
DTSTART:20251102T070000
END:STANDARD
BEGIN:DAYLIGHT
TZOFFSETFROM:-0600
TZOFFSETTO:-0500
TZNAME:CDT
DTSTART:20260308T080000
END:DAYLIGHT
BEGIN:STANDARD
TZOFFSETFROM:-0500
TZOFFSETTO:-0600
TZNAME:CST
DTSTART:20261101T070000
END:STANDARD
END:VTIMEZONE
BEGIN:VEVENT
DTSTART;TZID=America/Chicago:20250407T130000
DTEND;TZID=America/Chicago:20250407T153000
DTSTAMP:20260419T083753
CREATED:20240724T185537Z
LAST-MODIFIED:20250331T181345Z
UID:20006050-1744030800-1744039800@gortoncenter.org
SUMMARY:Sketching & Drawing with Phil Schorn
DESCRIPTION:In this class\, students will learn to draw what they see. And\, to learn pencil techniques to create a finished piece of art. Students will work from still life and also plein-air (outside). \nSupplies purchased by the student  \n11 x 14 sketch book (9 x 12 will work)\, you will like the larger size. \nDrawing board for the paper\, with clip\, (to hold the paper) \nVarious drawing graphite pencils (ex; 2H\, 2B\, 6B) \nKneaded Eraser \nDrafting Eraser \n12” ruler \n \nPhilip Schorn – P Schorn Studio – Botanical Color Pencil Artist My botanical renderings are not drawings of plant specimens as seen in scientific books; rather\, they are renderings of plants as seen through the eye of an artist. I can look at the ground; I can see the shapes\, light\, and shadows. I focus on a small portion of the subject and what makes it interesting\, whether that be the individual leaf\, flower\, or snapshot of the ground\, to bring the details to life.\nI have been working with colored pencil for several years and teaching the art for the last three years. I’m currently teaching online from my home since March. I currently teach online color pencil classes for other art studios/galleries\, private classes and Facebook demos. I have two books published of my art/techniques on. I have done a number of outdoor shows\, group and individual exhibitions.\nMy process of making a rendering with the detail that I want to have requires a significant amount of time. Sometimes I use other media\, such as ink\, watercolors or pastels.\nI am a member of the Color Pencil Society of America\, Grayslake Arts Alliance and the Lake County Art League. My studio is located in Grayslake. \nEmail: phil@psc
URL:https://gortoncenter.org/event/sketching-drawing-with-phil-schorn/
LOCATION:Gorton Center\, 400 East Illinois Road\, Lake Forest\, IL\, 60045
CATEGORIES:Adults,Art,Classes
ATTACH;FMTTYPE=image/png:https://gortoncenter.org/wp-content/uploads/2024/07/drawing-class.png
GEO:42.2506703;-87.8374004
X-APPLE-STRUCTURED-LOCATION;VALUE=URI;X-ADDRESS=Gorton Center 400 East Illinois Road Lake Forest IL 60045;X-APPLE-RADIUS=500;X-TITLE=400 East Illinois Road:geo:-87.8374004,42.2506703
END:VEVENT
BEGIN:VEVENT
DTSTART;TZID=America/Chicago:20250408T130000
DTEND;TZID=America/Chicago:20250408T153000
DTSTAMP:20260419T083753
CREATED:20241203T191812Z
LAST-MODIFIED:20250407T161021Z
UID:20006200-1744117200-1744126200@gortoncenter.org
SUMMARY:Getting Started with Color Pencil
DESCRIPTION:THIS CLASS HAS BEEN CANCELLED.\nExplore the beauty of drawing with colored pencil in this course for beginners. Learn everything you need to get started – types of paper\, pencils\, how to put the color down\, how to draw without seeing lines\, layering\, and blending. Each session will be a review working on the drawing. The class will work on 2-3 renderings during the 4 week course. \nSTUDENTS NEED TO PURCHASE THEIR OWN SUPPLIES: \nSupplies: – Can be ordered through Blick Art Supply \n-48ct Prismacolor softcore pencils \n-1 9×12 300 series Strathmore Smooth Bristol Pad \n-1 Blick colorless blending pen \n-Pencil sharpener (electric or manual) \n-Smooth surface to draw on\, drawing board \n1 or 2-inch clean soft paintbrush (to use as a drafting brush) \n \nPhilip Schorn – P Schorn Studio – Botanical Color Pencil Artist My botanical renderings are not drawings of plant specimens as seen in scientific books; rather\, they are renderings of plants as seen through the eye of an artist. I can look at the ground; I can see the shapes\, light\, and shadows. I focus on a small portion of the subject and what makes it interesting\, whether that be the individual leaf\, flower\, or snapshot of the ground\, to bring the details to life.\nI have been working with colored pencil for several years and teaching the art for the last three years. I’m currently teaching online from my home since March. I currently teach online color pencil classes for other art studios/galleries\, private classes and Facebook demos. I have two books published of my art/techniques on. I have done a number of outdoor shows\, group and individual exhibitions.\nMy process of making a rendering with the detail that I want to have requires a significant amount of time. Sometimes I use other media\, such as ink\, watercolors or pastels.\nI am a member of the Color Pencil Society of America\, Grayslake Arts Alliance and the Lake County Art League. My studio is located in Grayslake. \nEmail: phil@nullpschornstudio.com   FB: pschornstudio/
URL:https://gortoncenter.org/event/getting-started-with-color-pencil-2/
LOCATION:Gorton Center\, 400 East Illinois Road\, Lake Forest\, IL\, 60045
CATEGORIES:Adults,Art,Classes
ATTACH;FMTTYPE=image/jpeg:https://gortoncenter.org/wp-content/uploads/2024/12/IMG_7998-scaled.jpg
GEO:42.2506703;-87.8374004
X-APPLE-STRUCTURED-LOCATION;VALUE=URI;X-ADDRESS=Gorton Center 400 East Illinois Road Lake Forest IL 60045;X-APPLE-RADIUS=500;X-TITLE=400 East Illinois Road:geo:-87.8374004,42.2506703
END:VEVENT
END:VCALENDAR