BEGIN:VCALENDAR
VERSION:2.0
PRODID:-//Gorton Center - ECPv6.15.17//NONSGML v1.0//EN
CALSCALE:GREGORIAN
METHOD:PUBLISH
X-ORIGINAL-URL:https://gortoncenter.org
X-WR-CALDESC:Events for Gorton Center
REFRESH-INTERVAL;VALUE=DURATION:PT1H
X-Robots-Tag:noindex
X-PUBLISHED-TTL:PT1H
BEGIN:VTIMEZONE
TZID:America/Chicago
BEGIN:DAYLIGHT
TZOFFSETFROM:-0600
TZOFFSETTO:-0500
TZNAME:CDT
DTSTART:20250309T080000
END:DAYLIGHT
BEGIN:STANDARD
TZOFFSETFROM:-0500
TZOFFSETTO:-0600
TZNAME:CST
DTSTART:20251102T070000
END:STANDARD
BEGIN:DAYLIGHT
TZOFFSETFROM:-0600
TZOFFSETTO:-0500
TZNAME:CDT
DTSTART:20260308T080000
END:DAYLIGHT
BEGIN:STANDARD
TZOFFSETFROM:-0500
TZOFFSETTO:-0600
TZNAME:CST
DTSTART:20261101T070000
END:STANDARD
BEGIN:DAYLIGHT
TZOFFSETFROM:-0600
TZOFFSETTO:-0500
TZNAME:CDT
DTSTART:20270314T080000
END:DAYLIGHT
BEGIN:STANDARD
TZOFFSETFROM:-0500
TZOFFSETTO:-0600
TZNAME:CST
DTSTART:20271107T070000
END:STANDARD
END:VTIMEZONE
BEGIN:VEVENT
DTSTART;TZID=America/Chicago:20260603T100000
DTEND;TZID=America/Chicago:20260603T120000
DTSTAMP:20260423T093956
CREATED:20260206T175216Z
LAST-MODIFIED:20260413T194736Z
UID:20007019-1780480800-1780488000@gortoncenter.org
SUMMARY:Mahjong
DESCRIPTION:Ready for fun\, strategy\, and a little friendly competition? Come learn Mahjong with friends and neighbors! In just five weeks\, you’ll master the basics of National Mahjong rules. The game is fast\, social\, and exciting. Even better\, it’s the perfect way to connect with people – whether you bring a friend or meet new ones at the table. \nYour instructor\, Debbie\, makes learning easy. She’ll group players by skill level and give clear\, personalized guidance. New to Mahjong? You’ll learn step by step. Played before? You’ll discover fresh strategies and sharpen your skills. There’s always more to explore! \nExperienced players are welcome too! \nAbout Mahjong\nSo\, what is Mahjong? It’s a tile-based tabletop game that began in 19th-century China. Since then\, it has spread worldwide. While rules vary by region\, most versions focus on building sets of matching tiles. The American style\, created in the 1920s\, is now the most popular in the U.S. – and it’s the one you’ll learn here. \nAnd here’s the best part: Mahjong isn’t just fun. It’s also a mental workout. Research shows games like this can boost memory\, sharpen focus\, and even help protect long-term brain health. \nSo\, why wait? Sign up today. Bring your curiosity\, a sense of play\, and maybe a friend. This class will challenge your mind\, lift your spirits\, and add a burst of excitement to your week. \nMahjong cards can be purchased through the American Mahjong League  \nDebbie Meyer has been playing Mahjong for over 20 years. She loves the game and how each hand is different. Debbie’s passion is to teach the game of Mahjong to others!
URL:https://gortoncenter.org/event/mahjong-june/
LOCATION:Gorton Center\, 400 East Illinois Road\, Lake Forest\, IL\, 60045
CATEGORIES:Adults,Classes,Games
ATTACH;FMTTYPE=image/png:https://gortoncenter.org/wp-content/uploads/2025/09/Mahjong-Open-Play.png
GEO:42.2506703;-87.8374004
X-APPLE-STRUCTURED-LOCATION;VALUE=URI;X-ADDRESS=Gorton Center 400 East Illinois Road Lake Forest IL 60045;X-APPLE-RADIUS=500;X-TITLE=400 East Illinois Road:geo:-87.8374004,42.2506703
END:VEVENT
BEGIN:VEVENT
DTSTART;TZID=America/Chicago:20260603T130000
DTEND;TZID=America/Chicago:20260603T150000
DTSTAMP:20260423T093956
CREATED:20260206T185211Z
LAST-MODIFIED:20260209T173303Z
UID:20007022-1780491600-1780498800@gortoncenter.org
SUMMARY:Canasta
DESCRIPTION:Learn to Play Canasta with Debbie Meyer \nLooking for a fun and social way to challenge your mind? Canasta is the perfect game! This exciting and strategic card game\, played with partners\, has quickly become a favorite among card enthusiasts of all ages. Whether you’re new to the game or looking to sharpen your skills\, this class is the ideal way to learn and enjoy Canasta in a relaxed and engaging environment. \nLed by experienced instructor Debbie Meyer\, you’ll be guided through the fundamentals of the game—including rules\, scoring\, and key strategies—all while enjoying the lively\, cooperative nature of team play. Debbie will tailor her instruction to match your level of experience\, grouping participants accordingly and offering personalized tips to help you gain confidence and improve your gameplay. \nCanasta is a great way to exercise your brain\, boost your memory\, and connect with others in a fun\, interactive setting. It’s stimulating\, competitive\, and\, most of all\, incredibly fun! \nSo grab a friend—or come ready to meet new ones—and join us for a class filled with laughter\, learning\, and a little friendly competition. Even if you’ve taken Canasta classes before\, there’s always more strategy to discover and new ways to improve your game. \nDebbie will group participants and provide personalized instruction for advanced players and players just learning the game. So\, even if you’ve taken sessions previously\, there is always more strategy to learn! \nDebbie Meyer loves canasta and has been playing for over 15 years!  Canasta is a stimulating card game played with partners. Strategy\, luck and excitement are all a part of playing canasta. Come see why Debbie is so passionate about it and plays often.
URL:https://gortoncenter.org/event/canasta-june/
LOCATION:Gorton Center\, 400 East Illinois Road\, Lake Forest\, IL\, 60045
CATEGORIES:Adults,Classes,Games
ATTACH;FMTTYPE=image/png:https://gortoncenter.org/wp-content/uploads/2026/02/Canasta-Cards.png
GEO:42.2506703;-87.8374004
X-APPLE-STRUCTURED-LOCATION;VALUE=URI;X-ADDRESS=Gorton Center 400 East Illinois Road Lake Forest IL 60045;X-APPLE-RADIUS=500;X-TITLE=400 East Illinois Road:geo:-87.8374004,42.2506703
END:VEVENT
BEGIN:VEVENT
DTSTART;TZID=America/Chicago:20260605T100000
DTEND;TZID=America/Chicago:20260605T120000
DTSTAMP:20260423T093956
CREATED:20260409T193459Z
LAST-MODIFIED:20260409T193459Z
UID:20007187-1780653600-1780660800@gortoncenter.org
SUMMARY:Open Play Mahjong
DESCRIPTION:Please plan to arrive early\, play starts promptly at 10am!\nCalling all Mahjong enthusiasts. Join us for Open Play Mahjong\, a relaxed and social way to enjoy the game you love. These sessions are for intermediate to advanced players who already know the rules. No instruction is offered. \nBring your strategy and a little friendly competition. Connect with other experienced players. Open Play is a great way to practice\, stay sharp\, and enjoy the challenge of Mahjong. \nWe provide all Mahjong sets. Please bring your own Mahjong card. \nPre-registration is required. Drop-ins can’t be accommodated\, so be sure to register early to save your spot. \nWe look forward to seeing you at the table.
URL:https://gortoncenter.org/event/open-play-mahjong-june-5/
LOCATION:Gorton Center\, 400 East Illinois Road\, Lake Forest\, IL\, 60045
CATEGORIES:Adults,Classes,Games
ATTACH;FMTTYPE=image/jpeg:https://gortoncenter.org/wp-content/uploads/2025/09/Mahjong-USE.jpg
GEO:42.2506703;-87.8374004
X-APPLE-STRUCTURED-LOCATION;VALUE=URI;X-ADDRESS=Gorton Center 400 East Illinois Road Lake Forest IL 60045;X-APPLE-RADIUS=500;X-TITLE=400 East Illinois Road:geo:-87.8374004,42.2506703
END:VEVENT
END:VCALENDAR