BEGIN:VCALENDAR
VERSION:2.0
PRODID:-//Gorton Center - ECPv6.15.17//NONSGML v1.0//EN
CALSCALE:GREGORIAN
METHOD:PUBLISH
X-ORIGINAL-URL:https://gortoncenter.org
X-WR-CALDESC:Events for Gorton Center
REFRESH-INTERVAL;VALUE=DURATION:PT1H
X-Robots-Tag:noindex
X-PUBLISHED-TTL:PT1H
BEGIN:VTIMEZONE
TZID:America/Chicago
BEGIN:DAYLIGHT
TZOFFSETFROM:-0600
TZOFFSETTO:-0500
TZNAME:CDT
DTSTART:20250309T080000
END:DAYLIGHT
BEGIN:STANDARD
TZOFFSETFROM:-0500
TZOFFSETTO:-0600
TZNAME:CST
DTSTART:20251102T070000
END:STANDARD
BEGIN:DAYLIGHT
TZOFFSETFROM:-0600
TZOFFSETTO:-0500
TZNAME:CDT
DTSTART:20260308T080000
END:DAYLIGHT
BEGIN:STANDARD
TZOFFSETFROM:-0500
TZOFFSETTO:-0600
TZNAME:CST
DTSTART:20261101T070000
END:STANDARD
BEGIN:DAYLIGHT
TZOFFSETFROM:-0600
TZOFFSETTO:-0500
TZNAME:CDT
DTSTART:20270314T080000
END:DAYLIGHT
BEGIN:STANDARD
TZOFFSETFROM:-0500
TZOFFSETTO:-0600
TZNAME:CST
DTSTART:20271107T070000
END:STANDARD
END:VTIMEZONE
BEGIN:VEVENT
DTSTART;TZID=America/Chicago:20260320T190000
DTEND;TZID=America/Chicago:20260320T210000
DTSTAMP:20260423T092914
CREATED:20260204T150604Z
LAST-MODIFIED:20260211T165144Z
UID:20007016-1774033200-1774040400@gortoncenter.org
SUMMARY:Lake County Film Festival: THE LAST DIVE
DESCRIPTION:The Lake County Film Festival returns in 2026 for its Sweet 16 edition\, celebrating sixteen years of independent cinema with a diverse\, ambitious\, and international slate of feature and short films. The festival runs March 12–23\, 2026. \nThis year’s festival will screen films at three venues: the College of Lake County in Grayslake\, Gorton Center in Lake Forest\, and — for the first time — the Antioch Theater in Antioch\, expanding the festival’s footprint and access across Lake County. \nGorton Center is proud to be one of the screening venues for “The Last Dive”!\nTerry is a legendary figure in Baja Mexico\, an American veteran who has spent decades living on—and in—the water. Once a man burdened by a troubled past\, Terry’s life was transformed by an unlikely friendship with Willy\, a 22-foot oceanic manta ray. For nearly two decades\, Willy would slap his wings against the hull of Terry’s sailboat to signal their next dive\, and together they explored the ocean’s depths—an extraordinary bond that turned Terry into an unexpected conservationist. \nNow in his 80’s\, Terry embarks on one final journey to a remote island in hopes of reuniting with his old friend. But he’s also searching for something deeper: peace\, closure\, and a chance to say goodbye. \nDocumentary • USA • 2025 • 91 Minutes\nDirector: Cody Sheehy\nWriter: Mark Monroe\nProducers: Randy Gebhardt\, Christopher Gebhardt\,\nEditor: Lauren Brinkman\nComposer: Paul Leonard-Morgan\nCast: Terrance Kennedy \nFestivals: Tribeca\, DocEdge\, Boston Film Festival\, Newport Beach\, Anchorage
URL:https://gortoncenter.org/event/lake-county-film-festival-the-last-dive/
LOCATION:Gorton Center – John & Nancy Hughes Theater\, 400 E. Illinois Road\, Lake Forest\, IL\, 60045\, United States
CATEGORIES:Festivals,Film,Independent
ATTACH;FMTTYPE=image/png:https://gortoncenter.org/wp-content/uploads/2026/02/LCFF-The-Last-Dive-1.png
END:VEVENT
END:VCALENDAR