BEGIN:VCALENDAR
VERSION:2.0
PRODID:-//Gorton Center - ECPv6.15.17//NONSGML v1.0//EN
CALSCALE:GREGORIAN
METHOD:PUBLISH
X-WR-CALNAME:Gorton Center
X-ORIGINAL-URL:https://gortoncenter.org
X-WR-CALDESC:Events for Gorton Center
REFRESH-INTERVAL;VALUE=DURATION:PT1H
X-Robots-Tag:noindex
X-PUBLISHED-TTL:PT1H
BEGIN:VTIMEZONE
TZID:America/Chicago
BEGIN:DAYLIGHT
TZOFFSETFROM:-0600
TZOFFSETTO:-0500
TZNAME:CDT
DTSTART:20240310T080000
END:DAYLIGHT
BEGIN:STANDARD
TZOFFSETFROM:-0500
TZOFFSETTO:-0600
TZNAME:CST
DTSTART:20241103T070000
END:STANDARD
BEGIN:DAYLIGHT
TZOFFSETFROM:-0600
TZOFFSETTO:-0500
TZNAME:CDT
DTSTART:20250309T080000
END:DAYLIGHT
BEGIN:STANDARD
TZOFFSETFROM:-0500
TZOFFSETTO:-0600
TZNAME:CST
DTSTART:20251102T070000
END:STANDARD
BEGIN:DAYLIGHT
TZOFFSETFROM:-0600
TZOFFSETTO:-0500
TZNAME:CDT
DTSTART:20260308T080000
END:DAYLIGHT
BEGIN:STANDARD
TZOFFSETFROM:-0500
TZOFFSETTO:-0600
TZNAME:CST
DTSTART:20261101T070000
END:STANDARD
END:VTIMEZONE
BEGIN:VEVENT
DTSTART;TZID=America/Chicago:20251016T190000
DTEND;TZID=America/Chicago:20251016T210000
DTSTAMP:20260420T092321
CREATED:20250824T180219Z
LAST-MODIFIED:20251001T202314Z
UID:20006548-1760641200-1760648400@gortoncenter.org
SUMMARY:Hereditary
DESCRIPTION:Join us for a special screening of Hereditary\, the breakout debut from writer-director Ari Aster\, at the Gorton Center. Known for its haunting visuals and deeply unsettling atmosphere\, this modern horror classic explores the dark side of family legacy and the terrifying weight of inheritance. \nWhen Ellen\, the matriarch of the Graham family\, dies\, her daughter’s family struggles to move forward. First\, grief weighs heavily on them. Yet\, as the days pass\, strange events begin to surface. Secrets once buried start to rise. And soon\, every discovery pulls them deeper into darkness. \nThe family unravels one mystery after another. However\, with each answer comes an even more frightening question. Their ancestry hides more than traditions. It hides a sinister inheritance. And this inheritance refuses to be ignored. As the truth emerges\, fear takes over. What begins as mourning quickly turns into a desperate fight for survival. \nStep by step\, their sense of normalcy collapses. First\, they lose trust in what they see. Then\, they lose faith in each other. Finally\, they lose the safety of their own home. No place feels secure. No moment feels calm. And no bond proves strong enough to withstand the terror pressing in from every side. \nThrough stunning imagery and haunting detail\, Aster redefines what a horror film can be. He pushes the genre into chilling new terrain. At the same time\, he offers a portrait of heritage twisted into something terrifying. The result is more than a movie; it is an experience. It is a warning. And\, most of all\, it is a shattering reminder that sometimes the most frightening monsters are the ones we inherit.
URL:https://gortoncenter.org/event/hereditary/
LOCATION:Gorton Center – John & Nancy Hughes Theater\, 400 E. Illinois Road\, Lake Forest\, IL\, 60045\, United States
CATEGORIES:Festivals,Film
ATTACH;FMTTYPE=image/jpeg:https://gortoncenter.org/wp-content/uploads/2025/08/hereditary-poster-featured-image-Horiz.jpg
END:VEVENT
BEGIN:VEVENT
DTSTART;TZID=America/Chicago:20251019T150000
DTEND;TZID=America/Chicago:20251019T170000
DTSTAMP:20260420T092321
CREATED:20250824T181609Z
LAST-MODIFIED:20251001T205014Z
UID:20006563-1760886000-1760893200@gortoncenter.org
SUMMARY:WICKED
DESCRIPTION:Before Dorothy ever lands in Oz\, another story unfolds. The story of Wicked. \nElphaba is smart\, fiery\, and different. Born with green skin\, she grows up mocked and misunderstood. Yet she carries a gift she doesn’t fully understand—power unlike anything seen in Oz. Glinda\, by contrast\, shines in every room. She’s blonde\, charming\, and adored. But behind her glittering smile lies a young woman still searching for purpose. \nTheir worlds collide at Shiz University. At first\, they clash. Glinda thrives on popularity\, while Elphaba prefers to stay in the shadows. But circumstances force them together. Over time\, rivalry turns into respect. Respect grows into friendship. Against all odds\, they become inseparable. \nThen comes the turning point. A meeting with the Wonderful Wizard of Oz promises hope but hides betrayal. Elphaba sees corruption and cruelty. She refuses to stay silent. Glinda\, torn between loyalty and ambition\, chooses a different path. \nFrom that moment\, the friends walk divergent roads. Elphaba embraces her power\, defying the system and the lies of Oz. To the people\, she becomes the Wicked Witch of the West. Glinda\, meanwhile\, learns compassion. She rises as Glinda the Good\, a beacon of light. \nTheir bond remains at the center. Love and heartbreak\, choices and consequences\, twist their fates together even as the world drives them apart. \nWith sweeping songs\, dazzling spectacle\, and deep emotion\, Wicked reimagines the land of Oz. It asks what makes someone “wicked” and what makes someone “good.” And it reveals how even the strongest friendships can change destinies. \nDirector: Jon M. Chu\nWriters: Winnie Holzman\, Dana Fox\, Gregory Maguire\nStars: Cynthia Erivo\, Ariana Grande\, Jeff Goldblum
URL:https://gortoncenter.org/event/wicked/
LOCATION:Gorton Center – John & Nancy Hughes Theater\, 400 E. Illinois Road\, Lake Forest\, IL\, 60045\, United States
CATEGORIES:Family,Festivals,Film
ATTACH;FMTTYPE=image/jpeg:https://gortoncenter.org/wp-content/uploads/2025/08/Wicked-Horiz.jpg
END:VEVENT
BEGIN:VEVENT
DTSTART;TZID=America/Chicago:20251023T190000
DTEND;TZID=America/Chicago:20251023T210000
DTSTAMP:20260420T092321
CREATED:20250824T183307Z
LAST-MODIFIED:20251001T205301Z
UID:20006564-1761246000-1761253200@gortoncenter.org
SUMMARY:PSYCHO
DESCRIPTION:A secretary on the run makes a fatal stop at a lonely motel\nMarion Crane (Janet Leigh) is tired of her ordinary life in Phoenix. She longs to marry her boyfriend\, Sam Loomis (John Gavin)\, but money stands in the way. One Friday afternoon\, temptation wins. Marion steals $40\,000 from her employer and hits the road. Her plan is simple: reach Sam\, pay off his debts\, and start fresh. \nBut the journey takes a dark turn. As night falls\, heavy rain pounds the highway. Marion grows anxious\, nervous about the police\, and desperate for rest. She pulls off onto a deserted back road. There\, a flickering neon sign appears through the storm: Bates Motel. \nThe motel looks worn and forgotten. Its owner\, Norman Bates (Anthony Perkins)\, steps out to greet her. He’s shy\, polite\, even boyish. He offers Marion a meal and friendly conversation. Yet something about him feels off. Norman speaks often of his mother\, who lives in the looming house on the hill. His tone shifts from tender to bitter. His smile hides unease. \nOver dinner\, Marion rethinks her choices. She decides to return the money and face the consequences. But she never gets the chance. In the dead of night\, the bathroom curtain rips open\, and Marion’s story ends in a shocking burst of violence. \nFrom here\, the story shifts. A suspicious sister\, a determined boyfriend\, and a curious private detective come looking for answers. Their search circles back to Norman and the suffocating shadow of his mother. \nAlfred Hitchcock directs Psycho with relentless tension. Quick cuts\, stark shadows\, and Bernard Herrmann’s piercing score pull viewers into a world where safety unravels in seconds. Every scene builds dread. Every revelation twists deeper. And the final truth about Norman Bates delivers one of cinema’s most unforgettable shocks. \nWriters: Joseph Stefano\, Robert Bloch\nStars: Anthony Perkins\, Janet Leigh\, Vera Miles
URL:https://gortoncenter.org/event/psycho/
LOCATION:Gorton Center – John & Nancy Hughes Theater\, 400 E. Illinois Road\, Lake Forest\, IL\, 60045\, United States
CATEGORIES:Classics,Festivals,Film
ATTACH;FMTTYPE=image/jpeg:https://gortoncenter.org/wp-content/uploads/2025/08/Psycho_horiz.jpg
END:VEVENT
BEGIN:VEVENT
DTSTART;TZID=America/Chicago:20251026T150000
DTEND;TZID=America/Chicago:20251026T170000
DTSTAMP:20260420T092321
CREATED:20250824T184121Z
LAST-MODIFIED:20251001T205645Z
UID:20006565-1761490800-1761498000@gortoncenter.org
SUMMARY:HAUNTED MANSION
DESCRIPTION:The Story of Gracey Manor\nGabbie (Rosario Dawson)\, a widowed doctor\, is ready for a new chapter. After losing her husband\, she leaves the busy streets of New York behind. With her young son\, Travis\, she heads to New Orleans in search of a fresh start. Their new home is Gracey Manor\, a sprawling old mansion with crumbling walls and plenty of character. Gabbie imagines transforming it into a charming bed and breakfast. At first\, it feels like a dream. But soon\, the dream twists into something far darker. \nStrange noises echo through the halls. Shadows move where no one should be. Doors slam on their own. Gabbie and Travis realize quickly that the house is not only dilapidated – it is haunted. And not by just one ghost. Spirits fill every room. Some are playful. Others are menacing. All of them make life inside the manor nearly impossible. \nDesperate for help\, Gabbie seeks out experts in the paranormal. She gathers an unlikely team. A priest\, a psychic\, a historian\, and a ghost tour guide step into the mansion\, each bringing their own skills. Together\, they face the mysteries inside Gracey Manor. Yet the deeper they look\, the more dangerous the secrets become. \nHatbox Ghost\nAt the center of the haunting stands the Hatbox Ghost\, portrayed through motion capture and voice by Jared Leto. He is eerie\, calculating\, and relentless. His presence is not random. He is tied to a sinister plot involving lost souls and the mansion’s original owner\, William Gracey. Long ago\, Gracey’s grief led him down a path of obsession and rituals. Now\, those choices threaten to bind both the living and the dead in eternal darkness. \nThe group must uncover the truth\, fight back against the Hatbox Ghost\, and free the manor before it consumes them all. Gracey Manor is more than a house – it is a trap. And only courage\, unity\, and quick thinking can break its hold. \nJoin us for this fun-filled story of scares and excitement! \nDirector: Justin Simien\nWriter: Katie Dippold\nStars: LaKeith Stanfield\, Rosario Dawson\, Owen Wilson
URL:https://gortoncenter.org/event/haunted-mansion/
LOCATION:Gorton Center – John & Nancy Hughes Theater\, 400 E. Illinois Road\, Lake Forest\, IL\, 60045\, United States
CATEGORIES:Family,Festivals,Film
ATTACH;FMTTYPE=image/jpeg:https://gortoncenter.org/wp-content/uploads/2025/08/haunted-manson-horiz.jpg
END:VEVENT
END:VCALENDAR