BEGIN:VCALENDAR
VERSION:2.0
PRODID:-//Gorton Center - ECPv6.15.17//NONSGML v1.0//EN
CALSCALE:GREGORIAN
METHOD:PUBLISH
X-WR-CALNAME:Gorton Center
X-ORIGINAL-URL:https://gortoncenter.org
X-WR-CALDESC:Events for Gorton Center
REFRESH-INTERVAL;VALUE=DURATION:PT1H
X-Robots-Tag:noindex
X-PUBLISHED-TTL:PT1H
BEGIN:VTIMEZONE
TZID:America/Chicago
BEGIN:DAYLIGHT
TZOFFSETFROM:-0600
TZOFFSETTO:-0500
TZNAME:CDT
DTSTART:20220313T080000
END:DAYLIGHT
BEGIN:STANDARD
TZOFFSETFROM:-0500
TZOFFSETTO:-0600
TZNAME:CST
DTSTART:20221106T070000
END:STANDARD
BEGIN:DAYLIGHT
TZOFFSETFROM:-0600
TZOFFSETTO:-0500
TZNAME:CDT
DTSTART:20230312T080000
END:DAYLIGHT
BEGIN:STANDARD
TZOFFSETFROM:-0500
TZOFFSETTO:-0600
TZNAME:CST
DTSTART:20231105T070000
END:STANDARD
BEGIN:DAYLIGHT
TZOFFSETFROM:-0600
TZOFFSETTO:-0500
TZNAME:CDT
DTSTART:20240310T080000
END:DAYLIGHT
BEGIN:STANDARD
TZOFFSETFROM:-0500
TZOFFSETTO:-0600
TZNAME:CST
DTSTART:20241103T070000
END:STANDARD
END:VTIMEZONE
BEGIN:VEVENT
DTSTART;TZID=America/Chicago:20230927T190000
DTEND;TZID=America/Chicago:20230927T210000
DTSTAMP:20260419T110138
CREATED:20230901T193028Z
LAST-MODIFIED:20230911T145250Z
UID:20003238-1695841200-1695848400@gortoncenter.org
SUMMARY:Rumble: The Indians Who Rocked the World
DESCRIPTION:A documentary about the role of Native Americans in popular music history. \nFeaturing: Martin Scorsese\, Quincy Jones\, Steven Tyler\, Steve Van Zandt\, Iggy Pop\, Link Wray\, Buffy Sainte-Marie\, Robbie Robertson\, Jesse Ed Davis\, Jimi Hendrix\, George Clinton\, Slash\, Randy Castillo\, and more…
URL:https://gortoncenter.org/event/rumble-the-indians-who-rocked-the-world/
LOCATION:Gorton Center – John & Nancy Hughes Theater\, 400 E. Illinois Road\, Lake Forest\, IL\, 60045\, United States
CATEGORIES:Documentary,Film,Independent
ATTACH;FMTTYPE=image/jpeg:https://gortoncenter.org/wp-content/uploads/2023/09/d18cc276e8c8c7e56116f8ad77d3346e625cad8e307bab89e313bfe1710377a9._UR19201080_SX720_FMjpg_-e1694184552926.jpg
END:VEVENT
END:VCALENDAR