BEGIN:VCALENDAR
VERSION:2.0
PRODID:-//Gorton Center - ECPv6.15.17//NONSGML v1.0//EN
CALSCALE:GREGORIAN
METHOD:PUBLISH
X-ORIGINAL-URL:https://gortoncenter.org
X-WR-CALDESC:Events for Gorton Center
REFRESH-INTERVAL;VALUE=DURATION:PT1H
X-Robots-Tag:noindex
X-PUBLISHED-TTL:PT1H
BEGIN:VTIMEZONE
TZID:America/Chicago
BEGIN:DAYLIGHT
TZOFFSETFROM:-0600
TZOFFSETTO:-0500
TZNAME:CDT
DTSTART:20240310T080000
END:DAYLIGHT
BEGIN:STANDARD
TZOFFSETFROM:-0500
TZOFFSETTO:-0600
TZNAME:CST
DTSTART:20241103T070000
END:STANDARD
BEGIN:DAYLIGHT
TZOFFSETFROM:-0600
TZOFFSETTO:-0500
TZNAME:CDT
DTSTART:20250309T080000
END:DAYLIGHT
BEGIN:STANDARD
TZOFFSETFROM:-0500
TZOFFSETTO:-0600
TZNAME:CST
DTSTART:20251102T070000
END:STANDARD
BEGIN:DAYLIGHT
TZOFFSETFROM:-0600
TZOFFSETTO:-0500
TZNAME:CDT
DTSTART:20260308T080000
END:DAYLIGHT
BEGIN:STANDARD
TZOFFSETFROM:-0500
TZOFFSETTO:-0600
TZNAME:CST
DTSTART:20261101T070000
END:STANDARD
END:VTIMEZONE
BEGIN:VEVENT
DTSTART;TZID=America/Chicago:20251204T190000
DTEND;TZID=America/Chicago:20251204T210000
DTSTAMP:20260419T125653
CREATED:20250909T024200Z
LAST-MODIFIED:20251031T155324Z
UID:20006571-1764874800-1764882000@gortoncenter.org
SUMMARY:ECHO IN THE CANYON
DESCRIPTION:Echo In The Canyon celebrates the explosion of popular music that came out of LA’s Laurel Canyon in the mid-60s as folk went electric and The Byrds\, The Beach Boys\, Buffalo Springfield and The Mamas and the Papas gave birth to the California Sound. It was a moment (1965 to 1967) when bands came to LA to emulate The Beatles and Laurel Canyon emerged as a hotbed of creativity and collaboration for a new generation of musicians who would soon put an indelible stamp on the history of American popular music. \nFeaturing Jakob Dylan\, the film explores the Laurel Canyon scene via never-before-heard personal details behind the bands and their songs and how that music continues to inspire today. Echo in the Canyon contains candid conversations and performances with Brian Wilson (The Beach Boys)\, Michelle Phillips (Mamas & the Papas)\, Stephen Stills (Buffalo Springfield)\, David Crosby (The Byrds)\, Roger McGuinn (The Byrds) their contemporaries Ringo Starr\, Eric Clapton\, Graham Nash and slightly younger followers Jackson Browne and Tom Petty (in his last film interview) as well as contemporary musicians influenced by their music such as Beck\, Fiona Apple\, Cat Power\, Regina Spektor and Norah Jones. \nDirector: Andrew Slater\nWriters: Andrew Slater\, Eric Barrett\nStars: The Byrds\, The Beach Boys\, Buffalo Springfield \nWe are especially grateful to the Sheffield Foundation for sponsoring this screening.
URL:https://gortoncenter.org/event/echo-in-the-canyon/
LOCATION:Gorton Center – John & Nancy Hughes Theater\, 400 E. Illinois Road\, Lake Forest\, IL\, 60045\, United States
CATEGORIES:Documentary,Film
ATTACH;FMTTYPE=image/jpeg:https://gortoncenter.org/wp-content/uploads/2025/08/echo-canyon-horiz.jpg
END:VEVENT
BEGIN:VEVENT
DTSTART;TZID=America/Chicago:20251228T150000
DTEND;TZID=America/Chicago:20251228T173000
DTSTAMP:20260419T125653
CREATED:20250912T183109Z
LAST-MODIFIED:20251031T163059Z
UID:20006577-1766934000-1766943000@gortoncenter.org
SUMMARY:76TH ANNUAL WARREN MILLER FILM TOUR: SNO-CIETY
DESCRIPTION:This fall\, Warren Miller’s SNO-CIETY brings the global ski and snowboard community back together to celebrate the start of the season for the 76th year. From the Scottish Highlands and the streets of Finland to the back bowls of Whitewater\, BC and a local hill-turned-terrain park in downtown Denver\, SNO-CIETY celebrates the spirit of winter—wherever you ride and however you connect to the snow and the community around it.
URL:https://gortoncenter.org/event/76th-annual-warren-miller-film-tour-sno-ciety/
LOCATION:Gorton Center – John & Nancy Hughes Theater\, 400 E. Illinois Road\, Lake Forest\, IL\, 60045\, United States
CATEGORIES:Documentary,Film
ATTACH;FMTTYPE=image/png:https://gortoncenter.org/wp-content/uploads/2025/09/Sno-Ciety.png
END:VEVENT
BEGIN:VEVENT
DTSTART;TZID=America/Chicago:20251228T190000
DTEND;TZID=America/Chicago:20251228T213000
DTSTAMP:20260419T125653
CREATED:20250912T183234Z
LAST-MODIFIED:20251118T194230Z
UID:20006689-1766948400-1766957400@gortoncenter.org
SUMMARY:76TH ANNUAL WARREN MILLER FILM TOUR: SNO-CIETY
DESCRIPTION:This fall\, Warren Miller’s SNO-CIETY brings the global ski and snowboard community back together to celebrate the start of the season for the 76th year. From the Scottish Highlands and the streets of Finland to the back bowls of Whitewater\, BC and a local hill-turned-terrain park in downtown Denver\, SNO-CIETY celebrates the spirit of winter—wherever you ride and however you connect to the snow and the community around it.
URL:https://gortoncenter.org/event/76th-annual-warren-miller-film-tour-sno-ciety-2/
LOCATION:Gorton Center – John & Nancy Hughes Theater\, 400 E. Illinois Road\, Lake Forest\, IL\, 60045\, United States
CATEGORIES:Documentary,Film
ATTACH;FMTTYPE=image/png:https://gortoncenter.org/wp-content/uploads/2025/09/Sno-Ciety.png
END:VEVENT
END:VCALENDAR