BEGIN:VCALENDAR
VERSION:2.0
PRODID:-//Gorton Center - ECPv6.15.17//NONSGML v1.0//EN
CALSCALE:GREGORIAN
METHOD:PUBLISH
X-ORIGINAL-URL:https://gortoncenter.org
X-WR-CALDESC:Events for Gorton Center
REFRESH-INTERVAL;VALUE=DURATION:PT1H
X-Robots-Tag:noindex
X-PUBLISHED-TTL:PT1H
BEGIN:VTIMEZONE
TZID:America/Chicago
BEGIN:DAYLIGHT
TZOFFSETFROM:-0600
TZOFFSETTO:-0500
TZNAME:CDT
DTSTART:20250309T080000
END:DAYLIGHT
BEGIN:STANDARD
TZOFFSETFROM:-0500
TZOFFSETTO:-0600
TZNAME:CST
DTSTART:20251102T070000
END:STANDARD
BEGIN:DAYLIGHT
TZOFFSETFROM:-0600
TZOFFSETTO:-0500
TZNAME:CDT
DTSTART:20260308T080000
END:DAYLIGHT
BEGIN:STANDARD
TZOFFSETFROM:-0500
TZOFFSETTO:-0600
TZNAME:CST
DTSTART:20261101T070000
END:STANDARD
BEGIN:DAYLIGHT
TZOFFSETFROM:-0600
TZOFFSETTO:-0500
TZNAME:CDT
DTSTART:20270314T080000
END:DAYLIGHT
BEGIN:STANDARD
TZOFFSETFROM:-0500
TZOFFSETTO:-0600
TZNAME:CST
DTSTART:20271107T070000
END:STANDARD
END:VTIMEZONE
BEGIN:VEVENT
DTSTART;TZID=America/Chicago:20260507T190000
DTEND;TZID=America/Chicago:20260507T210000
DTSTAMP:20260420T145614
CREATED:20260414T184445Z
LAST-MODIFIED:20260419T152929Z
UID:20007198-1778180400-1778187600@gortoncenter.org
SUMMARY:Hamnet
DESCRIPTION:Join us for a screening of The 2026 Oscar Nominee for Best Picture and Director\nHamnet is a deeply moving story about love\, family\, and loss. It draws us into a quiet world. Then it slowly reveals something profound. \nWe follow Agnes and William Shakespeare as they build a life together. Their days feel ordinary at first. A home. Children. Work. However\, beneath it all\, there’s tension between ambition and belonging. \nThen everything changes. \nWhen their young son\, Hamnet\, dies\, their world fractures. Grief enters. It lingers. And it reshapes everything they thought they knew. \nAt the same time\, the film stays intimate. It focuses on small moments. A glance. A memory. A silence. Because of this\, the story feels deeply human and immediate. \nAs the family navigates loss\, we begin to see transformation. William turns inward. Then outward. Eventually\, his grief finds expression through his work. Art becomes a way forward. \nMeanwhile\, Agnes remains at the emotional center. She holds memory. She carries love. And she shows us what it means to endure. \nUltimately\, Hamnet is not just about tragedy. Instead\, it’s about connection. It’s about how love persists. And how creativity can grow from even the deepest sorrow. \nWe are especially grateful to the Sheffield Foundation for sponsoring this screening.
URL:https://gortoncenter.org/event/hamnet/
LOCATION:Gorton Center\, 400 East Illinois Road\, Lake Forest\, IL\, 60045
CATEGORIES:Classics,Film
ATTACH;FMTTYPE=image/png:https://gortoncenter.org/wp-content/uploads/2026/04/Hamnet.png
GEO:42.2506703;-87.8374004
X-APPLE-STRUCTURED-LOCATION;VALUE=URI;X-ADDRESS=Gorton Center 400 East Illinois Road Lake Forest IL 60045;X-APPLE-RADIUS=500;X-TITLE=400 East Illinois Road:geo:-87.8374004,42.2506703
END:VEVENT
END:VCALENDAR