BEGIN:VCALENDAR
VERSION:2.0
PRODID:-//Gorton Center - ECPv6.15.17//NONSGML v1.0//EN
CALSCALE:GREGORIAN
METHOD:PUBLISH
X-ORIGINAL-URL:https://gortoncenter.org
X-WR-CALDESC:Events for Gorton Center
REFRESH-INTERVAL;VALUE=DURATION:PT1H
X-Robots-Tag:noindex
X-PUBLISHED-TTL:PT1H
BEGIN:VTIMEZONE
TZID:America/Chicago
BEGIN:DAYLIGHT
TZOFFSETFROM:-0600
TZOFFSETTO:-0500
TZNAME:CDT
DTSTART:20230312T080000
END:DAYLIGHT
BEGIN:STANDARD
TZOFFSETFROM:-0500
TZOFFSETTO:-0600
TZNAME:CST
DTSTART:20231105T070000
END:STANDARD
BEGIN:DAYLIGHT
TZOFFSETFROM:-0600
TZOFFSETTO:-0500
TZNAME:CDT
DTSTART:20240310T080000
END:DAYLIGHT
BEGIN:STANDARD
TZOFFSETFROM:-0500
TZOFFSETTO:-0600
TZNAME:CST
DTSTART:20241103T070000
END:STANDARD
BEGIN:DAYLIGHT
TZOFFSETFROM:-0600
TZOFFSETTO:-0500
TZNAME:CDT
DTSTART:20250309T080000
END:DAYLIGHT
BEGIN:STANDARD
TZOFFSETFROM:-0500
TZOFFSETTO:-0600
TZNAME:CST
DTSTART:20251102T070000
END:STANDARD
END:VTIMEZONE
BEGIN:VEVENT
DTSTART;TZID=America/Chicago:20240921T110000
DTEND;TZID=America/Chicago:20240921T150000
DTSTAMP:20260420T224403
CREATED:20240823T194615Z
LAST-MODIFIED:20240917T204140Z
UID:20006117-1726916400-1726930800@gortoncenter.org
SUMMARY:Revelry Food & Wine Festival Hosts the Ultimate Burger Battle
DESCRIPTION:Whiskey\, Wu-tang & Wagyu Burger Battle\nPresented by Good Ranchers and hosted by Hockey Legend and Hall of Famer Jeremy Roenick and Food Network star Troy Johnson. This paramount Burger Battle takes place in the heart of downtown Lake Forest. Ten professional chefs will go head to head for the ultimate reward: Wagyu Burger Champion. Each Chef will create a signature burger using Good Ranchers premium Wagyu Beef. The winner will be selected by a panel of celebrity judges. The event will have live music\, craft brews and cocktails\, along with other local food favorites and fun activities for the kids.\nTicket price includes all food and beverage\nThis event is in The Gorton Center Parking Lot\n 
URL:https://gortoncenter.org/event/revelry-food-wine-festival-hosts-the-ultimate-burger-battle/
LOCATION:Gorton Center\, 400 East Illinois Road\, Lake Forest\, IL\, 60045
CATEGORIES:Community,Events,Rental Events
ATTACH;FMTTYPE=image/avif:https://gortoncenter.org/wp-content/uploads/2024/08/Burger-Battle-1.avif
GEO:42.2506703;-87.8374004
X-APPLE-STRUCTURED-LOCATION;VALUE=URI;X-ADDRESS=Gorton Center 400 East Illinois Road Lake Forest IL 60045;X-APPLE-RADIUS=500;X-TITLE=400 East Illinois Road:geo:-87.8374004,42.2506703
END:VEVENT
END:VCALENDAR