BEGIN:VCALENDAR
VERSION:2.0
PRODID:-//Gorton Center - ECPv6.15.17//NONSGML v1.0//EN
CALSCALE:GREGORIAN
METHOD:PUBLISH
X-ORIGINAL-URL:https://gortoncenter.org
X-WR-CALDESC:Events for Gorton Center
REFRESH-INTERVAL;VALUE=DURATION:PT1H
X-Robots-Tag:noindex
X-PUBLISHED-TTL:PT1H
BEGIN:VTIMEZONE
TZID:America/Chicago
BEGIN:DAYLIGHT
TZOFFSETFROM:-0600
TZOFFSETTO:-0500
TZNAME:CDT
DTSTART:20230312T080000
END:DAYLIGHT
BEGIN:STANDARD
TZOFFSETFROM:-0500
TZOFFSETTO:-0600
TZNAME:CST
DTSTART:20231105T070000
END:STANDARD
BEGIN:DAYLIGHT
TZOFFSETFROM:-0600
TZOFFSETTO:-0500
TZNAME:CDT
DTSTART:20240310T080000
END:DAYLIGHT
BEGIN:STANDARD
TZOFFSETFROM:-0500
TZOFFSETTO:-0600
TZNAME:CST
DTSTART:20241103T070000
END:STANDARD
BEGIN:DAYLIGHT
TZOFFSETFROM:-0600
TZOFFSETTO:-0500
TZNAME:CDT
DTSTART:20250309T080000
END:DAYLIGHT
BEGIN:STANDARD
TZOFFSETFROM:-0500
TZOFFSETTO:-0600
TZNAME:CST
DTSTART:20251102T070000
END:STANDARD
END:VTIMEZONE
BEGIN:VEVENT
DTSTART;TZID=America/Chicago:20240911T183000
DTEND;TZID=America/Chicago:20240911T193000
DTSTAMP:20260424T051935
CREATED:20240823T190321Z
LAST-MODIFIED:20240823T190321Z
UID:20006116-1726079400-1726083000@gortoncenter.org
SUMMARY:Lake Forest Preservation Foundation Presents "New Buildings in Old Cities"
DESCRIPTION:“New Building in Old Cities:\nAdvice from an Early 20th Century Italian Master”\nwith Author Steven W. Semes \nWednesday\, September 11\n6:30-7:30 p.m.\nJoin us for an engaging program with Steven W. Semes\, Professor of Architecture and Director of the Duda Center for Preservation\, Resilience and Sustainability at the University of Notre Dame. He will speak about his new book titled New Building in Old Cities: Writings by Gustavo Giovannoni on Architectural and Urban Conservation. Giovannoni (1873-1947) was a central figure in the fields of architecture\, urbanism and historic preservation in the first half of the 20th century in his native Italy and throughout Europe. His theory and practice have had a profound influence in these fields up to the present day\, including a sense of community between historic architecture and contemporary design\, the mission of restoration to make our historic monuments whole\, and a deep sense of respect for the character and meaning of historic buildings\, cities and landscapes. \nThere is no charge for the program but registration is required.
URL:https://gortoncenter.org/event/lake-forest-preservation-foundation-presents-new-buildings-in-old-cities/
LOCATION:Gorton Center – Stuart Community Room
CATEGORIES:Community,Events,Rental Events
ATTACH;FMTTYPE=image/jpeg:https://gortoncenter.org/wp-content/uploads/2024/08/Preservation-Book.jpg
END:VEVENT
END:VCALENDAR