BEGIN:VCALENDAR
VERSION:2.0
PRODID:-//Gorton Center - ECPv6.15.17//NONSGML v1.0//EN
CALSCALE:GREGORIAN
METHOD:PUBLISH
X-WR-CALNAME:Gorton Center
X-ORIGINAL-URL:https://gortoncenter.org
X-WR-CALDESC:Events for Gorton Center
REFRESH-INTERVAL;VALUE=DURATION:PT1H
X-Robots-Tag:noindex
X-PUBLISHED-TTL:PT1H
BEGIN:VTIMEZONE
TZID:America/Chicago
BEGIN:DAYLIGHT
TZOFFSETFROM:-0600
TZOFFSETTO:-0500
TZNAME:CDT
DTSTART:20230312T080000
END:DAYLIGHT
BEGIN:STANDARD
TZOFFSETFROM:-0500
TZOFFSETTO:-0600
TZNAME:CST
DTSTART:20231105T070000
END:STANDARD
BEGIN:DAYLIGHT
TZOFFSETFROM:-0600
TZOFFSETTO:-0500
TZNAME:CDT
DTSTART:20240310T080000
END:DAYLIGHT
BEGIN:STANDARD
TZOFFSETFROM:-0500
TZOFFSETTO:-0600
TZNAME:CST
DTSTART:20241103T070000
END:STANDARD
BEGIN:DAYLIGHT
TZOFFSETFROM:-0600
TZOFFSETTO:-0500
TZNAME:CDT
DTSTART:20250309T080000
END:DAYLIGHT
BEGIN:STANDARD
TZOFFSETFROM:-0500
TZOFFSETTO:-0600
TZNAME:CST
DTSTART:20251102T070000
END:STANDARD
END:VTIMEZONE
BEGIN:VEVENT
DTSTART;TZID=America/Chicago:20240906T190000
DTEND;TZID=America/Chicago:20240906T203000
DTSTAMP:20260420T204947
CREATED:20240904T203319Z
LAST-MODIFIED:20240904T203319Z
UID:20006130-1725649200-1725654600@gortoncenter.org
SUMMARY:Interview with Carolyn Myss by Jenniffer Weigel
DESCRIPTION:New York Times Bestselling author Caroline Myss returns to the Spiritual Social Club! \nJoin us for an “Intimate Conversation with the Divine”. Caroline will discuss the power of prayer – and the difference between “The Power of Love” vs. “The Love of Power.” She will also talk about her beliefs on the soul’s journey after the physical body dies\, having had many conversations with near death experiencers. Caroline will be taking questions from the audience. You don’t want to miss this very unique experience. \nCaroline Myss is a five-time New York Times bestselling author and internationally renowned speaker in the fields of human consciousness\, spirituality and mysticism\, health\, energy medicine\, and the science of medical intuition. Caroline established her own educational institute in 2003\, CMED (Caroline Myss Education)\, which offers a diverse array of programs devoted to personal development and draws students from all over the world. In addition to hosting a weekly radio show on the Hay House network\, Caroline maintains a rigorous international workshop and lecture schedule. You can learn more about Caroline on her website: Caroline Myss \nWHEN: Friday September 6th\, 7pm Central Time \nWHERE: Stuart Community Room – Gorton Center\, in Lake Forest\, Illinois \nCOST: $35 \nAll sales are final
URL:https://gortoncenter.org/event/interview-with-carolyn-myss-by-jenniffer-weigel/
LOCATION:Gorton Center – Stuart Community Room
CATEGORIES:Community,Events,Rental Events,Speakers
ATTACH;FMTTYPE=image/jpeg:https://gortoncenter.org/wp-content/uploads/2024/09/mail.jpg
END:VEVENT
BEGIN:VEVENT
DTSTART;TZID=America/Chicago:20240907T190000
DTEND;TZID=America/Chicago:20240907T210000
DTSTAMP:20260420T204947
CREATED:20240822T184517Z
LAST-MODIFIED:20240830T152544Z
UID:20006092-1725735600-1725742800@gortoncenter.org
SUMMARY:Herencia Mexica
DESCRIPTION:Come and experience the beauty of Mexican culture through folkloric dances and music. The 2 hour show will demonstrate the traditions from different states from Mexico.\nFor more information or tickets you may contact Emanuel Bravo at 973-641-5767 or Huitzillindanzamexicana@nullgmail.com.\nVen y experimenta la belleza de la cultura mexicana a través de los bailes folclóricos y la música. El espectáculo de 2 horas demostrará las tradiciones de diferentes estados de México. Para obtener más boletos y más información\, puede comunicarse con Emanuel Bravo al 973-641-5767 o Huitzillindanzamexicana@nullgmail.com.
URL:https://gortoncenter.org/event/herencia-mexica/
LOCATION:Gorton Center – John & Nancy Hughes Theater\, 400 E. Illinois Road\, Lake Forest\, IL\, 60045\, United States
CATEGORIES:Rental Events
ATTACH;FMTTYPE=image/jpeg:https://gortoncenter.org/wp-content/uploads/2024/08/September-7-event.jpg
END:VEVENT
END:VCALENDAR