BEGIN:VCALENDAR
VERSION:2.0
PRODID:-//Gorton Center - ECPv6.15.17//NONSGML v1.0//EN
CALSCALE:GREGORIAN
METHOD:PUBLISH
X-WR-CALNAME:Gorton Center
X-ORIGINAL-URL:https://gortoncenter.org
X-WR-CALDESC:Events for Gorton Center
REFRESH-INTERVAL;VALUE=DURATION:PT1H
X-Robots-Tag:noindex
X-PUBLISHED-TTL:PT1H
BEGIN:VTIMEZONE
TZID:America/Chicago
BEGIN:DAYLIGHT
TZOFFSETFROM:-0600
TZOFFSETTO:-0500
TZNAME:CDT
DTSTART:20250309T080000
END:DAYLIGHT
BEGIN:STANDARD
TZOFFSETFROM:-0500
TZOFFSETTO:-0600
TZNAME:CST
DTSTART:20251102T070000
END:STANDARD
BEGIN:DAYLIGHT
TZOFFSETFROM:-0600
TZOFFSETTO:-0500
TZNAME:CDT
DTSTART:20260308T080000
END:DAYLIGHT
BEGIN:STANDARD
TZOFFSETFROM:-0500
TZOFFSETTO:-0600
TZNAME:CST
DTSTART:20261101T070000
END:STANDARD
BEGIN:DAYLIGHT
TZOFFSETFROM:-0600
TZOFFSETTO:-0500
TZNAME:CDT
DTSTART:20270314T080000
END:DAYLIGHT
BEGIN:STANDARD
TZOFFSETFROM:-0500
TZOFFSETTO:-0600
TZNAME:CST
DTSTART:20271107T070000
END:STANDARD
END:VTIMEZONE
BEGIN:VEVENT
DTSTART;TZID=America/Chicago:20260312T090000
DTEND;TZID=America/Chicago:20260312T143000
DTSTAMP:20260424T165310
CREATED:20260209T183536Z
LAST-MODIFIED:20260211T170957Z
UID:20007034-1773306000-1773325800@gortoncenter.org
SUMMARY:FREE Community Youth Mental Health First Aid
DESCRIPTION:The Josselyn Center is offering a free training session for anyone in our community who works with teens. Whether you’re an educator\, coach\, volunteer\, parent or youth leader\, this session is for you. \nFirst\, we’ll help you understand what today’s teens are facing. Then\, you’ll learn how to recognize the early signs of mental health challenges and substance use. You’ll gain practical tools. Clear language. Real-world examples. \nNext\, we’ll walk through how to start supportive conversations. What do you say? How do you listen? Where do you turn for help? We’ll answer those questions and more. \nMost importantly\, you’ll leave feeling confident. Prepared. Empowered to act. \nTogether\, we can create a stronger safety net for the teens in our community. Join us and be part of the solution. \nScan the QR code or click ‘register’ to sign up.
URL:https://gortoncenter.org/event/free-community-youth-mental-health-first-aid/
LOCATION:Gorton Center\, 400 East Illinois Road\, Lake Forest\, IL\, 60045
CATEGORIES:Adults,Age,Community,Events,Rental Events
ATTACH;FMTTYPE=application/pdf:https://gortoncenter.org/wp-content/uploads/2026/02/03.12.26_FREE-Community-Youth-MHFA-Training-Flyer.pdf
GEO:42.2506703;-87.8374004
X-APPLE-STRUCTURED-LOCATION;VALUE=URI;X-ADDRESS=Gorton Center 400 East Illinois Road Lake Forest IL 60045;X-APPLE-RADIUS=500;X-TITLE=400 East Illinois Road:geo:-87.8374004,42.2506703
END:VEVENT
BEGIN:VEVENT
DTSTART;TZID=America/Chicago:20260327T193000
DTEND;TZID=America/Chicago:20260327T213000
DTSTAMP:20260424T165310
CREATED:20260303T203014Z
LAST-MODIFIED:20260306T215659Z
UID:20007074-1774639800-1774647000@gortoncenter.org
SUMMARY:Spring Into Action by Concert Opera of Greater Chicago
DESCRIPTION:Spring Into Action: Opera Gala & Benefit\n\n\n … join us for an evening of operatic arias\, ensembles\, wine & canapés.\nThis gala is an exciting fundraiser for our summer full- concert production of Verdi’s Don Carlo.\nThis concert is presented in the original languages with English super titles. \nMusic by: Mozart\, Verdi\, Donizetti\, Puccini & more……\nTickets: $40\, Includes concert and wine reception.
URL:https://gortoncenter.org/event/spring-into-action-by-concert-opera-of-greater-chicago/
LOCATION:Gorton Center – John & Nancy Hughes Theater\, 400 E. Illinois Road\, Lake Forest\, IL\, 60045\, United States
CATEGORIES:Rental Events
ATTACH;FMTTYPE=image/jpeg:https://gortoncenter.org/wp-content/uploads/2026/03/Opera-3-27-26.jpeg
END:VEVENT
END:VCALENDAR