BEGIN:VCALENDAR
VERSION:2.0
PRODID:-//Gorton Center - ECPv6.15.17//NONSGML v1.0//EN
CALSCALE:GREGORIAN
METHOD:PUBLISH
X-WR-CALNAME:Gorton Center
X-ORIGINAL-URL:https://gortoncenter.org
X-WR-CALDESC:Events for Gorton Center
REFRESH-INTERVAL;VALUE=DURATION:PT1H
X-Robots-Tag:noindex
X-PUBLISHED-TTL:PT1H
BEGIN:VTIMEZONE
TZID:America/Chicago
BEGIN:DAYLIGHT
TZOFFSETFROM:-0600
TZOFFSETTO:-0500
TZNAME:CDT
DTSTART:20230312T080000
END:DAYLIGHT
BEGIN:STANDARD
TZOFFSETFROM:-0500
TZOFFSETTO:-0600
TZNAME:CST
DTSTART:20231105T070000
END:STANDARD
BEGIN:DAYLIGHT
TZOFFSETFROM:-0600
TZOFFSETTO:-0500
TZNAME:CDT
DTSTART:20240310T080000
END:DAYLIGHT
BEGIN:STANDARD
TZOFFSETFROM:-0500
TZOFFSETTO:-0600
TZNAME:CST
DTSTART:20241103T070000
END:STANDARD
BEGIN:DAYLIGHT
TZOFFSETFROM:-0600
TZOFFSETTO:-0500
TZNAME:CDT
DTSTART:20250309T080000
END:DAYLIGHT
BEGIN:STANDARD
TZOFFSETFROM:-0500
TZOFFSETTO:-0600
TZNAME:CST
DTSTART:20251102T070000
END:STANDARD
END:VTIMEZONE
BEGIN:VEVENT
DTSTART;TZID=America/Chicago:20241207T150000
DTEND;TZID=America/Chicago:20241207T170000
DTSTAMP:20260420T073335
CREATED:20241029T193320Z
LAST-MODIFIED:20241118T190822Z
UID:20006168-1733583600-1733590800@gortoncenter.org
SUMMARY:Book Talk with Judge David Tatel about Memoir "Vision"
DESCRIPTION:“Vision” is memoir by retired Judge David Tatal\, a retired Judge\, about becoming blind\, his legal and judicial careers as well as the newest family addition\, Vixen\, his guide dog.\nThe “moving\, thoughtful\, and inspiring memoir” by Bryan Stevenson\, author of Just Mercy\, about one of America’s most accomplished public servants and legal thinkers—who spent years denying and working around his blindness\, before finally embracing it as an essential part of his identity. \nDavid Tatel has served nearly 30 years on America’s second highest court\, the United States Court of Appeals for the D.C. Circuit\, where many of our most crucial cases are resolved—or teed up for the Supreme Court. He has championed equal justice for his entire adult life; decided landmark environmental and voting cases; and embodied the ideal of what a great judge should be. Yet he has been blind for the past 50 of his 80-plus years.\nInitially\, he depended upon aides to read texts to him\, and more recently\, a suite of hi-tech solutions has allowed him to listen to reams of documents at high speeds. At first\, he tried to hide his deteriorating vision\, and for years\, he denied that it had any impact on his career. Only recently\, partly thanks to his first-ever guide dog\, Vixen\, has he come to fully accept his blindness and the role it’s played in his personal and professional lives. His story of fighting for justice over many decades\, with and without eyesight\, is an inspiration to us all. \n“This memoir of a judge of the country’s second highest court\, who has been without sight for decades\, goes down like a cool drink on a hot day.” —Scott Turow\, #1 bestselling author of Suspect\n“Deeply moving and packed with wisdom.” —Frank Bruni\, New York Times \nCLICK TO REGISTER
URL:https://gortoncenter.org/event/book-talk-with-judge-david-tatel-about-his-memoir-vision/
LOCATION:Gorton Center – Stuart Community Room
CATEGORIES:Community,Events,Rental Events,Speakers
END:VEVENT
BEGIN:VEVENT
DTSTART;TZID=America/Chicago:20241207T160000
DTEND;TZID=America/Chicago:20241207T180000
DTSTAMP:20260420T073335
CREATED:20241030T150940Z
LAST-MODIFIED:20241031T162847Z
UID:20006169-1733587200-1733594400@gortoncenter.org
SUMMARY:Makkai Nutcracker-Saturday 2024
DESCRIPTION:The Ballet Makkai Youth Company and students from the Irina Makkai Classical Ballet School perform The Nutcracker. Let your visions of Sugar Plums become reality with this family holiday favorite. Join Clara at her party where she receives the gift of a lifetime\, battles giant mice\, and travels through a Winter Wonderland to visit the Land of Sweets. See your favorites candies come to life and dance\, full of colorful costumes and exciting choreography\, the Ballet Makkai Nutcracker is fun for the whole family.
URL:https://gortoncenter.org/event/makkai-nutcracker-saturday2024/
LOCATION:Gorton Center – John & Nancy Hughes Theater\, 400 E. Illinois Road\, Lake Forest\, IL\, 60045\, United States
CATEGORIES:Rental Events
ATTACH;FMTTYPE=image/jpeg:https://gortoncenter.org/wp-content/uploads/2023/01/Irina-Makkai-Nutcracker-Image-2019.jpg
END:VEVENT
BEGIN:VEVENT
DTSTART;TZID=America/Chicago:20241208T140000
DTEND;TZID=America/Chicago:20241208T160000
DTSTAMP:20260420T073335
CREATED:20241031T162957Z
LAST-MODIFIED:20241031T162957Z
UID:20006170-1733666400-1733673600@gortoncenter.org
SUMMARY:Makkai Nutcracker-Sunday 2024
DESCRIPTION:The Ballet Makkai Youth Company and students from the Irina Makkai Classical Ballet School perform The Nutcracker. Let your visions of Sugar Plums become reality with this family holiday favorite. Join Clara at her party where she receives the gift of a lifetime\, battles giant mice\, and travels through a Winter Wonderland to visit the Land of Sweets. See your favorites candies come to life and dance\, full of colorful costumes and exciting choreography\, the Ballet Makkai Nutcracker is fun for the whole family.
URL:https://gortoncenter.org/event/makkai-nutcracker-sunday-2024/
LOCATION:Gorton Center – John & Nancy Hughes Theater\, 400 E. Illinois Road\, Lake Forest\, IL\, 60045\, United States
CATEGORIES:Rental Events
ATTACH;FMTTYPE=image/jpeg:https://gortoncenter.org/wp-content/uploads/2023/01/Irina-Makkai-Nutcracker-Image-2019.jpg
END:VEVENT
END:VCALENDAR