BEGIN:VCALENDAR
VERSION:2.0
PRODID:-//Gorton Center - ECPv6.15.17//NONSGML v1.0//EN
CALSCALE:GREGORIAN
METHOD:PUBLISH
X-ORIGINAL-URL:https://gortoncenter.org
X-WR-CALDESC:Events for Gorton Center
REFRESH-INTERVAL;VALUE=DURATION:PT1H
X-Robots-Tag:noindex
X-PUBLISHED-TTL:PT1H
BEGIN:VTIMEZONE
TZID:America/Chicago
BEGIN:DAYLIGHT
TZOFFSETFROM:-0600
TZOFFSETTO:-0500
TZNAME:CDT
DTSTART:20230312T080000
END:DAYLIGHT
BEGIN:STANDARD
TZOFFSETFROM:-0500
TZOFFSETTO:-0600
TZNAME:CST
DTSTART:20231105T070000
END:STANDARD
BEGIN:DAYLIGHT
TZOFFSETFROM:-0600
TZOFFSETTO:-0500
TZNAME:CDT
DTSTART:20240310T080000
END:DAYLIGHT
BEGIN:STANDARD
TZOFFSETFROM:-0500
TZOFFSETTO:-0600
TZNAME:CST
DTSTART:20241103T070000
END:STANDARD
BEGIN:DAYLIGHT
TZOFFSETFROM:-0600
TZOFFSETTO:-0500
TZNAME:CDT
DTSTART:20250309T080000
END:DAYLIGHT
BEGIN:STANDARD
TZOFFSETFROM:-0500
TZOFFSETTO:-0600
TZNAME:CST
DTSTART:20251102T070000
END:STANDARD
END:VTIMEZONE
BEGIN:VEVENT
DTSTART;TZID=America/Chicago:20241108T190000
DTEND;TZID=America/Chicago:20241108T213000
DTSTAMP:20260420T125245
CREATED:20241101T181233Z
LAST-MODIFIED:20241101T181929Z
UID:20006174-1731092400-1731101400@gortoncenter.org
SUMMARY:An Evening with Richard Gilewitz & Matt Schroeder
DESCRIPTION:A spectacular evening of acoustic guitar!\nRichard Gilewitz & Matt Schroeder will be leading an informal evening of acoustic guitar music. \nFor nearly four decades\, American fingerstyle wizard Richard Gilewitz has fascinated listeners with 6 and 12-string finger gymnastics while spinning enchanting yarns of a seasoned raconteur. His concert performances around the world spill over with unexpected turns of the funnies\, thought-provoking takes on life on the road\, and tunes that propel the audience on a magical journey of sight and sound. His signature playing style delivers a technical diversity of banjo style patterns and classical arpeggios with a rhythmic percussive approach\, exploring the history of guitar with sounds of folk to Americana\, the blues to the classical\, ragtime to pop\, and somewhere in between.In addition to his concert performances\, his GillaCamp Guitar and Ukulele Workshops\, Meet the Artist Seminars\, Clinics\, and Avenues for Success educational program for schools inspire players worldwide\, providing opportunities for music lovers to work on their craft and young players to learn fingerstyle techniques and tips of the trade. \nDate:  Friday\, November 8\, 2024\nTime: Doors open 6:30\, Concert at 7:00 pm\nRoom: Grotto\, lower level\nTickets:  $25  at the door\nFor Information: www.richardgilewitz.com
URL:https://gortoncenter.org/event/an-evening-with-richard-gilewitz-matt-schroeder/
LOCATION:Gorton Center – Grotto\, Lake Forest\, IL\, United States
CATEGORIES:Community,Events,Live Music,Rental Events
ATTACH;FMTTYPE=image/png:https://gortoncenter.org/wp-content/uploads/2024/11/Gilewitz-sm.png
GEO:42.2507017;-87.837371
END:VEVENT
BEGIN:VEVENT
DTSTART;TZID=America/Chicago:20241112T183000
DTEND;TZID=America/Chicago:20241112T193000
DTSTAMP:20260420T125245
CREATED:20241019T200629Z
LAST-MODIFIED:20241028T193135Z
UID:20006164-1731436200-1731439800@gortoncenter.org
SUMMARY:Lake Forest Preservation Foundation Features Charles J. Stick & His Gardens
DESCRIPTION:Join us for a program featuring Charles J. Stick\, the Virginia-based landscape architect renowned for his historically and culturally-based gardens filled with luxuriant blooms.\nA fascinating new monograph\, Charles J. Stick and His Gardens\, written by Jeff Poole\, puts a spotlight on Stick’s beautiful designs. Focusing on residential gardens\, Stick draws on principles of Palladio\, Charles A. Platt and Russell Page to connect architecture to land and develop enticing pathways between formal plating and the landscape beyond.\nOrganized into two main sections\, the book highlights four landscapes that Stick has designed and nurtured over decades of close collaboration with the owners: Crab Tree Farm since the mid 1980s in Lake Bluff\, Mount Sharon near Charlottesville\, VA\, Sleepy Cat Farm in Greenwich\, CT\, and Waverley in VA. Each one is examined in depth from a personal\, philosophical and design perspective\, revealing flourishing\, historically grounded landscapes and offering new insights into his process\, as well as the intimacy of his client relationships. \nThe second section of the book features ten additional gardens including others in Lake Forest and Winnetka as well as all over the country that demonstrate Stick’s ability to adapt his signature style to varied geographies. \nThis event was made possible by the generosity of Crab Tree Farm. The program is free\, but registration is required at:  https://www.lfpf.org/events-listing/charles-j-stick-and-his-gardens  \n\nTuesday\, November 12\, 2024\n 6:30 PM 7:30 PM
URL:https://gortoncenter.org/event/lake-forest-preservation-foundation-features-charles-j-slick-his-gardens/
LOCATION:Gorton Center – Stuart Community Room
CATEGORIES:Rental Events
ATTACH;FMTTYPE=image/png:https://gortoncenter.org/wp-content/uploads/2024/10/Crab-Tree-Garden.png
END:VEVENT
BEGIN:VEVENT
DTSTART;TZID=America/Chicago:20241119T183000
DTEND;TZID=America/Chicago:20241119T200000
DTSTAMP:20260420T125245
CREATED:20241114T225806Z
LAST-MODIFIED:20241118T192307Z
UID:20006178-1732041000-1732046400@gortoncenter.org
SUMMARY:Lake Forest College International Celebration
DESCRIPTION:The International Students Association (ISA) warmly invites the Lake Forest College community and beyond to our “One World” event\, an immersive celebration of the diverse cultures and traditions that enrich our campus. This event will feature captivating performances\, including dance\, singing\, and poetry\, as well as the opportunity to enjoy traditional dishes selected by students\, offering a taste of cuisines from around the world. \nBy welcoming both on and off-campus guests\, we aim to foster an environment where cultural exchange thrives\, promoting mutual respect and understanding while deepening our appreciation for global diversity. Attendees will experience the beauty and richness of various cultures\, making this a truly unique event. \nBeyond sharing our vibrant cultural traditions\, “One World” serves a crucial purpose as a fundraiser to support international students on F-1 visas who are facing financial difficulties. The funds raised from this event will directly alleviate some of the financial burdens\, helping them focus on their academic success and overall well-being. \nDate:   Tuesday November 19\, 2024 – 6:30pm – 8:00pm  \nPlace: Gorton Center\, John & Nancy Hughes Theater\n \nRegister at: https://secure.acceptiva.com/?cst=jXApwX
URL:https://gortoncenter.org/event/lake-forest-college-isas-one-world-a-cultural-journey-fundraiser/
LOCATION:Gorton Center\, 400 East Illinois Road\, Lake Forest\, IL\, 60045
CATEGORIES:Community,Events,Live Music,Music,Rental Events
ATTACH;FMTTYPE=image/png:https://gortoncenter.org/wp-content/uploads/2024/11/LF-College-International-11-19-24.png
GEO:42.2506703;-87.8374004
X-APPLE-STRUCTURED-LOCATION;VALUE=URI;X-ADDRESS=Gorton Center 400 East Illinois Road Lake Forest IL 60045;X-APPLE-RADIUS=500;X-TITLE=400 East Illinois Road:geo:-87.8374004,42.2506703
END:VEVENT
END:VCALENDAR