BEGIN:VCALENDAR
VERSION:2.0
PRODID:-//Gorton Center - ECPv6.15.17//NONSGML v1.0//EN
CALSCALE:GREGORIAN
METHOD:PUBLISH
X-ORIGINAL-URL:https://gortoncenter.org
X-WR-CALDESC:Events for Gorton Center
REFRESH-INTERVAL;VALUE=DURATION:PT1H
X-Robots-Tag:noindex
X-PUBLISHED-TTL:PT1H
BEGIN:VTIMEZONE
TZID:America/Chicago
BEGIN:DAYLIGHT
TZOFFSETFROM:-0600
TZOFFSETTO:-0500
TZNAME:CDT
DTSTART:20230312T080000
END:DAYLIGHT
BEGIN:STANDARD
TZOFFSETFROM:-0500
TZOFFSETTO:-0600
TZNAME:CST
DTSTART:20231105T070000
END:STANDARD
BEGIN:DAYLIGHT
TZOFFSETFROM:-0600
TZOFFSETTO:-0500
TZNAME:CDT
DTSTART:20240310T080000
END:DAYLIGHT
BEGIN:STANDARD
TZOFFSETFROM:-0500
TZOFFSETTO:-0600
TZNAME:CST
DTSTART:20241103T070000
END:STANDARD
BEGIN:DAYLIGHT
TZOFFSETFROM:-0600
TZOFFSETTO:-0500
TZNAME:CDT
DTSTART:20250309T080000
END:DAYLIGHT
BEGIN:STANDARD
TZOFFSETFROM:-0500
TZOFFSETTO:-0600
TZNAME:CST
DTSTART:20251102T070000
END:STANDARD
END:VTIMEZONE
BEGIN:VEVENT
DTSTART;TZID=America/Chicago:20240618T080000
DTEND;TZID=America/Chicago:20240618T140000
DTSTAMP:20260421T031158
CREATED:20240401T191100Z
LAST-MODIFIED:20240607T145211Z
UID:20005929-1718697600-1718719200@gortoncenter.org
SUMMARY:Gold & Silver Roadshow
DESCRIPTION:Join us for an all-day gold & silver Roadshow buying event with returning\, trusted gold & silver buyer\, David Kaz of DMK Metal. David will be onsite to evaluate and buy any items you wish to sell. \nHOW TO BOOK YOUR PRIVATE 30-MINUTE APPOINTMENT WITH DAVID KAZ: Simply scan the QR code on the flier or you can contact David directly by phone\, 847-508-0224\, or email\, david@nulldmk-metal.com to schedule your appointment.  https://calendly.com/dmkmetal/gortongold.\nWalk-ins accepted also.
URL:https://gortoncenter.org/event/gold-silver-evaluation-buying-event/
LOCATION:Gorton Center – Nagel Room\, 400 E. Illinois Road\, Lake Forest\, 60045\, United States
CATEGORIES:Rental Events
ATTACH;FMTTYPE=image/jpeg:https://gortoncenter.org/wp-content/uploads/2024/04/Katz-flier-6-18-24-8.5-x-11-in.jpg
GEO:42.2506523;-87.8373864
X-APPLE-STRUCTURED-LOCATION;VALUE=URI;X-ADDRESS=Gorton Center – Nagel Room 400 E. Illinois Road Lake Forest 60045 United States;X-APPLE-RADIUS=500;X-TITLE=400 E. Illinois Road:geo:-87.8373864,42.2506523
END:VEVENT
END:VCALENDAR