BEGIN:VCALENDAR
VERSION:2.0
PRODID:-//Gorton Center - ECPv6.15.17//NONSGML v1.0//EN
CALSCALE:GREGORIAN
METHOD:PUBLISH
X-ORIGINAL-URL:https://gortoncenter.org
X-WR-CALDESC:Events for Gorton Center
REFRESH-INTERVAL;VALUE=DURATION:PT1H
X-Robots-Tag:noindex
X-PUBLISHED-TTL:PT1H
BEGIN:VTIMEZONE
TZID:America/Chicago
BEGIN:DAYLIGHT
TZOFFSETFROM:-0600
TZOFFSETTO:-0500
TZNAME:CDT
DTSTART:20230312T080000
END:DAYLIGHT
BEGIN:STANDARD
TZOFFSETFROM:-0500
TZOFFSETTO:-0600
TZNAME:CST
DTSTART:20231105T070000
END:STANDARD
BEGIN:DAYLIGHT
TZOFFSETFROM:-0600
TZOFFSETTO:-0500
TZNAME:CDT
DTSTART:20240310T080000
END:DAYLIGHT
BEGIN:STANDARD
TZOFFSETFROM:-0500
TZOFFSETTO:-0600
TZNAME:CST
DTSTART:20241103T070000
END:STANDARD
BEGIN:DAYLIGHT
TZOFFSETFROM:-0600
TZOFFSETTO:-0500
TZNAME:CDT
DTSTART:20250309T080000
END:DAYLIGHT
BEGIN:STANDARD
TZOFFSETFROM:-0500
TZOFFSETTO:-0600
TZNAME:CST
DTSTART:20251102T070000
END:STANDARD
END:VTIMEZONE
BEGIN:VEVENT
DTSTART;TZID=America/Chicago:20240505T160000
DTEND;TZID=America/Chicago:20240505T180000
DTSTAMP:20260421T051012
CREATED:20240419T211320Z
LAST-MODIFIED:20240422T195058Z
UID:20005962-1714924800-1714932000@gortoncenter.org
SUMMARY:Lake Forest Civic Orchestra Presents "Phoenix Rising"
DESCRIPTION:The LFCO closes our season of celebration and looks ahead to next year with “Phoenix Rising.” Written in 2008\, Stella Sung’s “Phoenix Rising” reflects the tale of a mythical bird\, the phoenix\, which is considered a powerful symbol in many cultures throughout the world. We pair Sung’s work with Wagner’s popular Prelude to Die Meistersinger von Nürnberg. The program closes with a work which occupied Johannes Brahms for decades\, his Symphony No. 1. \nOur Program:\nWagner – Prelude to Die Meistersinger von Nürnberg\nSung – Phoenix Rising\nBrahms – Symphony No. 1 \nTicket prices:\n$20/adult 18-65\n$10/senior 65 and older and students with an ID\nFree to children under 12\nFor more information or tickets visit:\nhttps://www.lakeforestcivicorchestra.org/concerts-tickets/p/phoenixrising-may2024
URL:https://gortoncenter.org/event/lake-forest-civic-orchestra-presents-phoenix-rising/
LOCATION:Gorton Center – John & Nancy Hughes Theater\, 400 E. Illinois Road\, Lake Forest\, IL\, 60045\, United States
CATEGORIES:Community,Events,Live Music,Rental Events
ATTACH;FMTTYPE=image/jpeg:https://gortoncenter.org/wp-content/uploads/2024/04/LFCO-Concert-5-5-2024-scaled-e1713815361243.jpg
END:VEVENT
BEGIN:VEVENT
DTSTART;TZID=America/Chicago:20240525T140000
DTEND;TZID=America/Chicago:20240525T160000
DTSTAMP:20260421T051012
CREATED:20240507T183207Z
LAST-MODIFIED:20240514T184823Z
UID:20005991-1716645600-1716652800@gortoncenter.org
SUMMARY:Irina Makkai Dance Recital May 25\, 2024
DESCRIPTION:Come for an exciting afternoon of dance with the students from the Irina Makkai Classical Ballet and Dance School and dancers from the Ballet Makkai Youth Company. Students will be performing excerpts from Sleeping Beauty and Le Corsaire as well as dances from their Jazz\, Modern\, and Contemporary Ballet Variations class. \n 
URL:https://gortoncenter.org/event/irina-makkai-dance-recital-may25-2024/
LOCATION:Gorton Center – John & Nancy Hughes Theater\, 400 E. Illinois Road\, Lake Forest\, IL\, 60045\, United States
CATEGORIES:Events,Performing Arts,Rental Events
ATTACH;FMTTYPE=image/jpeg:https://gortoncenter.org/wp-content/uploads/2023/05/irina-makkai-image-may-2022.jpg
END:VEVENT
BEGIN:VEVENT
DTSTART;TZID=America/Chicago:20240526T140000
DTEND;TZID=America/Chicago:20240526T160000
DTSTAMP:20260421T051012
CREATED:20240507T183927Z
LAST-MODIFIED:20240514T184945Z
UID:20005992-1716732000-1716739200@gortoncenter.org
SUMMARY:Irina Makkai Dance Recital May 26\, 2024
DESCRIPTION:Come for an exciting afternoon of dance with the students from the Irina Makkai Classical Ballet and Dance School and dancers from the Ballet Makkai Youth Company. Students will be performing excerpts from Sleeping Beauty and Le Corsaire as well as dances from their Jazz\, Modern\, and Contemporary Ballet Variations class. \n 
URL:https://gortoncenter.org/event/irina-makkai-dance-recital-may-26-2024-tickets-for-sale-at-the-door/
LOCATION:Gorton Center – John & Nancy Hughes Theater\, 400 E. Illinois Road\, Lake Forest\, IL\, 60045\, United States
CATEGORIES:Events,Performing Arts,Rental Events
ATTACH;FMTTYPE=image/jpeg:https://gortoncenter.org/wp-content/uploads/2023/05/irina-makkai-image-may-2022.jpg
END:VEVENT
END:VCALENDAR