BEGIN:VCALENDAR
VERSION:2.0
PRODID:-//Gorton Center - ECPv6.15.17//NONSGML v1.0//EN
CALSCALE:GREGORIAN
METHOD:PUBLISH
X-WR-CALNAME:Gorton Center
X-ORIGINAL-URL:https://gortoncenter.org
X-WR-CALDESC:Events for Gorton Center
REFRESH-INTERVAL;VALUE=DURATION:PT1H
X-Robots-Tag:noindex
X-PUBLISHED-TTL:PT1H
BEGIN:VTIMEZONE
TZID:America/Chicago
BEGIN:DAYLIGHT
TZOFFSETFROM:-0600
TZOFFSETTO:-0500
TZNAME:CDT
DTSTART:20240310T080000
END:DAYLIGHT
BEGIN:STANDARD
TZOFFSETFROM:-0500
TZOFFSETTO:-0600
TZNAME:CST
DTSTART:20241103T070000
END:STANDARD
BEGIN:DAYLIGHT
TZOFFSETFROM:-0600
TZOFFSETTO:-0500
TZNAME:CDT
DTSTART:20250309T080000
END:DAYLIGHT
BEGIN:STANDARD
TZOFFSETFROM:-0500
TZOFFSETTO:-0600
TZNAME:CST
DTSTART:20251102T070000
END:STANDARD
BEGIN:DAYLIGHT
TZOFFSETFROM:-0600
TZOFFSETTO:-0500
TZNAME:CDT
DTSTART:20260308T080000
END:DAYLIGHT
BEGIN:STANDARD
TZOFFSETFROM:-0500
TZOFFSETTO:-0600
TZNAME:CST
DTSTART:20261101T070000
END:STANDARD
END:VTIMEZONE
BEGIN:VEVENT
DTSTART;TZID=America/Chicago:20251213T100000
DTEND;TZID=America/Chicago:20251213T113000
DTSTAMP:20260422T131044
CREATED:20250827T170014Z
LAST-MODIFIED:20251106T170012Z
UID:20006620-1765620000-1765625400@gortoncenter.org
SUMMARY:RoboThink: Holiday Workshop
DESCRIPTION:RoboThink Holiday STEM Workshop: Build\, Learn\, and Celebrate the Season!\nThe magic of the holidays will be celebrated in an exciting new way during the RoboThink Holiday Workshop at Gorton Center. In this special seasonal program\, students will be immersed in a world where creativity\, robotics\, and holiday cheer come together for an unforgettable learning experience. \nDuring this festive workshop\, participants will embark on a delightful engineering adventure inspired by a timeless holiday favorite – Rudolph the Red-Nosed Reindeer. Guided by RoboThink’s engaging STEM curriculum\, each child will build their very own robotic Rudolph\, complete with a bright\, glowing red nose that truly shines. Using gears\, motors\, and axles\, students will explore how mechanical systems work while discovering the fun side of science and technology. \nStep by step\, young inventors will assemble their creations\, learning how movement and power are transferred through simple machines. As their reindeer robots come to life\, students will gain confidence and pride in their accomplishments. Concepts such as motion\, circuitry\, and design will be explored through hands-on building – making learning both joyful and memorable. \nNo prior experience will be required. Every student will be guided by trained instructors who ensure that learning remains playful\, supportive\, and accessible. The workshop will encourage teamwork\, imagination\, and curiosity as participants share their creations and celebrate their success together. \nBy the end of the session\, each child will have built a working holiday robot that captures the wonder of the season. Along the way\, valuable STEM skills in engineering\, problem-solving\, and creative thinking will have been developed. \nThis holiday workshop is the perfect blend of fun and education\, designed to inspire young minds while spreading festive joy. So\, bring your holiday spirit\, your curiosity\, and your imagination—and get ready to make this season truly bright! \nAges: 7–12No experience necessary—just bring your creativity and enthusiasm! \n 
URL:https://gortoncenter.org/event/robothink-holiday-workshop/
LOCATION:Gorton Center\, 400 East Illinois Road\, Lake Forest\, IL\, 60045
CATEGORIES:Classes,STEM,Youth
GEO:42.2506703;-87.8374004
X-APPLE-STRUCTURED-LOCATION;VALUE=URI;X-ADDRESS=Gorton Center 400 East Illinois Road Lake Forest IL 60045;X-APPLE-RADIUS=500;X-TITLE=400 East Illinois Road:geo:-87.8374004,42.2506703
END:VEVENT
END:VCALENDAR