BEGIN:VCALENDAR
VERSION:2.0
PRODID:-//Gorton Center - ECPv6.15.17//NONSGML v1.0//EN
CALSCALE:GREGORIAN
METHOD:PUBLISH
X-WR-CALNAME:Gorton Center
X-ORIGINAL-URL:https://gortoncenter.org
X-WR-CALDESC:Events for Gorton Center
REFRESH-INTERVAL;VALUE=DURATION:PT1H
X-Robots-Tag:noindex
X-PUBLISHED-TTL:PT1H
BEGIN:VTIMEZONE
TZID:America/Chicago
BEGIN:DAYLIGHT
TZOFFSETFROM:-0600
TZOFFSETTO:-0500
TZNAME:CDT
DTSTART:20250309T080000
END:DAYLIGHT
BEGIN:STANDARD
TZOFFSETFROM:-0500
TZOFFSETTO:-0600
TZNAME:CST
DTSTART:20251102T070000
END:STANDARD
BEGIN:DAYLIGHT
TZOFFSETFROM:-0600
TZOFFSETTO:-0500
TZNAME:CDT
DTSTART:20260308T080000
END:DAYLIGHT
BEGIN:STANDARD
TZOFFSETFROM:-0500
TZOFFSETTO:-0600
TZNAME:CST
DTSTART:20261101T070000
END:STANDARD
BEGIN:DAYLIGHT
TZOFFSETFROM:-0600
TZOFFSETTO:-0500
TZNAME:CDT
DTSTART:20270314T080000
END:DAYLIGHT
BEGIN:STANDARD
TZOFFSETFROM:-0500
TZOFFSETTO:-0600
TZNAME:CST
DTSTART:20271107T070000
END:STANDARD
END:VTIMEZONE
BEGIN:VEVENT
DTSTART;TZID=America/Chicago:20260207T130000
DTEND;TZID=America/Chicago:20260207T140000
DTSTAMP:20260423T104102
CREATED:20251217T175324Z
LAST-MODIFIED:20251217T175324Z
UID:20006865-1770469200-1770472800@gortoncenter.org
SUMMARY:Good Grief Pet Loss
DESCRIPTION:Coping with the Loss of a Pet\nJoin Jessica from the Animal Hospital of West Lake Forest for a heartfelt session on understanding pet loss. This event is for anyone grieving a pet or supporting someone who is. \nPets are more than animals—they are family\, companions\, and sources of comfort. Losing them brings deep grief that’s often overlooked or misunderstood. Jessica will explain why this loss feels so intense and why it’s different from other types of grief. \nNavigating the Emotions\nPet loss can trigger many emotions\, including sadness\, guilt\, loneliness\, and anger. These feelings are valid and real. Jessica will help participants better understand these reactions and explore the emotional impact of losing a beloved pet. Mourning a pet can be difficult in a world that may not fully acknowledge that loss. Jessica will talk about the lack of societal support and the importance of recognizing the pet-owner bond. \nFinding Healing and Offering Support\nThis session offers tools and guidance for healing. Jessica will share strategies to help you move through grief and support others on their journey. Whether you’re personally grieving or want to be there for someone else\, you’ll leave with insight and compassion. \nEveryone Is Welcome\nAll pet lovers are invited to attend. This session creates a safe\, understanding space to honor your pet’s memory and learn how to cope with loss from someone who truly understands. \nJessica is a CVT who has served the Lake Forest and surrounding communities at the Animal Hospital of West Lake Forest since 2004.  She is a wife and mother of 4 with 4 dogs of her own. She is passionate about helping navigate the various aspects of pet loss.  
URL:https://gortoncenter.org/event/good-grief-february/
LOCATION:Gorton Center\, 400 East Illinois Road\, Lake Forest\, IL\, 60045
CATEGORIES:Adults,Classes,Specialty,Wellness
ATTACH;FMTTYPE=image/png:https://gortoncenter.org/wp-content/uploads/2025/08/Pet-Loss.png
GEO:42.2506703;-87.8374004
X-APPLE-STRUCTURED-LOCATION;VALUE=URI;X-ADDRESS=Gorton Center 400 East Illinois Road Lake Forest IL 60045;X-APPLE-RADIUS=500;X-TITLE=400 East Illinois Road:geo:-87.8374004,42.2506703
END:VEVENT
BEGIN:VEVENT
DTSTART;TZID=America/Chicago:20260212T190000
DTEND;TZID=America/Chicago:20260212T203000
DTSTAMP:20260423T104102
CREATED:20251211T201349Z
LAST-MODIFIED:20260211T165840Z
UID:20006845-1770922800-1770928200@gortoncenter.org
SUMMARY:College Application Process Overview for Parents
DESCRIPTION:THIS SESSION HAS BEEN CANCELLED. PLEAES JOIN US FOR THE NEXT ONE ON MARCH 12!\nUnsure of how the college application process works or not sure how to begin? Join us for a full overview of the process\, learn what is most important for applicants and complete a “You are the Admissions Officer” activity. Designed for parents of high school sophomores and juniors this information session will help you gain confidence in the process and answer your important questions. \nThis College Application Process Information Session is led by Susan Morris and Melissa Williams of Thrive U Education. Thrive U Education is an independent college search consultancy that helps families unravel the college application process by providing a clear plan\, explaining how to proceed at every step\, and teaching your student how to complete important college application milestones. Susan is the founder of Thrive U Education as well as an Independent Education Consultant specializing in recognizing what makes each student unique and special\, and Melissa is an Independent Educational Consultant and freelance writer\, focusing on college application essays as well as counseling. \n*Additional Dates (Each sessions offers the same content) \n\nMarch 12\, 7 – 8:30 pm
URL:https://gortoncenter.org/event/college-application-february/
LOCATION:Gorton Center\, 400 East Illinois Road\, Lake Forest\, IL\, 60045
CATEGORIES:Adults,Classes,Specialty
ATTACH;FMTTYPE=image/png:https://gortoncenter.org/wp-content/uploads/2025/03/College-App-Use.png
GEO:42.2506703;-87.8374004
X-APPLE-STRUCTURED-LOCATION;VALUE=URI;X-ADDRESS=Gorton Center 400 East Illinois Road Lake Forest IL 60045;X-APPLE-RADIUS=500;X-TITLE=400 East Illinois Road:geo:-87.8374004,42.2506703
END:VEVENT
BEGIN:VEVENT
DTSTART;TZID=America/Chicago:20260215T160000
DTEND;TZID=America/Chicago:20260215T173000
DTSTAMP:20260423T104102
CREATED:20251016T173012Z
LAST-MODIFIED:20260213T152539Z
UID:20006740-1771171200-1771176600@gortoncenter.org
SUMMARY:Yoga for Grief & Stress Release
DESCRIPTION:THIS CLASS HAS BEEN CANCELLED. PLEASE CHECK BACK FOR RESCHEDULED DATES.\nYoga for Grief & Stress Release\nGrief and stress don’t just live in the mind – they also take root in the body. They often show up as tight shoulders\, heavy fatigue\, headaches\, or even chronic pain. Over time\, these emotions can become trapped within us\, influencing how we move\, breathe\, and feel. As Dr. Bessel van der Kolk reminds us\, “the body keeps the score.” In other words\, our bodies remember what our minds try to forget. Therefore\, true healing must include both body and mind working together. \nIn this extended yoga class\, you’ll gently slow down and reconnect with yourself. First\, you’ll be guided through a mindful\, slow flow designed to help you move with intention. Then\, as you settle into each long hold\, you’ll begin to release tension and make space for calm. Gradually\, you’ll notice how the body softens\, the breath deepens\, and the nervous system begins to unwind. Step by step\, you’ll learn to listen to your body’s cues and respond with kindness. \nThe Magic of Breathwork\nFurthermore\, breathwork will play a central and powerful role. By focusing on steady\, conscious breathing\, you’ll discover how the rhythm of the breath can quiet the mind\, regulate the body’s stress response\, and restore a sense of safety. In addition\, restorative poses will invite deep rest – allowing your body to reset from the inside out. During these still moments\, you’ll find that your body naturally begins to let go of what no longer serves it. \nThis trauma-aware yoga class welcomes everyone. Whether you are a caregiver\, navigating grief\, recovering from trauma\, or simply seeking peace\, this class offers support and renewal. You don’t need any prior yoga experience – only a willingness to show up\, breathe\, and be present. \nAs the class unfolds\, you’ll gradually cultivate greater self-awareness and compassion for your body’s wisdom. By the end\, you’ll likely feel grounded\, lighter\, and more at ease. Ultimately\, you’ll discover that healing doesn’t always require words; instead\, it often begins with a single breath\, a gentle stretch\, and a safe place to move and rest. \nSo come as you are. Here\, you’ll find a space to release\, restore\, and reconnect – one mindful moment at a time. \n \nLara N. Dotson-Renta\, PhD is a longtime writer\, educator and scholar of languages (Spanish and French). She is also a 500hr RYT yoga instructor with trauma informed yoga training through The Veteran’s Yoga Project and children’s yoga training from Full of Joy Yoga in CT. She is also a trained death doula through INELDA (The International End of Life Doula Association). She is interested in helping others live life more fully and intentionally. \nShe resides in Lake Bluff with her family.
URL:https://gortoncenter.org/event/yoga-for-grief/
LOCATION:Gorton Center\, 400 East Illinois Road\, Lake Forest\, IL\, 60045
CATEGORIES:Adults,Classes,Specialty,Wellness
ATTACH;FMTTYPE=image/jpeg:https://gortoncenter.org/wp-content/uploads/2025/10/AdobeStock_127425025-scaled.jpeg
GEO:42.2506703;-87.8374004
X-APPLE-STRUCTURED-LOCATION;VALUE=URI;X-ADDRESS=Gorton Center 400 East Illinois Road Lake Forest IL 60045;X-APPLE-RADIUS=500;X-TITLE=400 East Illinois Road:geo:-87.8374004,42.2506703
END:VEVENT
BEGIN:VEVENT
DTSTART;TZID=America/Chicago:20260219T180000
DTEND;TZID=America/Chicago:20260219T190000
DTSTAMP:20260423T104102
CREATED:20251121T175714Z
LAST-MODIFIED:20260216T165741Z
UID:20006802-1771524000-1771527600@gortoncenter.org
SUMMARY:Thriving Through Perimenopause
DESCRIPTION:Join Us for a Transformative Nutrition and Wellness Seminar on Perimenopause!\nAre you navigating the changes of perimenopause or supporting someone who is? This empowering seminar is designed to educate\, uplift\, and equip you with the tools you need to feel strong\, balanced\, and confident through this important life stage. \nLed by experienced wellness professionals\, this interactive class will dive into evidence-based strategies to help you take control of your health and well-being. Whether you’re just beginning to notice changes or are well into your perimenopausal journey\, this seminar will provide practical guidance and a supportive community. \nTopics we’ll explore include:\n\n\nNutrition for Hormonal Balance: Discover the best foods to support fluctuating hormones\, stabilize mood\, maintain a healthy metabolism\, and promote strong bones. Learn how to build meals that nourish your body and reduce common perimenopausal symptoms. \n\n\nMovement for Strength and Vitality: Learn which types of exercise are most effective during perimenopause for preserving muscle mass\, boosting energy\, and protecting heart health. We’ll discuss how to adapt your fitness routine to meet your body’s evolving needs. \n\n\nSmart Supplementation: With so many products on the market\, it can be hard to know what really works. We’ll separate fact from fiction and provide clear guidance on which supplements are truly helpful – and which may be more hype than help. \n\n\nYou’ll leave with:\n\n\nA deeper understanding of what’s happening in your body during perimenopause \n\n\nPractical tips you can start using right away \n\n\nResources to continue your journey with confidence \n\n\nThis is more than just a seminar – it’s an opportunity to take charge of your health and connect with others going through similar experiences. We hope to see you there!
URL:https://gortoncenter.org/event/thriving-through-perimenopause-2/
LOCATION:Gorton Center\, 400 East Illinois Road\, Lake Forest\, IL\, 60045
CATEGORIES:Adults,Classes,Specialty,Wellness
GEO:42.2506703;-87.8374004
X-APPLE-STRUCTURED-LOCATION;VALUE=URI;X-ADDRESS=Gorton Center 400 East Illinois Road Lake Forest IL 60045;X-APPLE-RADIUS=500;X-TITLE=400 East Illinois Road:geo:-87.8374004,42.2506703
END:VEVENT
BEGIN:VEVENT
DTSTART;TZID=America/Chicago:20260228T103000
DTEND;TZID=America/Chicago:20260228T120000
DTSTAMP:20260423T104102
CREATED:20260106T200407Z
LAST-MODIFIED:20260227T171227Z
UID:20006902-1772274600-1772280000@gortoncenter.org
SUMMARY:Etiquette: Dining with the Stars
DESCRIPTION:REGISTRATION FOR THIS COURSE IS CLOSED. PLEASE JOIN US FOR THE NEXT ONE ON APRIL 25!\nManners Matter\nGood manners help kids shine. Simple things – like saying “please” or waiting their turn -can lead to big rewards. These small habits build confidence\, respect\, and kindness. They also help children connect with others and feel more comfortable in social settings. \nIn this class\, children ages 5 to 8 will learn the basics of everyday manners. The lessons are fun\, hands-on\, and easy to understand. Through gentle practice and simple routines\, kids will build skills they can use at home\, school\, or anywhere they go. \nGood manners start with respect – for yourself and for others. When children practice polite behavior\, they show they care. They learn to be thoughtful guests\, kind friends\, and helpful family members. \nThis class covers key habits that make mealtimes smoother and conversations easier. Step by step\, students will learn how to behave politely in group settings and around the table. \nTopics include:\n\nSetting the table for a two-course meal using real plates\, cutlery\, and glasses\nPracticing how to use silverware correctly\nTaking turns and being patient while others speak\nSitting tall with good posture and keeping elbows off the table\nListening carefully and making eye contact when someone is talking\nStarting and joining polite conversations during meals\n\nEach skill is taught in a way that’s age-appropriate and fun. Children will practice with their classmates and build habits they can use every day. \nBy the end of class\, your child will feel more confident and capable in social situations. They’ll understand why manners matter – and how to use them to show kindness and respect. \nGive your child a strong start with the lifelong gift of good etiquette. It’s a small investment that brings big results. \nAges Kindergarten – 3rd Grades  — FOOD WILL BE SERVED. PLEASE LET LIBBY JOHNSON KNOW IF YOU CHILD HAS ANY ALLERGIES \nThis class is taught by Sarah Berto from Confidence with Etiquette.
URL:https://gortoncenter.org/event/etiquette-dining-with-the-stars-feb/
LOCATION:Gorton Center\, 400 East Illinois Road\, Lake Forest\, IL\, 60045
CATEGORIES:Classes,Cooking,Specialty,Youth
ATTACH;FMTTYPE=image/jpeg:https://gortoncenter.org/wp-content/uploads/2021/11/2023_Gorton_Youth-Classes_Etiquette_3-e1692978792205.jpg
GEO:42.2506703;-87.8374004
X-APPLE-STRUCTURED-LOCATION;VALUE=URI;X-ADDRESS=Gorton Center 400 East Illinois Road Lake Forest IL 60045;X-APPLE-RADIUS=500;X-TITLE=400 East Illinois Road:geo:-87.8374004,42.2506703
END:VEVENT
END:VCALENDAR