BEGIN:VCALENDAR
VERSION:2.0
PRODID:-//Gorton Center - ECPv6.15.17//NONSGML v1.0//EN
CALSCALE:GREGORIAN
METHOD:PUBLISH
X-WR-CALNAME:Gorton Center
X-ORIGINAL-URL:https://gortoncenter.org
X-WR-CALDESC:Events for Gorton Center
REFRESH-INTERVAL;VALUE=DURATION:PT1H
X-Robots-Tag:noindex
X-PUBLISHED-TTL:PT1H
BEGIN:VTIMEZONE
TZID:America/Chicago
BEGIN:DAYLIGHT
TZOFFSETFROM:-0600
TZOFFSETTO:-0500
TZNAME:CDT
DTSTART:20240310T080000
END:DAYLIGHT
BEGIN:STANDARD
TZOFFSETFROM:-0500
TZOFFSETTO:-0600
TZNAME:CST
DTSTART:20241103T070000
END:STANDARD
BEGIN:DAYLIGHT
TZOFFSETFROM:-0600
TZOFFSETTO:-0500
TZNAME:CDT
DTSTART:20250309T080000
END:DAYLIGHT
BEGIN:STANDARD
TZOFFSETFROM:-0500
TZOFFSETTO:-0600
TZNAME:CST
DTSTART:20251102T070000
END:STANDARD
BEGIN:DAYLIGHT
TZOFFSETFROM:-0600
TZOFFSETTO:-0500
TZNAME:CDT
DTSTART:20260308T080000
END:DAYLIGHT
BEGIN:STANDARD
TZOFFSETFROM:-0500
TZOFFSETTO:-0600
TZNAME:CST
DTSTART:20261101T070000
END:STANDARD
END:VTIMEZONE
BEGIN:VEVENT
DTSTART;TZID=America/Chicago:20250728T093000
DTEND;TZID=America/Chicago:20250728T120000
DTSTAMP:20260424T145313
CREATED:20240207T200138Z
LAST-MODIFIED:20250618T160902Z
UID:20005862-1753695000-1753704000@gortoncenter.org
SUMMARY:Street Style Sewing Camp with Ciao Bella
DESCRIPTION:Fashion Sewing Camp: Create Your Own Matching Outfit!\nAges 8–15 \nCalling all fashion lovers and aspiring designers! This fun and creative summer sewing camp invites anyone who loves style\, sewing\, and matching outfits to dive into the world of fashion design. \nDesign and Sew Your Own Outfit\nCampers will bring their fashion dreams to life by designing and sewing a stylish pair of pants and a matching long-sleeve top. By the end of the week\, each camper will walk away with a completed outfit they made themselves! \nThroughout the week\, students will gain hands-on experience using real sewing machines. They’ll learn to stitch\, hem\, and assemble their projects step by step. Whether your child is brand-new to sewing or already has experience\, this camp offers an engaging and welcoming environment for all skill levels. \nThe talented team from Ciao Bella Sewing will guide campers every step of the way. They’ll provide expert instruction in a fun and supportive setting\, helping each student gain confidence and skill. \nWe provide everything campers need—including fabric\, notions\, and sewing machines. However\, students may bring their own machine if they prefer to use one they know well. \nWhat to Bring\nEach day\, campers should bring a water bottle and a healthy snack. \nWhether you’re joining us for the first time or coming back for more\, we can’t wait to sew with you. Get ready for a week full of creativity\, confidence-building\, and SEW much fun!
URL:https://gortoncenter.org/event/street-style-sewing-camp-with-ciao-bella/
LOCATION:Gorton Center\, 400 East Illinois Road\, Lake Forest\, IL\, 60045
CATEGORIES:Camps,Classes,Sewing,Youth
ATTACH;FMTTYPE=image/jpeg:https://gortoncenter.org/wp-content/uploads/2023/01/girl-sewing-machine-scaled-1.jpg
GEO:42.2506703;-87.8374004
X-APPLE-STRUCTURED-LOCATION;VALUE=URI;X-ADDRESS=Gorton Center 400 East Illinois Road Lake Forest IL 60045;X-APPLE-RADIUS=500;X-TITLE=400 East Illinois Road:geo:-87.8374004,42.2506703
END:VEVENT
END:VCALENDAR