BEGIN:VCALENDAR
VERSION:2.0
PRODID:-//Gorton Center - ECPv6.15.17//NONSGML v1.0//EN
CALSCALE:GREGORIAN
METHOD:PUBLISH
X-WR-CALNAME:Gorton Center
X-ORIGINAL-URL:https://gortoncenter.org
X-WR-CALDESC:Events for Gorton Center
REFRESH-INTERVAL;VALUE=DURATION:PT1H
X-Robots-Tag:noindex
X-PUBLISHED-TTL:PT1H
BEGIN:VTIMEZONE
TZID:America/Chicago
BEGIN:DAYLIGHT
TZOFFSETFROM:-0600
TZOFFSETTO:-0500
TZNAME:CDT
DTSTART:20240310T080000
END:DAYLIGHT
BEGIN:STANDARD
TZOFFSETFROM:-0500
TZOFFSETTO:-0600
TZNAME:CST
DTSTART:20241103T070000
END:STANDARD
BEGIN:DAYLIGHT
TZOFFSETFROM:-0600
TZOFFSETTO:-0500
TZNAME:CDT
DTSTART:20250309T080000
END:DAYLIGHT
BEGIN:STANDARD
TZOFFSETFROM:-0500
TZOFFSETTO:-0600
TZNAME:CST
DTSTART:20251102T070000
END:STANDARD
BEGIN:DAYLIGHT
TZOFFSETFROM:-0600
TZOFFSETTO:-0500
TZNAME:CDT
DTSTART:20260308T080000
END:DAYLIGHT
BEGIN:STANDARD
TZOFFSETFROM:-0500
TZOFFSETTO:-0600
TZNAME:CST
DTSTART:20261101T070000
END:STANDARD
END:VTIMEZONE
BEGIN:VEVENT
DTSTART;TZID=America/Chicago:20250714T093000
DTEND;TZID=America/Chicago:20250714T120000
DTSTAMP:20260424T070330
CREATED:20240207T194147Z
LAST-MODIFIED:20250617T155637Z
UID:20005859-1752485400-1752494400@gortoncenter.org
SUMMARY:Pajama Party Sewing Camp with Ciao Bella
DESCRIPTION:Sewing Pajama Party Camp: Creative Fun with Fabric and Friends!\nGet ready for a fun-filled\, creative pajama party like no other! In this exciting sewing camp\, students will learn how to sew using a sewing machine while creating some amazing projects. Perfect for both new and returning sewers\, this camp offers a perfect blend of learning and hands-on crafting in a relaxed\, friendly atmosphere. \nThroughout the week\, campers will work on making several adorable and practical items\, including PJ pants\, a cozy pillow\, a stylish sleepover tote bag\, and a cute\, custom mini-cosmetic case. Whether they’re a sewing newbie or already have some experience\, students will gain new skills and confidence in working with fabric\, patterns\, and sewing machines. \nUnder the expert guidance of Ciao Bella Sewing\, every camper will be provided with all the necessary supplies\, including fabric\, sewing machines\, and sewing notions. Students are also welcome to bring their own sewing machine if they prefer. \nBeyond sewing\, this camp is all about having SEW much fun! It’s a great opportunity for students to meet new friends\, bond over their creations\, and enjoy the rewarding experience of making something special from scratch. \nEach day\, students should bring a water bottle and a healthy snack to keep them energized as they work on their projects. \nWhether it’s their first time sewing or they’re returning for more\, this sewing camp is the perfect way to spark creativity and build confidence. \nAges 8 – 15
URL:https://gortoncenter.org/event/pajama-sewing-camp-with-ciao-bella/
LOCATION:Gorton Center\, 400 East Illinois Road\, Lake Forest\, IL\, 60045
CATEGORIES:Camps,Classes,Sewing,Youth
ATTACH;FMTTYPE=image/jpeg:https://gortoncenter.org/wp-content/uploads/2023/01/girl-sewing-machine-scaled-1.jpg
GEO:42.2506703;-87.8374004
X-APPLE-STRUCTURED-LOCATION;VALUE=URI;X-ADDRESS=Gorton Center 400 East Illinois Road Lake Forest IL 60045;X-APPLE-RADIUS=500;X-TITLE=400 East Illinois Road:geo:-87.8374004,42.2506703
END:VEVENT
END:VCALENDAR