BEGIN:VCALENDAR
VERSION:2.0
PRODID:-//Gorton Center - ECPv6.15.17//NONSGML v1.0//EN
CALSCALE:GREGORIAN
METHOD:PUBLISH
X-WR-CALNAME:Gorton Center
X-ORIGINAL-URL:https://gortoncenter.org
X-WR-CALDESC:Events for Gorton Center
REFRESH-INTERVAL;VALUE=DURATION:PT1H
X-Robots-Tag:noindex
X-PUBLISHED-TTL:PT1H
BEGIN:VTIMEZONE
TZID:America/Chicago
BEGIN:DAYLIGHT
TZOFFSETFROM:-0600
TZOFFSETTO:-0500
TZNAME:CDT
DTSTART:20240310T080000
END:DAYLIGHT
BEGIN:STANDARD
TZOFFSETFROM:-0500
TZOFFSETTO:-0600
TZNAME:CST
DTSTART:20241103T070000
END:STANDARD
BEGIN:DAYLIGHT
TZOFFSETFROM:-0600
TZOFFSETTO:-0500
TZNAME:CDT
DTSTART:20250309T080000
END:DAYLIGHT
BEGIN:STANDARD
TZOFFSETFROM:-0500
TZOFFSETTO:-0600
TZNAME:CST
DTSTART:20251102T070000
END:STANDARD
BEGIN:DAYLIGHT
TZOFFSETFROM:-0600
TZOFFSETTO:-0500
TZNAME:CDT
DTSTART:20260308T080000
END:DAYLIGHT
BEGIN:STANDARD
TZOFFSETFROM:-0500
TZOFFSETTO:-0600
TZNAME:CST
DTSTART:20261101T070000
END:STANDARD
END:VTIMEZONE
BEGIN:VEVENT
DTSTART;TZID=America/Chicago:20250630T093000
DTEND;TZID=America/Chicago:20250630T120000
DTSTAMP:20260422T100158
CREATED:20250121T190131Z
LAST-MODIFIED:20250627T170931Z
UID:20006281-1751275800-1751284800@gortoncenter.org
SUMMARY:Spa-Themed Sewing Camp
DESCRIPTION:THIS CAMP HAS SOLD OUT. PLEASE JOIN US FOR ANOTHER SESSION IN JULY OR AUGUST!\nThis Spa-Themed Sewing Camp is taught by Ciao Bella Sewing\nIt’s time to unwind and get spa-ready in this fun and creative sewing camp designed for kids and teens who love to sew or want to learn how! In this spa-themed camp\, students will create a variety of projects that are perfect for self-care and relaxation. Whether you’re a beginner or an experienced sewer\, this camp has something for everyone! \nDuring the camp\, students will learn to sew a cozy fleece robe and a stylish cosmetic case to store all your beauty essentials. These projects will not only teach basic and advanced sewing techniques\, but they’ll also inspire creativity while making functional and fun items to enjoy at home or share with others. \nWhat to Expect:\n\n\nSewing Projects: Students will make their own fleece robe and a cosmetic case. These projects are designed to be both easy and enjoyable\, with guidance from our experienced instructors. \n\n\nHands-on Learning: From threading a needle to mastering the sewing machine\, each student will get plenty of hands-on experience to build their skills and gain confidence in sewing. \n\n\nSupplies Included: All materials are provided\, including fabric and sewing machines. Students are also welcome to bring their own sewing machines if they prefer! \n\n\nDetails to Remember:\n\n\nStudents should bring a water bottle and a healthy snack each day to stay refreshed and energized. \n\n\nNew and returning students are welcome\, and all skill levels will be accommodated. \n\n\nThis is the perfect camp for young sewers who want to combine their love of crafting with a bit of self-care and relaxation. Whether your child is already a seasoned sewer or a beginner\, they’ll leave with new skills\, creative projects\, and a sense of accomplishment! \nCome join the fun\, sew up some great projects\, and get spa-ready with us! \nAges 8 – 15 \nWant to continue your passion for sewing? Check out this Back to School Sewing Camp!
URL:https://gortoncenter.org/event/spa-themed-sewing-camp-with-ciao-bella-2/
LOCATION:Gorton Center\, 400 East Illinois Road\, Lake Forest\, IL\, 60045
CATEGORIES:Camps,Classes,Sewing,Youth
GEO:42.2506703;-87.8374004
X-APPLE-STRUCTURED-LOCATION;VALUE=URI;X-ADDRESS=Gorton Center 400 East Illinois Road Lake Forest IL 60045;X-APPLE-RADIUS=500;X-TITLE=400 East Illinois Road:geo:-87.8374004,42.2506703
END:VEVENT
END:VCALENDAR