BEGIN:VCALENDAR
VERSION:2.0
PRODID:-//Gorton Center - ECPv6.15.17//NONSGML v1.0//EN
CALSCALE:GREGORIAN
METHOD:PUBLISH
X-WR-CALNAME:Gorton Center
X-ORIGINAL-URL:https://gortoncenter.org
X-WR-CALDESC:Events for Gorton Center
REFRESH-INTERVAL;VALUE=DURATION:PT1H
X-Robots-Tag:noindex
X-PUBLISHED-TTL:PT1H
BEGIN:VTIMEZONE
TZID:America/Chicago
BEGIN:DAYLIGHT
TZOFFSETFROM:-0600
TZOFFSETTO:-0500
TZNAME:CDT
DTSTART:20240310T080000
END:DAYLIGHT
BEGIN:STANDARD
TZOFFSETFROM:-0500
TZOFFSETTO:-0600
TZNAME:CST
DTSTART:20241103T070000
END:STANDARD
BEGIN:DAYLIGHT
TZOFFSETFROM:-0600
TZOFFSETTO:-0500
TZNAME:CDT
DTSTART:20250309T080000
END:DAYLIGHT
BEGIN:STANDARD
TZOFFSETFROM:-0500
TZOFFSETTO:-0600
TZNAME:CST
DTSTART:20251102T070000
END:STANDARD
BEGIN:DAYLIGHT
TZOFFSETFROM:-0600
TZOFFSETTO:-0500
TZNAME:CDT
DTSTART:20260308T080000
END:DAYLIGHT
BEGIN:STANDARD
TZOFFSETFROM:-0500
TZOFFSETTO:-0600
TZNAME:CST
DTSTART:20261101T070000
END:STANDARD
END:VTIMEZONE
BEGIN:VEVENT
DTSTART;TZID=America/Chicago:20250623T093000
DTEND;TZID=America/Chicago:20250623T120000
DTSTAMP:20260422T080628
CREATED:20240207T193252Z
LAST-MODIFIED:20250520T172413Z
UID:20005856-1750671000-1750680000@gortoncenter.org
SUMMARY:Taylor Swift Themed Sewing Camp with Ciao Bella
DESCRIPTION:Taylor Swift-Inspired Sewing Camp: Sparkle\, Shine\, and Sew!\nCalling all Taylor Swift fans and budding fashionistas! If your child loves both fashion and music\, this is the camp they’ve been waiting for! Get ready for a fun-filled week of creativity\, sparkles\, shiny fabrics\, and all things Taylor Swift-inspired. Whether they’re a huge fan of her iconic stage outfits or love her fun and edgy style\, this camp will give your young sewer the chance to design and create their own one-of-a-kind outfit inspired by the pop sensation herself. \nUnder the guidance of Ciao Bella Sewing\, expert instructors will lead the campers through every step of the process\, from selecting fabric to putting the final touches on their custom creations. With a wide selection of fabulous fabrics\, including glitters\, sparkles\, and vibrant colors\, your young designer will be able to pick the materials that match their personal style. \nAll materials are provided\, including fabric\, sewing machines\, and sewing notions. Whether they’re a beginner or a seasoned sewer\, students will feel right at home\, and can bring their own sewing machine or use one of the provided machines. \nImportant Notes: \n\n\nAges: 8 – 15 years \n\n\nDaily Essentials: Please send your child with a water bottle and a healthy snack each day to stay energized! \n\n\nNew and returning students welcome! \n\n\nThis camp is the perfect opportunity for your child to develop their sewing skills\, celebrate their love for Taylor Swift\, and have SEW much fun in the process.
URL:https://gortoncenter.org/event/taylor-swift-theme-sewing-camp-with-ciao-bella/
LOCATION:Gorton Center\, 400 East Illinois Road\, Lake Forest\, IL\, 60045
CATEGORIES:Camps,Classes,Sewing,Youth
GEO:42.2506703;-87.8374004
X-APPLE-STRUCTURED-LOCATION;VALUE=URI;X-ADDRESS=Gorton Center 400 East Illinois Road Lake Forest IL 60045;X-APPLE-RADIUS=500;X-TITLE=400 East Illinois Road:geo:-87.8374004,42.2506703
END:VEVENT
END:VCALENDAR