BEGIN:VCALENDAR
VERSION:2.0
PRODID:-//Gorton Center - ECPv6.15.17//NONSGML v1.0//EN
CALSCALE:GREGORIAN
METHOD:PUBLISH
X-WR-CALNAME:Gorton Center
X-ORIGINAL-URL:https://gortoncenter.org
X-WR-CALDESC:Events for Gorton Center
REFRESH-INTERVAL;VALUE=DURATION:PT1H
X-Robots-Tag:noindex
X-PUBLISHED-TTL:PT1H
BEGIN:VTIMEZONE
TZID:America/Chicago
BEGIN:DAYLIGHT
TZOFFSETFROM:-0600
TZOFFSETTO:-0500
TZNAME:CDT
DTSTART:20240310T080000
END:DAYLIGHT
BEGIN:STANDARD
TZOFFSETFROM:-0500
TZOFFSETTO:-0600
TZNAME:CST
DTSTART:20241103T070000
END:STANDARD
BEGIN:DAYLIGHT
TZOFFSETFROM:-0600
TZOFFSETTO:-0500
TZNAME:CDT
DTSTART:20250309T080000
END:DAYLIGHT
BEGIN:STANDARD
TZOFFSETFROM:-0500
TZOFFSETTO:-0600
TZNAME:CST
DTSTART:20251102T070000
END:STANDARD
BEGIN:DAYLIGHT
TZOFFSETFROM:-0600
TZOFFSETTO:-0500
TZNAME:CDT
DTSTART:20260308T080000
END:DAYLIGHT
BEGIN:STANDARD
TZOFFSETFROM:-0500
TZOFFSETTO:-0600
TZNAME:CST
DTSTART:20261101T070000
END:STANDARD
END:VTIMEZONE
BEGIN:VEVENT
DTSTART;TZID=America/Chicago:20250609T130000
DTEND;TZID=America/Chicago:20250609T153000
DTSTAMP:20260420T111552
CREATED:20250121T184619Z
LAST-MODIFIED:20250519T185219Z
UID:20006280-1749474000-1749483000@gortoncenter.org
SUMMARY:Spa Themed Sewing Camp with Ciao Bella
DESCRIPTION:Get ready to relax\, unwind\, and get spa-day ready while learning a fun and creative skill in Gorton’s sewing camp! In this spa-themed sewing camp\, students ages 8–15 will dive into the world of sewing as they create a variety of cozy and useful self-care projects. Led by the talented instructors from Ciao Bella Sewing\, campers will learn how to sew a super-soft fleece robe\, a stylish and functional cosmetic case\, and trendy scrunchies—everything needed for a perfect at-home spa day! \nWhether your child is brand new to sewing or already has some experience\, this camp is designed to be welcoming\, fun\, and educational for all skill levels. New and returning students are encouraged to join—there’s always something new to create and new techniques to learn! Campers will be guided through each project step-by-step in a supportive\, hands-on environment that emphasizes creativity\, confidence\, and practical skills. \nAll materials are provided\, including fabric\, thread\, and sewing machines. Campers are also welcome to bring their own sewing machine if they prefer working with one they’re familiar with. It’s a great opportunity to learn how to thread\, stitch\, and design while making adorable and useful items they’ll be proud to use or gift to others. \nEach day\, students should bring a water bottle and a healthy snack to keep energized throughout the session. \nThis camp is SEW much fun and a fantastic way to combine creativity\, fashion\, and the joy of making something by hand. Don’t miss out on this unique and inspiring summer experience\, spaces fill quickly!
URL:https://gortoncenter.org/event/spa-themed-sewing-camp-with-ciao-bella/
LOCATION:Gorton Center\, 400 East Illinois Road\, Lake Forest\, IL\, 60045
CATEGORIES:Camps,Classes,Sewing,Youth
ATTACH;FMTTYPE=image/jpeg:https://gortoncenter.org/wp-content/uploads/2023/01/boy-sewing-scaled-1.jpg
GEO:42.2506703;-87.8374004
X-APPLE-STRUCTURED-LOCATION;VALUE=URI;X-ADDRESS=Gorton Center 400 East Illinois Road Lake Forest IL 60045;X-APPLE-RADIUS=500;X-TITLE=400 East Illinois Road:geo:-87.8374004,42.2506703
END:VEVENT
END:VCALENDAR