BEGIN:VCALENDAR
VERSION:2.0
PRODID:-//Gorton Center - ECPv6.15.17//NONSGML v1.0//EN
CALSCALE:GREGORIAN
METHOD:PUBLISH
X-ORIGINAL-URL:https://gortoncenter.org
X-WR-CALDESC:Events for Gorton Center
REFRESH-INTERVAL;VALUE=DURATION:PT1H
X-Robots-Tag:noindex
X-PUBLISHED-TTL:PT1H
BEGIN:VTIMEZONE
TZID:America/Chicago
BEGIN:DAYLIGHT
TZOFFSETFROM:-0600
TZOFFSETTO:-0500
TZNAME:CDT
DTSTART:20250309T080000
END:DAYLIGHT
BEGIN:STANDARD
TZOFFSETFROM:-0500
TZOFFSETTO:-0600
TZNAME:CST
DTSTART:20251102T070000
END:STANDARD
BEGIN:DAYLIGHT
TZOFFSETFROM:-0600
TZOFFSETTO:-0500
TZNAME:CDT
DTSTART:20260308T080000
END:DAYLIGHT
BEGIN:STANDARD
TZOFFSETFROM:-0500
TZOFFSETTO:-0600
TZNAME:CST
DTSTART:20261101T070000
END:STANDARD
BEGIN:DAYLIGHT
TZOFFSETFROM:-0600
TZOFFSETTO:-0500
TZNAME:CDT
DTSTART:20270314T080000
END:DAYLIGHT
BEGIN:STANDARD
TZOFFSETFROM:-0500
TZOFFSETTO:-0600
TZNAME:CST
DTSTART:20271107T070000
END:STANDARD
END:VTIMEZONE
BEGIN:VEVENT
DTSTART;TZID=America/Chicago:20260421T170000
DTEND;TZID=America/Chicago:20260421T180000
DTSTAMP:20260422T182442
CREATED:20260109T170900Z
LAST-MODIFIED:20260420T150930Z
UID:20006923-1776790800-1776794400@gortoncenter.org
SUMMARY:Learn to Make Cannoli
DESCRIPTION:THIS CLASS HAS BEEN CANCELLED.\nLearn to Make Cannoli from Scratch\nStep into the kitchen and learn how to make delicious\, homemade cannoli! \nIn this fun and interactive class\, you’ll discover the secrets behind creating perfectly crisp shells and luscious\, creamy ricotta filling. Guided by Tony Volpentesta\, you’ll roll dough\, fry shells to golden perfection\, and master classic and creative flavor variations. \nTony “Cannoli” Volpentesta learned the art of dessert-making in the heart of his Italian grandmother’s kitchen\, where flour dusted the air and tradition was the secret ingredient in every bite. Driven by a lifelong passion and a relentless pursuit of perfection\, Tony has dedicated himself to crafting the perfect cannoli shell – each one a golden\, crispy vessel for his luscious\, creamy fillings. \nAt Tony Cannoli\, he combines old-world techniques with modern creativity. The result? A fun variety of cannoli-inspired treats that go beyond the classic. Try the bite-sized Cannoli Bites. Scoop into his signature Cannoli Chips ‘n Dip. Or celebrate with a rich\, decadent Cannoli Cake. Each one is a playful twist on the timeless Italian dessert. \nLocated in the heart of downtown Mundelein\, Tony’s dessert shop is a must-visit for anyone craving a sweet escape. Whether you’re a lifelong cannoli lover or just discovering them for the first time\, there’s something for everyone. \nCome hungry and ready to roll – sweet satisfaction guaranteed! \nAges: 7 and up – because it’s never too early (or too late) to fall in love with cannoli!
URL:https://gortoncenter.org/event/cannoli-making/
LOCATION:Gorton Center\, 400 East Illinois Road\, Lake Forest\, IL\, 60045
CATEGORIES:Adults,Classes,Cooking
ATTACH;FMTTYPE=image/png:https://gortoncenter.org/wp-content/uploads/2025/07/Cannolis.png
GEO:42.2506703;-87.8374004
X-APPLE-STRUCTURED-LOCATION;VALUE=URI;X-ADDRESS=Gorton Center 400 East Illinois Road Lake Forest IL 60045;X-APPLE-RADIUS=500;X-TITLE=400 East Illinois Road:geo:-87.8374004,42.2506703
END:VEVENT
BEGIN:VEVENT
DTSTART;TZID=America/Chicago:20260422T180000
DTEND;TZID=America/Chicago:20260422T200000
DTSTAMP:20260422T182442
CREATED:20260401T185713Z
LAST-MODIFIED:20260401T185713Z
UID:20007158-1776880800-1776888000@gortoncenter.org
SUMMARY:Cooking at Froggy's: Oysters\, Mussels & Scallops
DESCRIPTION:Join Chef Thierry Lefeuvre of Froggy’s French Café in Highwood for an unforgettable evening of fine food\, wine\, and culinary inspiration! This engaging and delicious cooking class offers guests a chance to learn from one of the North Shore’s most beloved chefs in an intimate and welcoming setting. \nDuring the evening\, Chef Thierry will demonstrate the preparation of a complete three-course French meal—starting with a flavorful soup\, followed by a beautifully crafted main dish\, and finishing with a delectable dessert. Guests will enjoy watching the techniques and artistry behind each dish and will receive recipes to try at home. Whether you’re a seasoned home cook or just starting out in the kitchen\, you’ll walk away with new skills\, fresh ideas\, and plenty of inspiration. \nYour $85 ticket includes two glasses of wine\, the live cooking demonstration\, and a full three-course meal to enjoy after the lesson. It’s the perfect night out for food lovers\, couples\, friends\, or anyone looking to experience something new and delicious. \nLocation: Froggy’s French Café\, 306 Green Bay Rd\, Highwood\, IL. \nWhy Take a Cooking Class?\nCooking classes offer the chance to improve your culinary skills\, learn new techniques\, and expand your recipe repertoire. But they’re also about connection—sharing a love of food\, meeting new people\, and enjoying a memorable experience together. Whether you come with friends or on your own\, this event promises great conversation\, expert instruction\, and a delicious payoff at the end. \nSpace is limited—sign up soon and savor the flavors of France with Chef Thierry!
URL:https://gortoncenter.org/event/cooking-at-froggys-oysters-mussels-scallops/
LOCATION:Gorton Center\, 400 East Illinois Road\, Lake Forest\, IL\, 60045
CATEGORIES:Adults,Classes,Cooking
ATTACH;FMTTYPE=image/png:https://gortoncenter.org/wp-content/uploads/2026/04/Froggys-Scallops.png
GEO:42.2506703;-87.8374004
X-APPLE-STRUCTURED-LOCATION;VALUE=URI;X-ADDRESS=Gorton Center 400 East Illinois Road Lake Forest IL 60045;X-APPLE-RADIUS=500;X-TITLE=400 East Illinois Road:geo:-87.8374004,42.2506703
END:VEVENT
BEGIN:VEVENT
DTSTART;TZID=America/Chicago:20260425T103000
DTEND;TZID=America/Chicago:20260425T120000
DTSTAMP:20260422T182442
CREATED:20260106T200627Z
LAST-MODIFIED:20260420T192536Z
UID:20006903-1777113000-1777118400@gortoncenter.org
SUMMARY:Etiquette: Dining with the Stars
DESCRIPTION:THIS CLASS HAS SOLD OUT. PLEASE REACH OUT TO LIBBY JOHNSON TO BE ADDED TO THE WAIT LIST. \nManners Matter\nGood manners help kids shine. Simple things – like saying “please” or waiting their turn -can lead to big rewards. These small habits build confidence\, respect\, and kindness. They also help children connect with others and feel more comfortable in social settings. \nIn this class\, children ages 5 to 8 will learn the basics of everyday manners. The lessons are fun\, hands-on\, and easy to understand. Through gentle practice and simple routines\, kids will build skills they can use at home\, school\, or anywhere they go. \nGood manners start with respect – for yourself and for others. When children practice polite behavior\, they show they care. They learn to be thoughtful guests\, kind friends\, and helpful family members. \nThis class covers key habits that make mealtimes smoother and conversations easier. Step by step\, students will learn how to behave politely in group settings and around the table. \nTopics include:\n\nSetting the table for a two-course meal using real plates\, cutlery\, and glasses\nPracticing how to use silverware correctly\nTaking turns and being patient while others speak\nSitting tall with good posture and keeping elbows off the table\nListening carefully and making eye contact when someone is talking\nStarting and joining polite conversations during meals\n\nEach skill is taught in a way that’s age-appropriate and fun. Children will practice with their classmates and build habits they can use every day. \nBy the end of class\, your child will feel more confident and capable in social situations. They’ll understand why manners matter – and how to use them to show kindness and respect. \nGive your child a strong start with the lifelong gift of good etiquette. It’s a small investment that brings big results. \nAges Kindergarten – 3rd Grades  — FOOD WILL BE SERVED. PLEASE LET LIBBY JOHNSON KNOW IF YOU CHILD HAS ANY ALLERGIES \nThis class is taught by Sarah Berto from Confidence with Etiquette.
URL:https://gortoncenter.org/event/etiquette-dining-with-the-stars-april/
LOCATION:Gorton Center\, 400 East Illinois Road\, Lake Forest\, IL\, 60045
CATEGORIES:Classes,Cooking,Specialty,Youth
ATTACH;FMTTYPE=image/jpeg:https://gortoncenter.org/wp-content/uploads/2021/11/2023_Gorton_Youth-Classes_Etiquette_3-e1692978792205.jpg
GEO:42.2506703;-87.8374004
X-APPLE-STRUCTURED-LOCATION;VALUE=URI;X-ADDRESS=Gorton Center 400 East Illinois Road Lake Forest IL 60045;X-APPLE-RADIUS=500;X-TITLE=400 East Illinois Road:geo:-87.8374004,42.2506703
END:VEVENT
BEGIN:VEVENT
DTSTART;TZID=America/Chicago:20260425T123000
DTEND;TZID=America/Chicago:20260425T143000
DTSTAMP:20260422T182442
CREATED:20260106T201228Z
LAST-MODIFIED:20260422T145735Z
UID:20006905-1777120200-1777127400@gortoncenter.org
SUMMARY:Etiquette: Pearls & Bowties
DESCRIPTION:THIS CLASS IS SOLD OUT!\nManners Matter \nEtiquette is an important life skill that helps children thrive in any setting. Simple actions – like saying “please\,” listening respectfully\, or waiting their turn – can make a big difference. These habits build confidence\, encourage cooperation\, and show respect for others. \nIn this fun and interactive class\, children will learn the basics of everyday etiquette. They’ll practice polite behavior\, improve their social skills\, and gain tools to handle a variety of situations. The lessons are hands-on and easy to follow. Step by step\, students will grow more comfortable and confident. \nFirst\, we’ll talk about manners at home. Then we’ll move on to social settings. From casual playdates to formal family dinners\, your child will learn what’s expected – and why it matters. \nTopics include: \n\nHow to set the table for a three-course meal\nEtiquette for both casual and formal events\nMaking eye contact and being a good listener\nStarting conversations and knowing what to say\nUsing phones and tablets politely in group settings\n\nAlong the way\, students will learn to think before they speak\, show kindness\, and handle themselves with care. These skills help them feel more prepared\, whether they’re meeting new people or spending time with family. \nMost importantly\, they’ll learn that good etiquette isn’t about being perfect. It’s about being thoughtful\, respectful\, and aware of others. \nBy the end of class\, your child will feel more at ease in many social situations. They’ll understand how etiquette helps them connect with others – and why it matters every day. \nHelp your child build strong habits that last a lifetime. Because when they know how to use good manners\, they’re ready for anything. \nThis is led by Sarah Berto with Confidence with Etiquette  \nAges 9 -13
URL:https://gortoncenter.org/event/etiquette-pearls-bowties-april/
LOCATION:Gorton Center\, 400 East Illinois Road\, Lake Forest\, IL\, 60045
CATEGORIES:Classes,Cooking,Specialty,Youth
ATTACH;FMTTYPE=image/jpeg:https://gortoncenter.org/wp-content/uploads/2021/11/2023_Gorton_Youth-Classes_Etiquette_crop.jpg
GEO:42.2506703;-87.8374004
X-APPLE-STRUCTURED-LOCATION;VALUE=URI;X-ADDRESS=Gorton Center 400 East Illinois Road Lake Forest IL 60045;X-APPLE-RADIUS=500;X-TITLE=400 East Illinois Road:geo:-87.8374004,42.2506703
END:VEVENT
END:VCALENDAR