BEGIN:VCALENDAR
VERSION:2.0
PRODID:-//Gorton Center - ECPv6.15.17//NONSGML v1.0//EN
CALSCALE:GREGORIAN
METHOD:PUBLISH
X-ORIGINAL-URL:https://gortoncenter.org
X-WR-CALDESC:Events for Gorton Center
REFRESH-INTERVAL;VALUE=DURATION:PT1H
X-Robots-Tag:noindex
X-PUBLISHED-TTL:PT1H
BEGIN:VTIMEZONE
TZID:America/Chicago
BEGIN:DAYLIGHT
TZOFFSETFROM:-0600
TZOFFSETTO:-0500
TZNAME:CDT
DTSTART:20240310T080000
END:DAYLIGHT
BEGIN:STANDARD
TZOFFSETFROM:-0500
TZOFFSETTO:-0600
TZNAME:CST
DTSTART:20241103T070000
END:STANDARD
BEGIN:DAYLIGHT
TZOFFSETFROM:-0600
TZOFFSETTO:-0500
TZNAME:CDT
DTSTART:20250309T080000
END:DAYLIGHT
BEGIN:STANDARD
TZOFFSETFROM:-0500
TZOFFSETTO:-0600
TZNAME:CST
DTSTART:20251102T070000
END:STANDARD
BEGIN:DAYLIGHT
TZOFFSETFROM:-0600
TZOFFSETTO:-0500
TZNAME:CDT
DTSTART:20260308T080000
END:DAYLIGHT
BEGIN:STANDARD
TZOFFSETFROM:-0500
TZOFFSETTO:-0600
TZNAME:CST
DTSTART:20261101T070000
END:STANDARD
END:VTIMEZONE
BEGIN:VEVENT
DTSTART;TZID=America/Chicago:20250915T170000
DTEND;TZID=America/Chicago:20250915T180000
DTSTAMP:20260421T174822
CREATED:20250804T160947Z
LAST-MODIFIED:20250804T172254Z
UID:20006524-1757955600-1757959200@gortoncenter.org
SUMMARY:Fencing
DESCRIPTION:En Garde! Prét? Allez!  \nSign your child up for fencing lessons at Gorton! \nThis class is perfect for beginners or anyone who wants to sharpen their basic fencing skills. We’ll cover the rules of fencing\, proper etiquette\, footwork\, and both attack and defense techniques. \nEach fencing lesson includes a warm-up\, footwork drills\, group instruction\, and bouting (practice matches). The instructor will guide students every step of the way. \nPlease dress comfortably and bring water. Open to ages 7–14. \nWhy learn to fence?\n\nFencing builds balance\, coordination\, and agility. These skills carry over into other sports and everyday life. \nYou don’t need to be a natural athlete to start. Our lessons ease you into the sport at your own pace. \nFencing sharpens your mind as much as your body. It encourages quick thinking\, creative problem-solving\, and smart strategy. \nPlus\, the sport teaches discipline\, respect\, responsibility\, and sportsmanship – values that go far beyond the fencing strip. \nHistory of Fencing\nDid you know the archaeological evidence of fencing dates back to 1190 B.C.E.? The oldest archeological evidence of a fencing contest is from an Egyptian temple along the river Nile\, and in Europe\, historical records of sword fighting schools extend back to the 12th century. Fencing evolved into a popular entertainment sport around the time of King Henry VIII\, but it wasn’t until the mid-18th century that the sport became truly fashionable among European nobility.\nDuring the 18th and 19th centuries\, fencing became a popular sport among European aristocracy\, and developed a gentlemanly code of conduct which the sport maintains to this day. Men’s fencing competitions were first included in the summer Olympics in 1896 and women’s fencing competitions were added in 1924. \nMidwest Fencing Club’s mission is to help people discover\, enjoy and excel in the sport of fencing by providing the highest level of instruction in a true sportsmanship environment. They have been serving the Chicagoland community for over 10 years. Their experience comes from National\, NCAA\, and Olympic champions. Their programs range from introductory levels to advanced competitive aspirations. Midwest Fencing Club welcomes all ages to learn fencing\, enjoy it as a hobby\, or turn it into their professional sport.
URL:https://gortoncenter.org/event/fencing-september/
LOCATION:Gorton Center\, 400 East Illinois Road\, Lake Forest\, IL\, 60045
CATEGORIES:Classes,Sports,Youth
ATTACH;FMTTYPE=image/png:https://gortoncenter.org/wp-content/uploads/2023/03/fencing.png
GEO:42.2506703;-87.8374004
X-APPLE-STRUCTURED-LOCATION;VALUE=URI;X-ADDRESS=Gorton Center 400 East Illinois Road Lake Forest IL 60045;X-APPLE-RADIUS=500;X-TITLE=400 East Illinois Road:geo:-87.8374004,42.2506703
END:VEVENT
BEGIN:VEVENT
DTSTART;TZID=America/Chicago:20250917T160000
DTEND;TZID=America/Chicago:20250917T173000
DTSTAMP:20260421T174822
CREATED:20250827T163043Z
LAST-MODIFIED:20250828T150037Z
UID:20006617-1758124800-1758130200@gortoncenter.org
SUMMARY:RoboThink: Tanks & Battle Bots
DESCRIPTION:Let’s roll out the tanks! Join us as students dive into the exciting world of tanks\, building a variety of armored machines. Throughout the program\, they’ll tackle numerous challenges and engage in epic robot battles that will test their engineering skills to the max! This program is designed for seasoned RoboThinkers\, but newcomers are always welcome. Ages 7 – 12
URL:https://gortoncenter.org/event/robothink-tanks-battle-bots/
LOCATION:Gorton Center\, 400 East Illinois Road\, Lake Forest\, IL\, 60045
CATEGORIES:Classes,STEM,Youth
GEO:42.2506703;-87.8374004
X-APPLE-STRUCTURED-LOCATION;VALUE=URI;X-ADDRESS=Gorton Center 400 East Illinois Road Lake Forest IL 60045;X-APPLE-RADIUS=500;X-TITLE=400 East Illinois Road:geo:-87.8374004,42.2506703
END:VEVENT
BEGIN:VEVENT
DTSTART;TZID=America/Chicago:20250920T090000
DTEND;TZID=America/Chicago:20250920T110000
DTSTAMP:20260421T174822
CREATED:20250723T133651Z
LAST-MODIFIED:20250908T143023Z
UID:20006497-1758358800-1758366000@gortoncenter.org
SUMMARY:Mr. V.’s Fall Saturday Production
DESCRIPTION:Join us for an encore production of an original musical celebration of the cinematic chiller thrillers of yesteryear\, just in time for Halloween! Participants will travel back in time to 1961\, when a double feature cost only a quarter\, and classic movie characters like The Mummy\, Creature From The Black Lagoon\, Godzilla\, and King Kong appeared on the silver screen. There will be buzzing surprises\, fun frights\, and sheer delights for all! \nAges 4-11 \nSaturdays Sept. 20-Oct. 25\, 9:00 am to 11:00 am \nPerformance: Sat. October 25 at 10 am \nPrice: $325 \n \nBill Vaananen is an award-winning music educator and composer who has taught and directed elementary-aged students for over 45 years. Originally from Oklahoma\, “Mr. V.” was general music teacher at Wescott School in Northbrook for 37 years. He has written hundreds of songs and dozens of original theater works that have been performed across Chicago’s northern suburbs. Recipient of the Golden Apple Award\, IEA Human Rights Award\, National-Louis Distinguished Alumni Award for Social Justice\, and Star of Teaching Award for the State of Illinois\, Vaananen continues to perform classes and presentations for children\, weaving his original music into inspiring lessons on Nature\, history\, culture\, and adventure. \n  \n\n  \n  \n \nAbout Our Artistic Director: Jeremy Kruse\, Artistic Director of Gorton Drama Studio is the author of “The Young Actor’s Handbook” (Applause Acting Series\, 2017).The book was published in Korean and Chinese in 2022. Jeremy is a professional actor\, published playwright\, award-winning screenwriter\, and award-winning filmmaker. Some of the classes he taught at The Lee Strasberg Theatre and Film Institute in New York include Method Acting\, Comedic Improvisation\, Sketch Comedy Writing\, and Acting for Film and TV. He graduated from The Strasberg Institute at New York University’s Tisch School of the Arts where he majored in drama. Jeremy also teaches privately\, one on one  www.jeremykruse.com and www.jeremykruseactingtraining.com 
URL:https://gortoncenter.org/event/mr-vs-fall-saturday-production/
LOCATION:Gorton Center\, 400 East Illinois Road\, Lake Forest\, IL\, 60045
CATEGORIES:Age,Classes,Events,Gorton Drama Studio,Performing Arts,Youth
ATTACH;FMTTYPE=image/jpeg:https://gortoncenter.org/wp-content/uploads/2025/07/Mr-V-ad-for-parade-e1753564334858.jpg
GEO:42.2506703;-87.8374004
X-APPLE-STRUCTURED-LOCATION;VALUE=URI;X-ADDRESS=Gorton Center 400 East Illinois Road Lake Forest IL 60045;X-APPLE-RADIUS=500;X-TITLE=400 East Illinois Road:geo:-87.8374004,42.2506703
END:VEVENT
END:VCALENDAR