BEGIN:VCALENDAR
VERSION:2.0
PRODID:-//Gorton Center - ECPv6.15.17//NONSGML v1.0//EN
CALSCALE:GREGORIAN
METHOD:PUBLISH
X-WR-CALNAME:Gorton Center
X-ORIGINAL-URL:https://gortoncenter.org
X-WR-CALDESC:Events for Gorton Center
REFRESH-INTERVAL;VALUE=DURATION:PT1H
X-Robots-Tag:noindex
X-PUBLISHED-TTL:PT1H
BEGIN:VTIMEZONE
TZID:America/Chicago
BEGIN:DAYLIGHT
TZOFFSETFROM:-0600
TZOFFSETTO:-0500
TZNAME:CDT
DTSTART:20250309T080000
END:DAYLIGHT
BEGIN:STANDARD
TZOFFSETFROM:-0500
TZOFFSETTO:-0600
TZNAME:CST
DTSTART:20251102T070000
END:STANDARD
BEGIN:DAYLIGHT
TZOFFSETFROM:-0600
TZOFFSETTO:-0500
TZNAME:CDT
DTSTART:20260308T080000
END:DAYLIGHT
BEGIN:STANDARD
TZOFFSETFROM:-0500
TZOFFSETTO:-0600
TZNAME:CST
DTSTART:20261101T070000
END:STANDARD
BEGIN:DAYLIGHT
TZOFFSETFROM:-0600
TZOFFSETTO:-0500
TZNAME:CDT
DTSTART:20270314T080000
END:DAYLIGHT
BEGIN:STANDARD
TZOFFSETFROM:-0500
TZOFFSETTO:-0600
TZNAME:CST
DTSTART:20271107T070000
END:STANDARD
END:VTIMEZONE
BEGIN:VEVENT
DTSTART;TZID=America/Chicago:20260807T180000
DTEND;TZID=America/Chicago:20260807T200000
DTSTAMP:20260423T054458
CREATED:20260320T160617Z
LAST-MODIFIED:20260330T193508Z
UID:20007118-1786125600-1786132800@gortoncenter.org
SUMMARY:Cookie Decorating: Ladies Night
DESCRIPTION:Gather your favorite gals and get ready for a cozy\, creative night filled with cookies\, conversation\, and plenty of frosting fun! This hands-on cookie decorating class is the perfect way to unwind\, connect\, and try something new together. Whether you’re planning a girls’ night out\, celebrating a special occasion\, or just looking for a fun excuse to get together\, this experience is all about creativity and connection. \nYou’ll learn the basics of cookie decorating\, including piping techniques\, icing consistency\, and simple design tips\, all while working on a beautifully themed set of sugar cookies. Step-by-step guidance makes it easy and approachable\, even if you’ve never decorated cookies before. Along the way\, you’ll pick up tricks you can use at home and plenty of inspiration to make your cookies look as good as they taste. \nSip your favorite drinks and snack as you decorate\, and enjoy a relaxed\, laughter-filled atmosphere. By the end of the night\, you’ll head home with a box of stunning\, hand-decorated cookies—and even sweeter memories made with friends. No experience necessary—just show up ready to have fun and get a little frosted! \n*THIS CLASS IS BYOB! \nElizabeth Lindberg— Lindy City Bakes Beth Lindberg is the owner and creative heart behind Lindy City Bakes\, a whimsical\, sugar-inspired business that brings joy and artistry to the community through in-home cookie decorating parties and custom cookie bouquets. With a passion for creativity and connection\, Beth transforms cookies into edible works of art\, guiding people of all ages to decorate\, laugh\, and make memories together.
URL:https://gortoncenter.org/event/cookie-decorating-ladies-night-3/
LOCATION:Gorton Center\, 400 East Illinois Road\, Lake Forest\, IL\, 60045
CATEGORIES:Adults,Art,Classes,Cooking
ATTACH;FMTTYPE=image/png:https://gortoncenter.org/wp-content/uploads/2026/01/adult-cookies.png
GEO:42.2506703;-87.8374004
X-APPLE-STRUCTURED-LOCATION;VALUE=URI;X-ADDRESS=Gorton Center 400 East Illinois Road Lake Forest IL 60045;X-APPLE-RADIUS=500;X-TITLE=400 East Illinois Road:geo:-87.8374004,42.2506703
END:VEVENT
BEGIN:VEVENT
DTSTART;TZID=America/Chicago:20260807T190000
DTEND;TZID=America/Chicago:20260807T210000
DTSTAMP:20260423T054458
CREATED:20260331T193947Z
LAST-MODIFIED:20260331T193947Z
UID:20007145-1786129200-1786136400@gortoncenter.org
SUMMARY:Palette & Pours: Lighthouses
DESCRIPTION:Palette & Pours: Lighthouses – A Wine & Paint Night for Adults\nSettle in for Palette & Pours – a relaxed\, adults-only painting class where creativity and connection come easy. In this coastal-inspired session\, we’ll paint a lighthouse scene\, capturing the glow\, color and calm of the shoreline. \nThis isn’t your typical art class. It’s a chance to unwind\, sip\, and enjoy a creative night out. As you paint\, you’ll ease into the rhythm of the brush\, letting go of the day and enjoying the process as much as the finished piece. \nWhether you’re new to painting or have some experience\, you’ll feel right at home. Local artists Sandie Bacon and Lezlie Lenz guide you step by step\, offering tips and encouragement while leaving room for your personal style. \nBy the end of the evening\, you’ll head home with your own lighthouse painting – a peaceful reminder of a night well spent. \n \n  \nOf course\, no Palette & Pours night would be complete without a glass in hand. All painting materials are included\, along with complimentary wine to enjoy while you work. Prefer something else? Bring your favorite beverage and sip as you create. \nSo grab a friend\, bring a date\, or come solo and make new connections. Either way\, you’ll leave with more than just a painting – you’ll walk away with memories\, laughter\, and maybe even a brand-new hobby. \n*All wine will be included. Guests are also welcome to bring their own if they would like!
URL:https://gortoncenter.org/event/palette-pours-lighthouses/
LOCATION:Gorton Center\, 400 East Illinois Road\, Lake Forest\, IL\, 60045
CATEGORIES:Adults,Age,Art,Classes
ATTACH;FMTTYPE=image/png:https://gortoncenter.org/wp-content/uploads/2026/03/Palette-and-Pours.png
GEO:42.2506703;-87.8374004
X-APPLE-STRUCTURED-LOCATION;VALUE=URI;X-ADDRESS=Gorton Center 400 East Illinois Road Lake Forest IL 60045;X-APPLE-RADIUS=500;X-TITLE=400 East Illinois Road:geo:-87.8374004,42.2506703
END:VEVENT
END:VCALENDAR